BEGIN:VCALENDAR
VERSION:2.0
PRODID:-//Harvey Rural Community - ECPv6.6.1//NONSGML v1.0//EN
CALSCALE:GREGORIAN
METHOD:PUBLISH
X-WR-CALNAME:Harvey Rural Community
X-ORIGINAL-URL:https://harveyruralcommunity.ca
X-WR-CALDESC:Events for Harvey Rural Community
BEGIN:VTIMEZONE
TZID:America/Halifax
BEGIN:DAYLIGHT
TZOFFSETFROM:-0400
TZOFFSETTO:-0300
TZNAME:ADT
DTSTART:20260308T060000
END:DAYLIGHT
BEGIN:STANDARD
TZOFFSETFROM:-0300
TZOFFSETTO:-0400
TZNAME:AST
DTSTART:20261101T050000
END:STANDARD
END:VTIMEZONE
BEGIN:VEVENT
DTSTART;TZID=America/Halifax:20260524T173000
DTEND;TZID=America/Halifax:20260524T190000
DTSTAMP:20260422T161835
CREATED:20260305T125424Z
LAST-MODIFIED:20260305T125424Z
UID:10008075-1779643800-1779649200@harveyruralcommunity.ca
SUMMARY:Gardening Seminar
DESCRIPTION:🌱 Gardening Seminar Series at HMCC 🌱 \nReady to grow this season? Join us for a 3-part gardening series led by local instructors – covering everything from design and soil health to seed starting\, pruning\, pest control\, and harvesting. Each session includes time for Q&A! \n🗓 March 29 – Design & Foundations\n🗓 April 26 – Planting & Growing (includes a take-home of seeds/veggies to get your garden started!)\n🗓 May 24 – Maintaining & Harvesting\n🕠 5:30–7:00 PM\n📍 HMCC Gym\n💲 $30 per person\n👥 Min 10 | Max 25 participants \n  \n👩‍🌾 Your Instructors \nAmber – Lifelong gardener who grew up organic\, stepped away\, and came full circle through parenthood.  Experience in larger-scale gardening and homesteading for the past 6 years. \nEric – A seasoned homesteader with 13 years of experience\, bringing practical\, real-world growing knowledge. \nTogether\, they believe gardening is more than a hobby — it’s a way of life. It’s one of the best forms of physical activity and a calming\, grounding practice for mind and body.
URL:https://harveyruralcommunity.ca/event/gardening-seminar-3/
END:VEVENT
END:VCALENDAR