BEGIN:VCALENDAR
VERSION:2.0
PRODID:-//Harvey Rural Community - ECPv6.6.1//NONSGML v1.0//EN
CALSCALE:GREGORIAN
METHOD:PUBLISH
X-WR-CALNAME:Harvey Rural Community
X-ORIGINAL-URL:https://harveyruralcommunity.ca
X-WR-CALDESC:Events for Harvey Rural Community
BEGIN:VTIMEZONE
TZID:America/Halifax
BEGIN:DAYLIGHT
TZOFFSETFROM:-0400
TZOFFSETTO:-0300
TZNAME:ADT
DTSTART:20260308T060000
END:DAYLIGHT
BEGIN:STANDARD
TZOFFSETFROM:-0300
TZOFFSETTO:-0400
TZNAME:AST
DTSTART:20261101T050000
END:STANDARD
END:VTIMEZONE
BEGIN:VEVENT
DTSTART;TZID=America/Halifax:20260422T190000
DTEND;TZID=America/Halifax:20260422T200000
DTSTAMP:20260421T212957
CREATED:20240812T174216Z
LAST-MODIFIED:20240814T132356Z
UID:10006043-1776884400-1776888000@harveyruralcommunity.ca
SUMMARY:Harvey HIIT Class
DESCRIPTION:Join us for an invigorating high-intensity interval training (HIIT) class from 7-8PM at the HMCC.
URL:https://harveyruralcommunity.ca/event/harvey-hiit-class-2/2026-04-22/
LOCATION:Harvey Memorial Community Centre\, 58 Hanselpacker St\, Harvey Station\, NB E6K 1A3\, Canada
END:VEVENT
BEGIN:VEVENT
DTSTART;TZID=America/Halifax:20260427T190000
DTEND;TZID=America/Halifax:20260427T200000
DTSTAMP:20260421T212957
CREATED:20240812T174216Z
LAST-MODIFIED:20240814T132356Z
UID:10006044-1777316400-1777320000@harveyruralcommunity.ca
SUMMARY:Harvey HIIT Class
DESCRIPTION:Join us for an invigorating high-intensity interval training (HIIT) class from 7-8PM at the HMCC.
URL:https://harveyruralcommunity.ca/event/harvey-hiit-class-2/2026-04-27/
LOCATION:Harvey Memorial Community Centre\, 58 Hanselpacker St\, Harvey Station\, NB E6K 1A3\, Canada
END:VEVENT
BEGIN:VEVENT
DTSTART;TZID=America/Halifax:20260429T190000
DTEND;TZID=America/Halifax:20260429T200000
DTSTAMP:20260421T212957
CREATED:20240812T174216Z
LAST-MODIFIED:20240814T132356Z
UID:10006045-1777489200-1777492800@harveyruralcommunity.ca
SUMMARY:Harvey HIIT Class
DESCRIPTION:Join us for an invigorating high-intensity interval training (HIIT) class from 7-8PM at the HMCC.
URL:https://harveyruralcommunity.ca/event/harvey-hiit-class-2/2026-04-29/
LOCATION:Harvey Memorial Community Centre\, 58 Hanselpacker St\, Harvey Station\, NB E6K 1A3\, Canada
END:VEVENT
BEGIN:VEVENT
DTSTART;TZID=America/Halifax:20260504T190000
DTEND;TZID=America/Halifax:20260504T200000
DTSTAMP:20260421T212957
CREATED:20240812T174216Z
LAST-MODIFIED:20240814T132356Z
UID:10006046-1777921200-1777924800@harveyruralcommunity.ca
SUMMARY:Harvey HIIT Class
DESCRIPTION:Join us for an invigorating high-intensity interval training (HIIT) class from 7-8PM at the HMCC.
URL:https://harveyruralcommunity.ca/event/harvey-hiit-class-2/2026-05-04/
LOCATION:Harvey Memorial Community Centre\, 58 Hanselpacker St\, Harvey Station\, NB E6K 1A3\, Canada
END:VEVENT
BEGIN:VEVENT
DTSTART;TZID=America/Halifax:20260506T190000
DTEND;TZID=America/Halifax:20260506T200000
DTSTAMP:20260421T212957
CREATED:20240812T174216Z
LAST-MODIFIED:20240814T132356Z
UID:10006047-1778094000-1778097600@harveyruralcommunity.ca
SUMMARY:Harvey HIIT Class
DESCRIPTION:Join us for an invigorating high-intensity interval training (HIIT) class from 7-8PM at the HMCC.
URL:https://harveyruralcommunity.ca/event/harvey-hiit-class-2/2026-05-06/
LOCATION:Harvey Memorial Community Centre\, 58 Hanselpacker St\, Harvey Station\, NB E6K 1A3\, Canada
END:VEVENT
BEGIN:VEVENT
DTSTART;TZID=America/Halifax:20260511T190000
DTEND;TZID=America/Halifax:20260511T200000
DTSTAMP:20260421T212957
CREATED:20240812T174216Z
LAST-MODIFIED:20240814T132356Z
UID:10006048-1778526000-1778529600@harveyruralcommunity.ca
SUMMARY:Harvey HIIT Class
DESCRIPTION:Join us for an invigorating high-intensity interval training (HIIT) class from 7-8PM at the HMCC.
URL:https://harveyruralcommunity.ca/event/harvey-hiit-class-2/2026-05-11/
LOCATION:Harvey Memorial Community Centre\, 58 Hanselpacker St\, Harvey Station\, NB E6K 1A3\, Canada
END:VEVENT
BEGIN:VEVENT
DTSTART;TZID=America/Halifax:20260513T190000
DTEND;TZID=America/Halifax:20260513T200000
DTSTAMP:20260421T212957
CREATED:20240812T174216Z
LAST-MODIFIED:20240814T132356Z
UID:10006049-1778698800-1778702400@harveyruralcommunity.ca
SUMMARY:Harvey HIIT Class
DESCRIPTION:Join us for an invigorating high-intensity interval training (HIIT) class from 7-8PM at the HMCC.
URL:https://harveyruralcommunity.ca/event/harvey-hiit-class-2/2026-05-13/
LOCATION:Harvey Memorial Community Centre\, 58 Hanselpacker St\, Harvey Station\, NB E6K 1A3\, Canada
END:VEVENT
BEGIN:VEVENT
DTSTART;TZID=America/Halifax:20260518T190000
DTEND;TZID=America/Halifax:20260518T200000
DTSTAMP:20260421T212958
CREATED:20240812T174216Z
LAST-MODIFIED:20240814T132356Z
UID:10006050-1779130800-1779134400@harveyruralcommunity.ca
SUMMARY:Harvey HIIT Class
DESCRIPTION:Join us for an invigorating high-intensity interval training (HIIT) class from 7-8PM at the HMCC.
URL:https://harveyruralcommunity.ca/event/harvey-hiit-class-2/2026-05-18/
LOCATION:Harvey Memorial Community Centre\, 58 Hanselpacker St\, Harvey Station\, NB E6K 1A3\, Canada
END:VEVENT
BEGIN:VEVENT
DTSTART;TZID=America/Halifax:20260520T190000
DTEND;TZID=America/Halifax:20260520T200000
DTSTAMP:20260421T212958
CREATED:20240812T174216Z
LAST-MODIFIED:20240814T132356Z
UID:10006051-1779303600-1779307200@harveyruralcommunity.ca
SUMMARY:Harvey HIIT Class
DESCRIPTION:Join us for an invigorating high-intensity interval training (HIIT) class from 7-8PM at the HMCC.
URL:https://harveyruralcommunity.ca/event/harvey-hiit-class-2/2026-05-20/
LOCATION:Harvey Memorial Community Centre\, 58 Hanselpacker St\, Harvey Station\, NB E6K 1A3\, Canada
END:VEVENT
BEGIN:VEVENT
DTSTART;TZID=America/Halifax:20260525T190000
DTEND;TZID=America/Halifax:20260525T200000
DTSTAMP:20260421T212958
CREATED:20240812T174216Z
LAST-MODIFIED:20240814T132356Z
UID:10006052-1779735600-1779739200@harveyruralcommunity.ca
SUMMARY:Harvey HIIT Class
DESCRIPTION:Join us for an invigorating high-intensity interval training (HIIT) class from 7-8PM at the HMCC.
URL:https://harveyruralcommunity.ca/event/harvey-hiit-class-2/2026-05-25/
LOCATION:Harvey Memorial Community Centre\, 58 Hanselpacker St\, Harvey Station\, NB E6K 1A3\, Canada
END:VEVENT
BEGIN:VEVENT
DTSTART;TZID=America/Halifax:20260527T190000
DTEND;TZID=America/Halifax:20260527T200000
DTSTAMP:20260421T212958
CREATED:20240812T174216Z
LAST-MODIFIED:20240814T132356Z
UID:10006053-1779908400-1779912000@harveyruralcommunity.ca
SUMMARY:Harvey HIIT Class
DESCRIPTION:Join us for an invigorating high-intensity interval training (HIIT) class from 7-8PM at the HMCC.
URL:https://harveyruralcommunity.ca/event/harvey-hiit-class-2/2026-05-27/
LOCATION:Harvey Memorial Community Centre\, 58 Hanselpacker St\, Harvey Station\, NB E6K 1A3\, Canada
END:VEVENT
BEGIN:VEVENT
DTSTART;TZID=America/Halifax:20260601T190000
DTEND;TZID=America/Halifax:20260601T200000
DTSTAMP:20260421T212958
CREATED:20240812T174216Z
LAST-MODIFIED:20240814T132356Z
UID:10006054-1780340400-1780344000@harveyruralcommunity.ca
SUMMARY:Harvey HIIT Class
DESCRIPTION:Join us for an invigorating high-intensity interval training (HIIT) class from 7-8PM at the HMCC.
URL:https://harveyruralcommunity.ca/event/harvey-hiit-class-2/2026-06-01/
LOCATION:Harvey Memorial Community Centre\, 58 Hanselpacker St\, Harvey Station\, NB E6K 1A3\, Canada
END:VEVENT
BEGIN:VEVENT
DTSTART;TZID=America/Halifax:20260603T190000
DTEND;TZID=America/Halifax:20260603T200000
DTSTAMP:20260421T212958
CREATED:20240812T174216Z
LAST-MODIFIED:20240814T132356Z
UID:10006055-1780513200-1780516800@harveyruralcommunity.ca
SUMMARY:Harvey HIIT Class
DESCRIPTION:Join us for an invigorating high-intensity interval training (HIIT) class from 7-8PM at the HMCC.
URL:https://harveyruralcommunity.ca/event/harvey-hiit-class-2/2026-06-03/
LOCATION:Harvey Memorial Community Centre\, 58 Hanselpacker St\, Harvey Station\, NB E6K 1A3\, Canada
END:VEVENT
BEGIN:VEVENT
DTSTART;TZID=America/Halifax:20260608T190000
DTEND;TZID=America/Halifax:20260608T200000
DTSTAMP:20260421T212958
CREATED:20240812T174216Z
LAST-MODIFIED:20240814T132356Z
UID:10006056-1780945200-1780948800@harveyruralcommunity.ca
SUMMARY:Harvey HIIT Class
DESCRIPTION:Join us for an invigorating high-intensity interval training (HIIT) class from 7-8PM at the HMCC.
URL:https://harveyruralcommunity.ca/event/harvey-hiit-class-2/2026-06-08/
LOCATION:Harvey Memorial Community Centre\, 58 Hanselpacker St\, Harvey Station\, NB E6K 1A3\, Canada
END:VEVENT
BEGIN:VEVENT
DTSTART;TZID=America/Halifax:20260610T190000
DTEND;TZID=America/Halifax:20260610T200000
DTSTAMP:20260421T212958
CREATED:20240812T174216Z
LAST-MODIFIED:20240814T132356Z
UID:10006057-1781118000-1781121600@harveyruralcommunity.ca
SUMMARY:Harvey HIIT Class
DESCRIPTION:Join us for an invigorating high-intensity interval training (HIIT) class from 7-8PM at the HMCC.
URL:https://harveyruralcommunity.ca/event/harvey-hiit-class-2/2026-06-10/
LOCATION:Harvey Memorial Community Centre\, 58 Hanselpacker St\, Harvey Station\, NB E6K 1A3\, Canada
END:VEVENT
BEGIN:VEVENT
DTSTART;TZID=America/Halifax:20260615T190000
DTEND;TZID=America/Halifax:20260615T200000
DTSTAMP:20260421T212958
CREATED:20240812T174216Z
LAST-MODIFIED:20240814T132356Z
UID:10006058-1781550000-1781553600@harveyruralcommunity.ca
SUMMARY:Harvey HIIT Class
DESCRIPTION:Join us for an invigorating high-intensity interval training (HIIT) class from 7-8PM at the HMCC.
URL:https://harveyruralcommunity.ca/event/harvey-hiit-class-2/2026-06-15/
LOCATION:Harvey Memorial Community Centre\, 58 Hanselpacker St\, Harvey Station\, NB E6K 1A3\, Canada
END:VEVENT
BEGIN:VEVENT
DTSTART;TZID=America/Halifax:20260617T190000
DTEND;TZID=America/Halifax:20260617T200000
DTSTAMP:20260421T212958
CREATED:20240812T174216Z
LAST-MODIFIED:20240814T132356Z
UID:10006059-1781722800-1781726400@harveyruralcommunity.ca
SUMMARY:Harvey HIIT Class
DESCRIPTION:Join us for an invigorating high-intensity interval training (HIIT) class from 7-8PM at the HMCC.
URL:https://harveyruralcommunity.ca/event/harvey-hiit-class-2/2026-06-17/
LOCATION:Harvey Memorial Community Centre\, 58 Hanselpacker St\, Harvey Station\, NB E6K 1A3\, Canada
END:VEVENT
BEGIN:VEVENT
DTSTART;TZID=America/Halifax:20260622T190000
DTEND;TZID=America/Halifax:20260622T200000
DTSTAMP:20260421T212958
CREATED:20240812T174216Z
LAST-MODIFIED:20240814T132356Z
UID:10006060-1782154800-1782158400@harveyruralcommunity.ca
SUMMARY:Harvey HIIT Class
DESCRIPTION:Join us for an invigorating high-intensity interval training (HIIT) class from 7-8PM at the HMCC.
URL:https://harveyruralcommunity.ca/event/harvey-hiit-class-2/2026-06-22/
LOCATION:Harvey Memorial Community Centre\, 58 Hanselpacker St\, Harvey Station\, NB E6K 1A3\, Canada
END:VEVENT
BEGIN:VEVENT
DTSTART;TZID=America/Halifax:20260624T190000
DTEND;TZID=America/Halifax:20260624T200000
DTSTAMP:20260421T212958
CREATED:20240812T174216Z
LAST-MODIFIED:20240814T132356Z
UID:10006061-1782327600-1782331200@harveyruralcommunity.ca
SUMMARY:Harvey HIIT Class
DESCRIPTION:Join us for an invigorating high-intensity interval training (HIIT) class from 7-8PM at the HMCC.
URL:https://harveyruralcommunity.ca/event/harvey-hiit-class-2/2026-06-24/
LOCATION:Harvey Memorial Community Centre\, 58 Hanselpacker St\, Harvey Station\, NB E6K 1A3\, Canada
END:VEVENT
BEGIN:VEVENT
DTSTART;TZID=America/Halifax:20260629T190000
DTEND;TZID=America/Halifax:20260629T200000
DTSTAMP:20260421T212958
CREATED:20240812T174216Z
LAST-MODIFIED:20240814T132356Z
UID:10006062-1782759600-1782763200@harveyruralcommunity.ca
SUMMARY:Harvey HIIT Class
DESCRIPTION:Join us for an invigorating high-intensity interval training (HIIT) class from 7-8PM at the HMCC.
URL:https://harveyruralcommunity.ca/event/harvey-hiit-class-2/2026-06-29/
LOCATION:Harvey Memorial Community Centre\, 58 Hanselpacker St\, Harvey Station\, NB E6K 1A3\, Canada
END:VEVENT
BEGIN:VEVENT
DTSTART;TZID=America/Halifax:20260701T190000
DTEND;TZID=America/Halifax:20260701T200000
DTSTAMP:20260421T212958
CREATED:20240812T174216Z
LAST-MODIFIED:20240814T132356Z
UID:10006063-1782932400-1782936000@harveyruralcommunity.ca
SUMMARY:Harvey HIIT Class
DESCRIPTION:Join us for an invigorating high-intensity interval training (HIIT) class from 7-8PM at the HMCC.
URL:https://harveyruralcommunity.ca/event/harvey-hiit-class-2/2026-07-01/
LOCATION:Harvey Memorial Community Centre\, 58 Hanselpacker St\, Harvey Station\, NB E6K 1A3\, Canada
END:VEVENT
BEGIN:VEVENT
DTSTART;TZID=America/Halifax:20260706T190000
DTEND;TZID=America/Halifax:20260706T200000
DTSTAMP:20260421T212958
CREATED:20240812T174216Z
LAST-MODIFIED:20240814T132356Z
UID:10006064-1783364400-1783368000@harveyruralcommunity.ca
SUMMARY:Harvey HIIT Class
DESCRIPTION:Join us for an invigorating high-intensity interval training (HIIT) class from 7-8PM at the HMCC.
URL:https://harveyruralcommunity.ca/event/harvey-hiit-class-2/2026-07-06/
LOCATION:Harvey Memorial Community Centre\, 58 Hanselpacker St\, Harvey Station\, NB E6K 1A3\, Canada
END:VEVENT
BEGIN:VEVENT
DTSTART;TZID=America/Halifax:20260708T190000
DTEND;TZID=America/Halifax:20260708T200000
DTSTAMP:20260421T212958
CREATED:20240812T174216Z
LAST-MODIFIED:20240814T132356Z
UID:10006065-1783537200-1783540800@harveyruralcommunity.ca
SUMMARY:Harvey HIIT Class
DESCRIPTION:Join us for an invigorating high-intensity interval training (HIIT) class from 7-8PM at the HMCC.
URL:https://harveyruralcommunity.ca/event/harvey-hiit-class-2/2026-07-08/
LOCATION:Harvey Memorial Community Centre\, 58 Hanselpacker St\, Harvey Station\, NB E6K 1A3\, Canada
END:VEVENT
BEGIN:VEVENT
DTSTART;TZID=America/Halifax:20260713T190000
DTEND;TZID=America/Halifax:20260713T200000
DTSTAMP:20260421T212958
CREATED:20240812T174216Z
LAST-MODIFIED:20240814T132356Z
UID:10006066-1783969200-1783972800@harveyruralcommunity.ca
SUMMARY:Harvey HIIT Class
DESCRIPTION:Join us for an invigorating high-intensity interval training (HIIT) class from 7-8PM at the HMCC.
URL:https://harveyruralcommunity.ca/event/harvey-hiit-class-2/2026-07-13/
LOCATION:Harvey Memorial Community Centre\, 58 Hanselpacker St\, Harvey Station\, NB E6K 1A3\, Canada
END:VEVENT
BEGIN:VEVENT
DTSTART;TZID=America/Halifax:20260715T190000
DTEND;TZID=America/Halifax:20260715T200000
DTSTAMP:20260421T212958
CREATED:20240812T174216Z
LAST-MODIFIED:20240814T132356Z
UID:10006067-1784142000-1784145600@harveyruralcommunity.ca
SUMMARY:Harvey HIIT Class
DESCRIPTION:Join us for an invigorating high-intensity interval training (HIIT) class from 7-8PM at the HMCC.
URL:https://harveyruralcommunity.ca/event/harvey-hiit-class-2/2026-07-15/
LOCATION:Harvey Memorial Community Centre\, 58 Hanselpacker St\, Harvey Station\, NB E6K 1A3\, Canada
END:VEVENT
BEGIN:VEVENT
DTSTART;TZID=America/Halifax:20260720T190000
DTEND;TZID=America/Halifax:20260720T200000
DTSTAMP:20260421T212958
CREATED:20240812T174216Z
LAST-MODIFIED:20240814T132356Z
UID:10006068-1784574000-1784577600@harveyruralcommunity.ca
SUMMARY:Harvey HIIT Class
DESCRIPTION:Join us for an invigorating high-intensity interval training (HIIT) class from 7-8PM at the HMCC.
URL:https://harveyruralcommunity.ca/event/harvey-hiit-class-2/2026-07-20/
LOCATION:Harvey Memorial Community Centre\, 58 Hanselpacker St\, Harvey Station\, NB E6K 1A3\, Canada
END:VEVENT
BEGIN:VEVENT
DTSTART;TZID=America/Halifax:20260722T190000
DTEND;TZID=America/Halifax:20260722T200000
DTSTAMP:20260421T212958
CREATED:20240812T174216Z
LAST-MODIFIED:20240814T132356Z
UID:10006069-1784746800-1784750400@harveyruralcommunity.ca
SUMMARY:Harvey HIIT Class
DESCRIPTION:Join us for an invigorating high-intensity interval training (HIIT) class from 7-8PM at the HMCC.
URL:https://harveyruralcommunity.ca/event/harvey-hiit-class-2/2026-07-22/
LOCATION:Harvey Memorial Community Centre\, 58 Hanselpacker St\, Harvey Station\, NB E6K 1A3\, Canada
END:VEVENT
BEGIN:VEVENT
DTSTART;TZID=America/Halifax:20260727T190000
DTEND;TZID=America/Halifax:20260727T200000
DTSTAMP:20260421T212958
CREATED:20240812T174216Z
LAST-MODIFIED:20240814T132356Z
UID:10006070-1785178800-1785182400@harveyruralcommunity.ca
SUMMARY:Harvey HIIT Class
DESCRIPTION:Join us for an invigorating high-intensity interval training (HIIT) class from 7-8PM at the HMCC.
URL:https://harveyruralcommunity.ca/event/harvey-hiit-class-2/2026-07-27/
LOCATION:Harvey Memorial Community Centre\, 58 Hanselpacker St\, Harvey Station\, NB E6K 1A3\, Canada
END:VEVENT
BEGIN:VEVENT
DTSTART;TZID=America/Halifax:20260729T190000
DTEND;TZID=America/Halifax:20260729T200000
DTSTAMP:20260421T212958
CREATED:20240812T174216Z
LAST-MODIFIED:20240814T132356Z
UID:10006071-1785351600-1785355200@harveyruralcommunity.ca
SUMMARY:Harvey HIIT Class
DESCRIPTION:Join us for an invigorating high-intensity interval training (HIIT) class from 7-8PM at the HMCC.
URL:https://harveyruralcommunity.ca/event/harvey-hiit-class-2/2026-07-29/
LOCATION:Harvey Memorial Community Centre\, 58 Hanselpacker St\, Harvey Station\, NB E6K 1A3\, Canada
END:VEVENT
BEGIN:VEVENT
DTSTART;TZID=America/Halifax:20260803T190000
DTEND;TZID=America/Halifax:20260803T200000
DTSTAMP:20260421T212958
CREATED:20240812T174216Z
LAST-MODIFIED:20240814T132356Z
UID:10006072-1785783600-1785787200@harveyruralcommunity.ca
SUMMARY:Harvey HIIT Class
DESCRIPTION:Join us for an invigorating high-intensity interval training (HIIT) class from 7-8PM at the HMCC.
URL:https://harveyruralcommunity.ca/event/harvey-hiit-class-2/2026-08-03/
LOCATION:Harvey Memorial Community Centre\, 58 Hanselpacker St\, Harvey Station\, NB E6K 1A3\, Canada
END:VEVENT
END:VCALENDAR