BEGIN:VCALENDAR
VERSION:2.0
PRODID:-//Harvey Rural Community - ECPv6.6.1//NONSGML v1.0//EN
CALSCALE:GREGORIAN
METHOD:PUBLISH
X-WR-CALNAME:Harvey Rural Community
X-ORIGINAL-URL:https://harveyruralcommunity.ca
X-WR-CALDESC:Events for Harvey Rural Community
BEGIN:VTIMEZONE
TZID:America/Halifax
BEGIN:DAYLIGHT
TZOFFSETFROM:-0400
TZOFFSETTO:-0300
TZNAME:ADT
DTSTART:20280312T060000
END:DAYLIGHT
BEGIN:STANDARD
TZOFFSETFROM:-0300
TZOFFSETTO:-0400
TZNAME:AST
DTSTART:20281105T050000
END:STANDARD
END:VTIMEZONE
BEGIN:VEVENT
DTSTART;TZID=America/Halifax:20280518T130000
DTEND;TZID=America/Halifax:20280518T130000
DTSTAMP:20260419T204454
CREATED:20230614T163857Z
LAST-MODIFIED:20230614T171232Z
UID:10002970-1842267600-1842267600@harveyruralcommunity.ca
SUMMARY:Cards at Prince William Hall
DESCRIPTION:Pop in to Prince William Hall at 1 pm on Thursdays for a game of 45s!
URL:https://harveyruralcommunity.ca/event/cards-at-prince-william-hall/2028-05-18/
LOCATION:Prince William Hall\, 6662 Route 102\, Prince William
CATEGORIES:Games
ATTACH;FMTTYPE=image/jpeg:https://harveyruralcommunity.ca/wp-content/uploads/2023/06/deck-of-cards.jpeg
END:VEVENT
BEGIN:VEVENT
DTSTART;TZID=America/Halifax:20280525T130000
DTEND;TZID=America/Halifax:20280525T130000
DTSTAMP:20260419T204454
CREATED:20230614T163857Z
LAST-MODIFIED:20230614T171232Z
UID:10002971-1842872400-1842872400@harveyruralcommunity.ca
SUMMARY:Cards at Prince William Hall
DESCRIPTION:Pop in to Prince William Hall at 1 pm on Thursdays for a game of 45s!
URL:https://harveyruralcommunity.ca/event/cards-at-prince-william-hall/2028-05-25/
LOCATION:Prince William Hall\, 6662 Route 102\, Prince William
CATEGORIES:Games
ATTACH;FMTTYPE=image/jpeg:https://harveyruralcommunity.ca/wp-content/uploads/2023/06/deck-of-cards.jpeg
END:VEVENT
BEGIN:VEVENT
DTSTART;TZID=America/Halifax:20280601T130000
DTEND;TZID=America/Halifax:20280601T130000
DTSTAMP:20260419T204454
CREATED:20230614T163857Z
LAST-MODIFIED:20230614T171232Z
UID:10002972-1843477200-1843477200@harveyruralcommunity.ca
SUMMARY:Cards at Prince William Hall
DESCRIPTION:Pop in to Prince William Hall at 1 pm on Thursdays for a game of 45s!
URL:https://harveyruralcommunity.ca/event/cards-at-prince-william-hall/2028-06-01/
LOCATION:Prince William Hall\, 6662 Route 102\, Prince William
CATEGORIES:Games
ATTACH;FMTTYPE=image/jpeg:https://harveyruralcommunity.ca/wp-content/uploads/2023/06/deck-of-cards.jpeg
END:VEVENT
BEGIN:VEVENT
DTSTART;TZID=America/Halifax:20280608T130000
DTEND;TZID=America/Halifax:20280608T130000
DTSTAMP:20260419T204454
CREATED:20230614T163857Z
LAST-MODIFIED:20230614T171232Z
UID:10002973-1844082000-1844082000@harveyruralcommunity.ca
SUMMARY:Cards at Prince William Hall
DESCRIPTION:Pop in to Prince William Hall at 1 pm on Thursdays for a game of 45s!
URL:https://harveyruralcommunity.ca/event/cards-at-prince-william-hall/2028-06-08/
LOCATION:Prince William Hall\, 6662 Route 102\, Prince William
CATEGORIES:Games
ATTACH;FMTTYPE=image/jpeg:https://harveyruralcommunity.ca/wp-content/uploads/2023/06/deck-of-cards.jpeg
END:VEVENT
END:VCALENDAR