BEGIN:VCALENDAR
VERSION:2.0
PRODID:-//Harvey Rural Community - ECPv6.6.1//NONSGML v1.0//EN
CALSCALE:GREGORIAN
METHOD:PUBLISH
X-WR-CALNAME:Harvey Rural Community
X-ORIGINAL-URL:https://harveyruralcommunity.ca
X-WR-CALDESC:Events for Harvey Rural Community
BEGIN:VTIMEZONE
TZID:America/Halifax
BEGIN:DAYLIGHT
TZOFFSETFROM:-0400
TZOFFSETTO:-0300
TZNAME:ADT
DTSTART:20270314T060000
END:DAYLIGHT
BEGIN:STANDARD
TZOFFSETFROM:-0300
TZOFFSETTO:-0400
TZNAME:AST
DTSTART:20271107T050000
END:STANDARD
END:VTIMEZONE
BEGIN:VEVENT
DTSTART;TZID=America/Halifax:20270728T190000
DTEND;TZID=America/Halifax:20270728T200000
DTSTAMP:20260422T144235
CREATED:20240812T174216Z
LAST-MODIFIED:20240814T132356Z
UID:10006175-1816801200-1816804800@harveyruralcommunity.ca
SUMMARY:Harvey HIIT Class
DESCRIPTION:Join us for an invigorating high-intensity interval training (HIIT) class from 7-8PM at the HMCC.
URL:https://harveyruralcommunity.ca/event/harvey-hiit-class-2/2027-07-28/
LOCATION:Harvey Memorial Community Centre\, 58 Hanselpacker St\, Harvey Station\, NB E6K 1A3\, Canada
END:VEVENT
BEGIN:VEVENT
DTSTART;TZID=America/Halifax:20270802T190000
DTEND;TZID=America/Halifax:20270802T200000
DTSTAMP:20260422T144235
CREATED:20240812T174216Z
LAST-MODIFIED:20240814T132356Z
UID:10006176-1817233200-1817236800@harveyruralcommunity.ca
SUMMARY:Harvey HIIT Class
DESCRIPTION:Join us for an invigorating high-intensity interval training (HIIT) class from 7-8PM at the HMCC.
URL:https://harveyruralcommunity.ca/event/harvey-hiit-class-2/2027-08-02/
LOCATION:Harvey Memorial Community Centre\, 58 Hanselpacker St\, Harvey Station\, NB E6K 1A3\, Canada
END:VEVENT
BEGIN:VEVENT
DTSTART;TZID=America/Halifax:20270804T190000
DTEND;TZID=America/Halifax:20270804T200000
DTSTAMP:20260422T144235
CREATED:20240812T174216Z
LAST-MODIFIED:20240814T132356Z
UID:10006177-1817406000-1817409600@harveyruralcommunity.ca
SUMMARY:Harvey HIIT Class
DESCRIPTION:Join us for an invigorating high-intensity interval training (HIIT) class from 7-8PM at the HMCC.
URL:https://harveyruralcommunity.ca/event/harvey-hiit-class-2/2027-08-04/
LOCATION:Harvey Memorial Community Centre\, 58 Hanselpacker St\, Harvey Station\, NB E6K 1A3\, Canada
END:VEVENT
BEGIN:VEVENT
DTSTART;TZID=America/Halifax:20270809T190000
DTEND;TZID=America/Halifax:20270809T200000
DTSTAMP:20260422T144235
CREATED:20240812T174216Z
LAST-MODIFIED:20240814T132356Z
UID:10006178-1817838000-1817841600@harveyruralcommunity.ca
SUMMARY:Harvey HIIT Class
DESCRIPTION:Join us for an invigorating high-intensity interval training (HIIT) class from 7-8PM at the HMCC.
URL:https://harveyruralcommunity.ca/event/harvey-hiit-class-2/2027-08-09/
LOCATION:Harvey Memorial Community Centre\, 58 Hanselpacker St\, Harvey Station\, NB E6K 1A3\, Canada
END:VEVENT
BEGIN:VEVENT
DTSTART;TZID=America/Halifax:20270811T190000
DTEND;TZID=America/Halifax:20270811T200000
DTSTAMP:20260422T144235
CREATED:20240812T174216Z
LAST-MODIFIED:20240814T132356Z
UID:10006179-1818010800-1818014400@harveyruralcommunity.ca
SUMMARY:Harvey HIIT Class
DESCRIPTION:Join us for an invigorating high-intensity interval training (HIIT) class from 7-8PM at the HMCC.
URL:https://harveyruralcommunity.ca/event/harvey-hiit-class-2/2027-08-11/
LOCATION:Harvey Memorial Community Centre\, 58 Hanselpacker St\, Harvey Station\, NB E6K 1A3\, Canada
END:VEVENT
BEGIN:VEVENT
DTSTART;TZID=America/Halifax:20270816T190000
DTEND;TZID=America/Halifax:20270816T200000
DTSTAMP:20260422T144235
CREATED:20240812T174216Z
LAST-MODIFIED:20240814T132356Z
UID:10006180-1818442800-1818446400@harveyruralcommunity.ca
SUMMARY:Harvey HIIT Class
DESCRIPTION:Join us for an invigorating high-intensity interval training (HIIT) class from 7-8PM at the HMCC.
URL:https://harveyruralcommunity.ca/event/harvey-hiit-class-2/2027-08-16/
LOCATION:Harvey Memorial Community Centre\, 58 Hanselpacker St\, Harvey Station\, NB E6K 1A3\, Canada
END:VEVENT
BEGIN:VEVENT
DTSTART;TZID=America/Halifax:20270818T190000
DTEND;TZID=America/Halifax:20270818T200000
DTSTAMP:20260422T144235
CREATED:20240812T174216Z
LAST-MODIFIED:20240814T132356Z
UID:10006181-1818615600-1818619200@harveyruralcommunity.ca
SUMMARY:Harvey HIIT Class
DESCRIPTION:Join us for an invigorating high-intensity interval training (HIIT) class from 7-8PM at the HMCC.
URL:https://harveyruralcommunity.ca/event/harvey-hiit-class-2/2027-08-18/
LOCATION:Harvey Memorial Community Centre\, 58 Hanselpacker St\, Harvey Station\, NB E6K 1A3\, Canada
END:VEVENT
BEGIN:VEVENT
DTSTART;TZID=America/Halifax:20270823T190000
DTEND;TZID=America/Halifax:20270823T200000
DTSTAMP:20260422T144235
CREATED:20240812T174216Z
LAST-MODIFIED:20240814T132356Z
UID:10006182-1819047600-1819051200@harveyruralcommunity.ca
SUMMARY:Harvey HIIT Class
DESCRIPTION:Join us for an invigorating high-intensity interval training (HIIT) class from 7-8PM at the HMCC.
URL:https://harveyruralcommunity.ca/event/harvey-hiit-class-2/2027-08-23/
LOCATION:Harvey Memorial Community Centre\, 58 Hanselpacker St\, Harvey Station\, NB E6K 1A3\, Canada
END:VEVENT
BEGIN:VEVENT
DTSTART;TZID=America/Halifax:20270825T190000
DTEND;TZID=America/Halifax:20270825T200000
DTSTAMP:20260422T144235
CREATED:20240812T174216Z
LAST-MODIFIED:20240814T132356Z
UID:10006183-1819220400-1819224000@harveyruralcommunity.ca
SUMMARY:Harvey HIIT Class
DESCRIPTION:Join us for an invigorating high-intensity interval training (HIIT) class from 7-8PM at the HMCC.
URL:https://harveyruralcommunity.ca/event/harvey-hiit-class-2/2027-08-25/
LOCATION:Harvey Memorial Community Centre\, 58 Hanselpacker St\, Harvey Station\, NB E6K 1A3\, Canada
END:VEVENT
BEGIN:VEVENT
DTSTART;TZID=America/Halifax:20270830T190000
DTEND;TZID=America/Halifax:20270830T200000
DTSTAMP:20260422T144235
CREATED:20240812T174216Z
LAST-MODIFIED:20240814T132356Z
UID:10006184-1819652400-1819656000@harveyruralcommunity.ca
SUMMARY:Harvey HIIT Class
DESCRIPTION:Join us for an invigorating high-intensity interval training (HIIT) class from 7-8PM at the HMCC.
URL:https://harveyruralcommunity.ca/event/harvey-hiit-class-2/2027-08-30/
LOCATION:Harvey Memorial Community Centre\, 58 Hanselpacker St\, Harvey Station\, NB E6K 1A3\, Canada
END:VEVENT
BEGIN:VEVENT
DTSTART;TZID=America/Halifax:20270901T190000
DTEND;TZID=America/Halifax:20270901T200000
DTSTAMP:20260422T144235
CREATED:20240812T174216Z
LAST-MODIFIED:20240814T132356Z
UID:10006185-1819825200-1819828800@harveyruralcommunity.ca
SUMMARY:Harvey HIIT Class
DESCRIPTION:Join us for an invigorating high-intensity interval training (HIIT) class from 7-8PM at the HMCC.
URL:https://harveyruralcommunity.ca/event/harvey-hiit-class-2/2027-09-01/
LOCATION:Harvey Memorial Community Centre\, 58 Hanselpacker St\, Harvey Station\, NB E6K 1A3\, Canada
END:VEVENT
BEGIN:VEVENT
DTSTART;TZID=America/Halifax:20270906T190000
DTEND;TZID=America/Halifax:20270906T200000
DTSTAMP:20260422T144235
CREATED:20240812T174216Z
LAST-MODIFIED:20240814T132356Z
UID:10006186-1820257200-1820260800@harveyruralcommunity.ca
SUMMARY:Harvey HIIT Class
DESCRIPTION:Join us for an invigorating high-intensity interval training (HIIT) class from 7-8PM at the HMCC.
URL:https://harveyruralcommunity.ca/event/harvey-hiit-class-2/2027-09-06/
LOCATION:Harvey Memorial Community Centre\, 58 Hanselpacker St\, Harvey Station\, NB E6K 1A3\, Canada
END:VEVENT
BEGIN:VEVENT
DTSTART;TZID=America/Halifax:20270908T190000
DTEND;TZID=America/Halifax:20270908T200000
DTSTAMP:20260422T144235
CREATED:20240812T174216Z
LAST-MODIFIED:20240814T132356Z
UID:10006187-1820430000-1820433600@harveyruralcommunity.ca
SUMMARY:Harvey HIIT Class
DESCRIPTION:Join us for an invigorating high-intensity interval training (HIIT) class from 7-8PM at the HMCC.
URL:https://harveyruralcommunity.ca/event/harvey-hiit-class-2/2027-09-08/
LOCATION:Harvey Memorial Community Centre\, 58 Hanselpacker St\, Harvey Station\, NB E6K 1A3\, Canada
END:VEVENT
BEGIN:VEVENT
DTSTART;TZID=America/Halifax:20270913T190000
DTEND;TZID=America/Halifax:20270913T200000
DTSTAMP:20260422T144235
CREATED:20240812T174216Z
LAST-MODIFIED:20240814T132356Z
UID:10006188-1820862000-1820865600@harveyruralcommunity.ca
SUMMARY:Harvey HIIT Class
DESCRIPTION:Join us for an invigorating high-intensity interval training (HIIT) class from 7-8PM at the HMCC.
URL:https://harveyruralcommunity.ca/event/harvey-hiit-class-2/2027-09-13/
LOCATION:Harvey Memorial Community Centre\, 58 Hanselpacker St\, Harvey Station\, NB E6K 1A3\, Canada
END:VEVENT
BEGIN:VEVENT
DTSTART;TZID=America/Halifax:20270915T190000
DTEND;TZID=America/Halifax:20270915T200000
DTSTAMP:20260422T144235
CREATED:20240812T174216Z
LAST-MODIFIED:20240814T132356Z
UID:10006189-1821034800-1821038400@harveyruralcommunity.ca
SUMMARY:Harvey HIIT Class
DESCRIPTION:Join us for an invigorating high-intensity interval training (HIIT) class from 7-8PM at the HMCC.
URL:https://harveyruralcommunity.ca/event/harvey-hiit-class-2/2027-09-15/
LOCATION:Harvey Memorial Community Centre\, 58 Hanselpacker St\, Harvey Station\, NB E6K 1A3\, Canada
END:VEVENT
BEGIN:VEVENT
DTSTART;TZID=America/Halifax:20270920T190000
DTEND;TZID=America/Halifax:20270920T200000
DTSTAMP:20260422T144235
CREATED:20240812T174216Z
LAST-MODIFIED:20240814T132356Z
UID:10006190-1821466800-1821470400@harveyruralcommunity.ca
SUMMARY:Harvey HIIT Class
DESCRIPTION:Join us for an invigorating high-intensity interval training (HIIT) class from 7-8PM at the HMCC.
URL:https://harveyruralcommunity.ca/event/harvey-hiit-class-2/2027-09-20/
LOCATION:Harvey Memorial Community Centre\, 58 Hanselpacker St\, Harvey Station\, NB E6K 1A3\, Canada
END:VEVENT
BEGIN:VEVENT
DTSTART;TZID=America/Halifax:20270922T190000
DTEND;TZID=America/Halifax:20270922T200000
DTSTAMP:20260422T144235
CREATED:20240812T174216Z
LAST-MODIFIED:20240814T132356Z
UID:10006191-1821639600-1821643200@harveyruralcommunity.ca
SUMMARY:Harvey HIIT Class
DESCRIPTION:Join us for an invigorating high-intensity interval training (HIIT) class from 7-8PM at the HMCC.
URL:https://harveyruralcommunity.ca/event/harvey-hiit-class-2/2027-09-22/
LOCATION:Harvey Memorial Community Centre\, 58 Hanselpacker St\, Harvey Station\, NB E6K 1A3\, Canada
END:VEVENT
BEGIN:VEVENT
DTSTART;TZID=America/Halifax:20270927T190000
DTEND;TZID=America/Halifax:20270927T200000
DTSTAMP:20260422T144235
CREATED:20240812T174216Z
LAST-MODIFIED:20240814T132356Z
UID:10006192-1822071600-1822075200@harveyruralcommunity.ca
SUMMARY:Harvey HIIT Class
DESCRIPTION:Join us for an invigorating high-intensity interval training (HIIT) class from 7-8PM at the HMCC.
URL:https://harveyruralcommunity.ca/event/harvey-hiit-class-2/2027-09-27/
LOCATION:Harvey Memorial Community Centre\, 58 Hanselpacker St\, Harvey Station\, NB E6K 1A3\, Canada
END:VEVENT
BEGIN:VEVENT
DTSTART;TZID=America/Halifax:20270929T190000
DTEND;TZID=America/Halifax:20270929T200000
DTSTAMP:20260422T144235
CREATED:20240812T174216Z
LAST-MODIFIED:20240814T132356Z
UID:10006193-1822244400-1822248000@harveyruralcommunity.ca
SUMMARY:Harvey HIIT Class
DESCRIPTION:Join us for an invigorating high-intensity interval training (HIIT) class from 7-8PM at the HMCC.
URL:https://harveyruralcommunity.ca/event/harvey-hiit-class-2/2027-09-29/
LOCATION:Harvey Memorial Community Centre\, 58 Hanselpacker St\, Harvey Station\, NB E6K 1A3\, Canada
END:VEVENT
BEGIN:VEVENT
DTSTART;TZID=America/Halifax:20271004T190000
DTEND;TZID=America/Halifax:20271004T200000
DTSTAMP:20260422T144235
CREATED:20240812T174216Z
LAST-MODIFIED:20240814T132356Z
UID:10006194-1822676400-1822680000@harveyruralcommunity.ca
SUMMARY:Harvey HIIT Class
DESCRIPTION:Join us for an invigorating high-intensity interval training (HIIT) class from 7-8PM at the HMCC.
URL:https://harveyruralcommunity.ca/event/harvey-hiit-class-2/2027-10-04/
LOCATION:Harvey Memorial Community Centre\, 58 Hanselpacker St\, Harvey Station\, NB E6K 1A3\, Canada
END:VEVENT
BEGIN:VEVENT
DTSTART;TZID=America/Halifax:20271006T190000
DTEND;TZID=America/Halifax:20271006T200000
DTSTAMP:20260422T144235
CREATED:20240812T174216Z
LAST-MODIFIED:20240814T132356Z
UID:10006195-1822849200-1822852800@harveyruralcommunity.ca
SUMMARY:Harvey HIIT Class
DESCRIPTION:Join us for an invigorating high-intensity interval training (HIIT) class from 7-8PM at the HMCC.
URL:https://harveyruralcommunity.ca/event/harvey-hiit-class-2/2027-10-06/
LOCATION:Harvey Memorial Community Centre\, 58 Hanselpacker St\, Harvey Station\, NB E6K 1A3\, Canada
END:VEVENT
BEGIN:VEVENT
DTSTART;TZID=America/Halifax:20271011T190000
DTEND;TZID=America/Halifax:20271011T200000
DTSTAMP:20260422T144235
CREATED:20240812T174216Z
LAST-MODIFIED:20240814T132356Z
UID:10006196-1823281200-1823284800@harveyruralcommunity.ca
SUMMARY:Harvey HIIT Class
DESCRIPTION:Join us for an invigorating high-intensity interval training (HIIT) class from 7-8PM at the HMCC.
URL:https://harveyruralcommunity.ca/event/harvey-hiit-class-2/2027-10-11/
LOCATION:Harvey Memorial Community Centre\, 58 Hanselpacker St\, Harvey Station\, NB E6K 1A3\, Canada
END:VEVENT
BEGIN:VEVENT
DTSTART;TZID=America/Halifax:20271013T190000
DTEND;TZID=America/Halifax:20271013T200000
DTSTAMP:20260422T144235
CREATED:20240812T174216Z
LAST-MODIFIED:20240814T132356Z
UID:10006197-1823454000-1823457600@harveyruralcommunity.ca
SUMMARY:Harvey HIIT Class
DESCRIPTION:Join us for an invigorating high-intensity interval training (HIIT) class from 7-8PM at the HMCC.
URL:https://harveyruralcommunity.ca/event/harvey-hiit-class-2/2027-10-13/
LOCATION:Harvey Memorial Community Centre\, 58 Hanselpacker St\, Harvey Station\, NB E6K 1A3\, Canada
END:VEVENT
BEGIN:VEVENT
DTSTART;TZID=America/Halifax:20271018T190000
DTEND;TZID=America/Halifax:20271018T200000
DTSTAMP:20260422T144235
CREATED:20240812T174216Z
LAST-MODIFIED:20240814T132356Z
UID:10006198-1823886000-1823889600@harveyruralcommunity.ca
SUMMARY:Harvey HIIT Class
DESCRIPTION:Join us for an invigorating high-intensity interval training (HIIT) class from 7-8PM at the HMCC.
URL:https://harveyruralcommunity.ca/event/harvey-hiit-class-2/2027-10-18/
LOCATION:Harvey Memorial Community Centre\, 58 Hanselpacker St\, Harvey Station\, NB E6K 1A3\, Canada
END:VEVENT
BEGIN:VEVENT
DTSTART;TZID=America/Halifax:20271020T190000
DTEND;TZID=America/Halifax:20271020T200000
DTSTAMP:20260422T144235
CREATED:20240812T174216Z
LAST-MODIFIED:20240814T132356Z
UID:10006199-1824058800-1824062400@harveyruralcommunity.ca
SUMMARY:Harvey HIIT Class
DESCRIPTION:Join us for an invigorating high-intensity interval training (HIIT) class from 7-8PM at the HMCC.
URL:https://harveyruralcommunity.ca/event/harvey-hiit-class-2/2027-10-20/
LOCATION:Harvey Memorial Community Centre\, 58 Hanselpacker St\, Harvey Station\, NB E6K 1A3\, Canada
END:VEVENT
BEGIN:VEVENT
DTSTART;TZID=America/Halifax:20271025T190000
DTEND;TZID=America/Halifax:20271025T200000
DTSTAMP:20260422T144235
CREATED:20240812T174216Z
LAST-MODIFIED:20240814T132356Z
UID:10006200-1824490800-1824494400@harveyruralcommunity.ca
SUMMARY:Harvey HIIT Class
DESCRIPTION:Join us for an invigorating high-intensity interval training (HIIT) class from 7-8PM at the HMCC.
URL:https://harveyruralcommunity.ca/event/harvey-hiit-class-2/2027-10-25/
LOCATION:Harvey Memorial Community Centre\, 58 Hanselpacker St\, Harvey Station\, NB E6K 1A3\, Canada
END:VEVENT
BEGIN:VEVENT
DTSTART;TZID=America/Halifax:20271027T190000
DTEND;TZID=America/Halifax:20271027T200000
DTSTAMP:20260422T144235
CREATED:20240812T174216Z
LAST-MODIFIED:20240814T132356Z
UID:10006201-1824663600-1824667200@harveyruralcommunity.ca
SUMMARY:Harvey HIIT Class
DESCRIPTION:Join us for an invigorating high-intensity interval training (HIIT) class from 7-8PM at the HMCC.
URL:https://harveyruralcommunity.ca/event/harvey-hiit-class-2/2027-10-27/
LOCATION:Harvey Memorial Community Centre\, 58 Hanselpacker St\, Harvey Station\, NB E6K 1A3\, Canada
END:VEVENT
BEGIN:VEVENT
DTSTART;TZID=America/Halifax:20271101T190000
DTEND;TZID=America/Halifax:20271101T200000
DTSTAMP:20260422T144235
CREATED:20240812T174216Z
LAST-MODIFIED:20240814T132356Z
UID:10006202-1825095600-1825099200@harveyruralcommunity.ca
SUMMARY:Harvey HIIT Class
DESCRIPTION:Join us for an invigorating high-intensity interval training (HIIT) class from 7-8PM at the HMCC.
URL:https://harveyruralcommunity.ca/event/harvey-hiit-class-2/2027-11-01/
LOCATION:Harvey Memorial Community Centre\, 58 Hanselpacker St\, Harvey Station\, NB E6K 1A3\, Canada
END:VEVENT
BEGIN:VEVENT
DTSTART;TZID=America/Halifax:20271103T190000
DTEND;TZID=America/Halifax:20271103T200000
DTSTAMP:20260422T144235
CREATED:20240812T174216Z
LAST-MODIFIED:20240814T132356Z
UID:10006203-1825268400-1825272000@harveyruralcommunity.ca
SUMMARY:Harvey HIIT Class
DESCRIPTION:Join us for an invigorating high-intensity interval training (HIIT) class from 7-8PM at the HMCC.
URL:https://harveyruralcommunity.ca/event/harvey-hiit-class-2/2027-11-03/
LOCATION:Harvey Memorial Community Centre\, 58 Hanselpacker St\, Harvey Station\, NB E6K 1A3\, Canada
END:VEVENT
BEGIN:VEVENT
DTSTART;TZID=America/Halifax:20271108T190000
DTEND;TZID=America/Halifax:20271108T200000
DTSTAMP:20260422T144235
CREATED:20240812T174216Z
LAST-MODIFIED:20240814T132356Z
UID:10006204-1825700400-1825704000@harveyruralcommunity.ca
SUMMARY:Harvey HIIT Class
DESCRIPTION:Join us for an invigorating high-intensity interval training (HIIT) class from 7-8PM at the HMCC.
URL:https://harveyruralcommunity.ca/event/harvey-hiit-class-2/2027-11-08/
LOCATION:Harvey Memorial Community Centre\, 58 Hanselpacker St\, Harvey Station\, NB E6K 1A3\, Canada
END:VEVENT
END:VCALENDAR