BEGIN:VCALENDAR
VERSION:2.0
PRODID:-//Harvey Rural Community - ECPv6.6.1//NONSGML v1.0//EN
CALSCALE:GREGORIAN
METHOD:PUBLISH
X-WR-CALNAME:Harvey Rural Community
X-ORIGINAL-URL:https://harveyruralcommunity.ca
X-WR-CALDESC:Events for Harvey Rural Community
BEGIN:VTIMEZONE
TZID:America/Halifax
BEGIN:DAYLIGHT
TZOFFSETFROM:-0400
TZOFFSETTO:-0300
TZNAME:ADT
DTSTART:20270314T060000
END:DAYLIGHT
BEGIN:STANDARD
TZOFFSETFROM:-0300
TZOFFSETTO:-0400
TZNAME:AST
DTSTART:20271107T050000
END:STANDARD
BEGIN:DAYLIGHT
TZOFFSETFROM:-0400
TZOFFSETTO:-0300
TZNAME:ADT
DTSTART:20280312T060000
END:DAYLIGHT
BEGIN:STANDARD
TZOFFSETFROM:-0300
TZOFFSETTO:-0400
TZNAME:AST
DTSTART:20281105T050000
END:STANDARD
END:VTIMEZONE
BEGIN:VEVENT
DTSTART;TZID=America/Halifax:20271022T100000
DTEND;TZID=America/Halifax:20271022T140000
DTSTAMP:20260423T114309
CREATED:20250902T121428Z
LAST-MODIFIED:20250902T121428Z
UID:10007184-1824199200-1824213600@harveyruralcommunity.ca
SUMMARY:The Gathering Place
DESCRIPTION:Open every Monday and Friday\, from 10am to 2pm – The Gathering Place is a welcoming space for you to: \n\nMeet up with friends and make new ones 👱‍♂️ 👩‍🦳.\nRelax with tea and coffee 🍵.\nEnjoy lively discussions and engaging activities ♟.\n\n  \nLocated at the Harvey Curling Club.
URL:https://harveyruralcommunity.ca/event/the-gathering-place/2027-10-22/
END:VEVENT
BEGIN:VEVENT
DTSTART;TZID=America/Halifax:20271025T100000
DTEND;TZID=America/Halifax:20271025T140000
DTSTAMP:20260423T114309
CREATED:20250902T121428Z
LAST-MODIFIED:20250902T121428Z
UID:10007185-1824458400-1824472800@harveyruralcommunity.ca
SUMMARY:The Gathering Place
DESCRIPTION:Open every Monday and Friday\, from 10am to 2pm – The Gathering Place is a welcoming space for you to: \n\nMeet up with friends and make new ones 👱‍♂️ 👩‍🦳.\nRelax with tea and coffee 🍵.\nEnjoy lively discussions and engaging activities ♟.\n\n  \nLocated at the Harvey Curling Club.
URL:https://harveyruralcommunity.ca/event/the-gathering-place/2027-10-25/
END:VEVENT
BEGIN:VEVENT
DTSTART;TZID=America/Halifax:20271029T100000
DTEND;TZID=America/Halifax:20271029T140000
DTSTAMP:20260423T114309
CREATED:20250902T121428Z
LAST-MODIFIED:20250902T121428Z
UID:10007186-1824804000-1824818400@harveyruralcommunity.ca
SUMMARY:The Gathering Place
DESCRIPTION:Open every Monday and Friday\, from 10am to 2pm – The Gathering Place is a welcoming space for you to: \n\nMeet up with friends and make new ones 👱‍♂️ 👩‍🦳.\nRelax with tea and coffee 🍵.\nEnjoy lively discussions and engaging activities ♟.\n\n  \nLocated at the Harvey Curling Club.
URL:https://harveyruralcommunity.ca/event/the-gathering-place/2027-10-29/
END:VEVENT
BEGIN:VEVENT
DTSTART;TZID=America/Halifax:20271101T100000
DTEND;TZID=America/Halifax:20271101T140000
DTSTAMP:20260423T114309
CREATED:20250902T121428Z
LAST-MODIFIED:20250902T121428Z
UID:10007187-1825063200-1825077600@harveyruralcommunity.ca
SUMMARY:The Gathering Place
DESCRIPTION:Open every Monday and Friday\, from 10am to 2pm – The Gathering Place is a welcoming space for you to: \n\nMeet up with friends and make new ones 👱‍♂️ 👩‍🦳.\nRelax with tea and coffee 🍵.\nEnjoy lively discussions and engaging activities ♟.\n\n  \nLocated at the Harvey Curling Club.
URL:https://harveyruralcommunity.ca/event/the-gathering-place/2027-11-01/
END:VEVENT
BEGIN:VEVENT
DTSTART;TZID=America/Halifax:20271105T100000
DTEND;TZID=America/Halifax:20271105T140000
DTSTAMP:20260423T114309
CREATED:20250902T121428Z
LAST-MODIFIED:20250902T121428Z
UID:10007188-1825408800-1825423200@harveyruralcommunity.ca
SUMMARY:The Gathering Place
DESCRIPTION:Open every Monday and Friday\, from 10am to 2pm – The Gathering Place is a welcoming space for you to: \n\nMeet up with friends and make new ones 👱‍♂️ 👩‍🦳.\nRelax with tea and coffee 🍵.\nEnjoy lively discussions and engaging activities ♟.\n\n  \nLocated at the Harvey Curling Club.
URL:https://harveyruralcommunity.ca/event/the-gathering-place/2027-11-05/
END:VEVENT
BEGIN:VEVENT
DTSTART;TZID=America/Halifax:20271108T100000
DTEND;TZID=America/Halifax:20271108T140000
DTSTAMP:20260423T114309
CREATED:20250902T121428Z
LAST-MODIFIED:20250902T121428Z
UID:10007189-1825668000-1825682400@harveyruralcommunity.ca
SUMMARY:The Gathering Place
DESCRIPTION:Open every Monday and Friday\, from 10am to 2pm – The Gathering Place is a welcoming space for you to: \n\nMeet up with friends and make new ones 👱‍♂️ 👩‍🦳.\nRelax with tea and coffee 🍵.\nEnjoy lively discussions and engaging activities ♟.\n\n  \nLocated at the Harvey Curling Club.
URL:https://harveyruralcommunity.ca/event/the-gathering-place/2027-11-08/
END:VEVENT
BEGIN:VEVENT
DTSTART;TZID=America/Halifax:20271112T100000
DTEND;TZID=America/Halifax:20271112T140000
DTSTAMP:20260423T114309
CREATED:20250902T121428Z
LAST-MODIFIED:20250902T121428Z
UID:10007190-1826013600-1826028000@harveyruralcommunity.ca
SUMMARY:The Gathering Place
DESCRIPTION:Open every Monday and Friday\, from 10am to 2pm – The Gathering Place is a welcoming space for you to: \n\nMeet up with friends and make new ones 👱‍♂️ 👩‍🦳.\nRelax with tea and coffee 🍵.\nEnjoy lively discussions and engaging activities ♟.\n\n  \nLocated at the Harvey Curling Club.
URL:https://harveyruralcommunity.ca/event/the-gathering-place/2027-11-12/
END:VEVENT
BEGIN:VEVENT
DTSTART;TZID=America/Halifax:20271115T100000
DTEND;TZID=America/Halifax:20271115T140000
DTSTAMP:20260423T114309
CREATED:20250902T121428Z
LAST-MODIFIED:20250902T121428Z
UID:10007191-1826272800-1826287200@harveyruralcommunity.ca
SUMMARY:The Gathering Place
DESCRIPTION:Open every Monday and Friday\, from 10am to 2pm – The Gathering Place is a welcoming space for you to: \n\nMeet up with friends and make new ones 👱‍♂️ 👩‍🦳.\nRelax with tea and coffee 🍵.\nEnjoy lively discussions and engaging activities ♟.\n\n  \nLocated at the Harvey Curling Club.
URL:https://harveyruralcommunity.ca/event/the-gathering-place/2027-11-15/
END:VEVENT
BEGIN:VEVENT
DTSTART;TZID=America/Halifax:20271119T100000
DTEND;TZID=America/Halifax:20271119T140000
DTSTAMP:20260423T114309
CREATED:20250902T121428Z
LAST-MODIFIED:20250902T121428Z
UID:10007192-1826618400-1826632800@harveyruralcommunity.ca
SUMMARY:The Gathering Place
DESCRIPTION:Open every Monday and Friday\, from 10am to 2pm – The Gathering Place is a welcoming space for you to: \n\nMeet up with friends and make new ones 👱‍♂️ 👩‍🦳.\nRelax with tea and coffee 🍵.\nEnjoy lively discussions and engaging activities ♟.\n\n  \nLocated at the Harvey Curling Club.
URL:https://harveyruralcommunity.ca/event/the-gathering-place/2027-11-19/
END:VEVENT
BEGIN:VEVENT
DTSTART;TZID=America/Halifax:20271122T100000
DTEND;TZID=America/Halifax:20271122T140000
DTSTAMP:20260423T114309
CREATED:20250902T121428Z
LAST-MODIFIED:20250902T121428Z
UID:10007193-1826877600-1826892000@harveyruralcommunity.ca
SUMMARY:The Gathering Place
DESCRIPTION:Open every Monday and Friday\, from 10am to 2pm – The Gathering Place is a welcoming space for you to: \n\nMeet up with friends and make new ones 👱‍♂️ 👩‍🦳.\nRelax with tea and coffee 🍵.\nEnjoy lively discussions and engaging activities ♟.\n\n  \nLocated at the Harvey Curling Club.
URL:https://harveyruralcommunity.ca/event/the-gathering-place/2027-11-22/
END:VEVENT
BEGIN:VEVENT
DTSTART;TZID=America/Halifax:20271126T100000
DTEND;TZID=America/Halifax:20271126T140000
DTSTAMP:20260423T114309
CREATED:20250902T121428Z
LAST-MODIFIED:20250902T121428Z
UID:10007194-1827223200-1827237600@harveyruralcommunity.ca
SUMMARY:The Gathering Place
DESCRIPTION:Open every Monday and Friday\, from 10am to 2pm – The Gathering Place is a welcoming space for you to: \n\nMeet up with friends and make new ones 👱‍♂️ 👩‍🦳.\nRelax with tea and coffee 🍵.\nEnjoy lively discussions and engaging activities ♟.\n\n  \nLocated at the Harvey Curling Club.
URL:https://harveyruralcommunity.ca/event/the-gathering-place/2027-11-26/
END:VEVENT
BEGIN:VEVENT
DTSTART;TZID=America/Halifax:20271129T100000
DTEND;TZID=America/Halifax:20271129T140000
DTSTAMP:20260423T114309
CREATED:20250902T121428Z
LAST-MODIFIED:20250902T121428Z
UID:10007195-1827482400-1827496800@harveyruralcommunity.ca
SUMMARY:The Gathering Place
DESCRIPTION:Open every Monday and Friday\, from 10am to 2pm – The Gathering Place is a welcoming space for you to: \n\nMeet up with friends and make new ones 👱‍♂️ 👩‍🦳.\nRelax with tea and coffee 🍵.\nEnjoy lively discussions and engaging activities ♟.\n\n  \nLocated at the Harvey Curling Club.
URL:https://harveyruralcommunity.ca/event/the-gathering-place/2027-11-29/
END:VEVENT
BEGIN:VEVENT
DTSTART;TZID=America/Halifax:20271203T100000
DTEND;TZID=America/Halifax:20271203T140000
DTSTAMP:20260423T114309
CREATED:20250902T121428Z
LAST-MODIFIED:20250902T121428Z
UID:10007196-1827828000-1827842400@harveyruralcommunity.ca
SUMMARY:The Gathering Place
DESCRIPTION:Open every Monday and Friday\, from 10am to 2pm – The Gathering Place is a welcoming space for you to: \n\nMeet up with friends and make new ones 👱‍♂️ 👩‍🦳.\nRelax with tea and coffee 🍵.\nEnjoy lively discussions and engaging activities ♟.\n\n  \nLocated at the Harvey Curling Club.
URL:https://harveyruralcommunity.ca/event/the-gathering-place/2027-12-03/
END:VEVENT
BEGIN:VEVENT
DTSTART;TZID=America/Halifax:20271206T100000
DTEND;TZID=America/Halifax:20271206T140000
DTSTAMP:20260423T114309
CREATED:20250902T121428Z
LAST-MODIFIED:20250902T121428Z
UID:10007197-1828087200-1828101600@harveyruralcommunity.ca
SUMMARY:The Gathering Place
DESCRIPTION:Open every Monday and Friday\, from 10am to 2pm – The Gathering Place is a welcoming space for you to: \n\nMeet up with friends and make new ones 👱‍♂️ 👩‍🦳.\nRelax with tea and coffee 🍵.\nEnjoy lively discussions and engaging activities ♟.\n\n  \nLocated at the Harvey Curling Club.
URL:https://harveyruralcommunity.ca/event/the-gathering-place/2027-12-06/
END:VEVENT
BEGIN:VEVENT
DTSTART;TZID=America/Halifax:20271210T100000
DTEND;TZID=America/Halifax:20271210T140000
DTSTAMP:20260423T114309
CREATED:20250902T121428Z
LAST-MODIFIED:20250902T121428Z
UID:10007198-1828432800-1828447200@harveyruralcommunity.ca
SUMMARY:The Gathering Place
DESCRIPTION:Open every Monday and Friday\, from 10am to 2pm – The Gathering Place is a welcoming space for you to: \n\nMeet up with friends and make new ones 👱‍♂️ 👩‍🦳.\nRelax with tea and coffee 🍵.\nEnjoy lively discussions and engaging activities ♟.\n\n  \nLocated at the Harvey Curling Club.
URL:https://harveyruralcommunity.ca/event/the-gathering-place/2027-12-10/
END:VEVENT
BEGIN:VEVENT
DTSTART;TZID=America/Halifax:20271213T100000
DTEND;TZID=America/Halifax:20271213T140000
DTSTAMP:20260423T114309
CREATED:20250902T121428Z
LAST-MODIFIED:20250902T121428Z
UID:10007199-1828692000-1828706400@harveyruralcommunity.ca
SUMMARY:The Gathering Place
DESCRIPTION:Open every Monday and Friday\, from 10am to 2pm – The Gathering Place is a welcoming space for you to: \n\nMeet up with friends and make new ones 👱‍♂️ 👩‍🦳.\nRelax with tea and coffee 🍵.\nEnjoy lively discussions and engaging activities ♟.\n\n  \nLocated at the Harvey Curling Club.
URL:https://harveyruralcommunity.ca/event/the-gathering-place/2027-12-13/
END:VEVENT
BEGIN:VEVENT
DTSTART;TZID=America/Halifax:20271217T100000
DTEND;TZID=America/Halifax:20271217T140000
DTSTAMP:20260423T114309
CREATED:20250902T121428Z
LAST-MODIFIED:20250902T121428Z
UID:10007200-1829037600-1829052000@harveyruralcommunity.ca
SUMMARY:The Gathering Place
DESCRIPTION:Open every Monday and Friday\, from 10am to 2pm – The Gathering Place is a welcoming space for you to: \n\nMeet up with friends and make new ones 👱‍♂️ 👩‍🦳.\nRelax with tea and coffee 🍵.\nEnjoy lively discussions and engaging activities ♟.\n\n  \nLocated at the Harvey Curling Club.
URL:https://harveyruralcommunity.ca/event/the-gathering-place/2027-12-17/
END:VEVENT
BEGIN:VEVENT
DTSTART;TZID=America/Halifax:20271220T100000
DTEND;TZID=America/Halifax:20271220T140000
DTSTAMP:20260423T114309
CREATED:20250902T121428Z
LAST-MODIFIED:20250902T121428Z
UID:10007201-1829296800-1829311200@harveyruralcommunity.ca
SUMMARY:The Gathering Place
DESCRIPTION:Open every Monday and Friday\, from 10am to 2pm – The Gathering Place is a welcoming space for you to: \n\nMeet up with friends and make new ones 👱‍♂️ 👩‍🦳.\nRelax with tea and coffee 🍵.\nEnjoy lively discussions and engaging activities ♟.\n\n  \nLocated at the Harvey Curling Club.
URL:https://harveyruralcommunity.ca/event/the-gathering-place/2027-12-20/
END:VEVENT
BEGIN:VEVENT
DTSTART;TZID=America/Halifax:20271224T100000
DTEND;TZID=America/Halifax:20271224T140000
DTSTAMP:20260423T114310
CREATED:20250902T121428Z
LAST-MODIFIED:20250902T121428Z
UID:10007202-1829642400-1829656800@harveyruralcommunity.ca
SUMMARY:The Gathering Place
DESCRIPTION:Open every Monday and Friday\, from 10am to 2pm – The Gathering Place is a welcoming space for you to: \n\nMeet up with friends and make new ones 👱‍♂️ 👩‍🦳.\nRelax with tea and coffee 🍵.\nEnjoy lively discussions and engaging activities ♟.\n\n  \nLocated at the Harvey Curling Club.
URL:https://harveyruralcommunity.ca/event/the-gathering-place/2027-12-24/
END:VEVENT
BEGIN:VEVENT
DTSTART;TZID=America/Halifax:20271227T100000
DTEND;TZID=America/Halifax:20271227T140000
DTSTAMP:20260423T114310
CREATED:20250902T121428Z
LAST-MODIFIED:20250902T121428Z
UID:10007203-1829901600-1829916000@harveyruralcommunity.ca
SUMMARY:The Gathering Place
DESCRIPTION:Open every Monday and Friday\, from 10am to 2pm – The Gathering Place is a welcoming space for you to: \n\nMeet up with friends and make new ones 👱‍♂️ 👩‍🦳.\nRelax with tea and coffee 🍵.\nEnjoy lively discussions and engaging activities ♟.\n\n  \nLocated at the Harvey Curling Club.
URL:https://harveyruralcommunity.ca/event/the-gathering-place/2027-12-27/
END:VEVENT
BEGIN:VEVENT
DTSTART;TZID=America/Halifax:20271231T100000
DTEND;TZID=America/Halifax:20271231T140000
DTSTAMP:20260423T114310
CREATED:20250902T121428Z
LAST-MODIFIED:20250902T121428Z
UID:10007204-1830247200-1830261600@harveyruralcommunity.ca
SUMMARY:The Gathering Place
DESCRIPTION:Open every Monday and Friday\, from 10am to 2pm – The Gathering Place is a welcoming space for you to: \n\nMeet up with friends and make new ones 👱‍♂️ 👩‍🦳.\nRelax with tea and coffee 🍵.\nEnjoy lively discussions and engaging activities ♟.\n\n  \nLocated at the Harvey Curling Club.
URL:https://harveyruralcommunity.ca/event/the-gathering-place/2027-12-31/
END:VEVENT
BEGIN:VEVENT
DTSTART;TZID=America/Halifax:20280103T100000
DTEND;TZID=America/Halifax:20280103T140000
DTSTAMP:20260423T114310
CREATED:20250902T121428Z
LAST-MODIFIED:20250902T121428Z
UID:10007205-1830506400-1830520800@harveyruralcommunity.ca
SUMMARY:The Gathering Place
DESCRIPTION:Open every Monday and Friday\, from 10am to 2pm – The Gathering Place is a welcoming space for you to: \n\nMeet up with friends and make new ones 👱‍♂️ 👩‍🦳.\nRelax with tea and coffee 🍵.\nEnjoy lively discussions and engaging activities ♟.\n\n  \nLocated at the Harvey Curling Club.
URL:https://harveyruralcommunity.ca/event/the-gathering-place/2028-01-03/
END:VEVENT
BEGIN:VEVENT
DTSTART;TZID=America/Halifax:20280107T100000
DTEND;TZID=America/Halifax:20280107T140000
DTSTAMP:20260423T114310
CREATED:20250902T121428Z
LAST-MODIFIED:20250902T121428Z
UID:10007206-1830852000-1830866400@harveyruralcommunity.ca
SUMMARY:The Gathering Place
DESCRIPTION:Open every Monday and Friday\, from 10am to 2pm – The Gathering Place is a welcoming space for you to: \n\nMeet up with friends and make new ones 👱‍♂️ 👩‍🦳.\nRelax with tea and coffee 🍵.\nEnjoy lively discussions and engaging activities ♟.\n\n  \nLocated at the Harvey Curling Club.
URL:https://harveyruralcommunity.ca/event/the-gathering-place/2028-01-07/
END:VEVENT
BEGIN:VEVENT
DTSTART;TZID=America/Halifax:20280110T100000
DTEND;TZID=America/Halifax:20280110T140000
DTSTAMP:20260423T114310
CREATED:20250902T121428Z
LAST-MODIFIED:20250902T121428Z
UID:10007207-1831111200-1831125600@harveyruralcommunity.ca
SUMMARY:The Gathering Place
DESCRIPTION:Open every Monday and Friday\, from 10am to 2pm – The Gathering Place is a welcoming space for you to: \n\nMeet up with friends and make new ones 👱‍♂️ 👩‍🦳.\nRelax with tea and coffee 🍵.\nEnjoy lively discussions and engaging activities ♟.\n\n  \nLocated at the Harvey Curling Club.
URL:https://harveyruralcommunity.ca/event/the-gathering-place/2028-01-10/
END:VEVENT
BEGIN:VEVENT
DTSTART;TZID=America/Halifax:20280114T100000
DTEND;TZID=America/Halifax:20280114T140000
DTSTAMP:20260423T114310
CREATED:20250902T121428Z
LAST-MODIFIED:20250902T121428Z
UID:10007208-1831456800-1831471200@harveyruralcommunity.ca
SUMMARY:The Gathering Place
DESCRIPTION:Open every Monday and Friday\, from 10am to 2pm – The Gathering Place is a welcoming space for you to: \n\nMeet up with friends and make new ones 👱‍♂️ 👩‍🦳.\nRelax with tea and coffee 🍵.\nEnjoy lively discussions and engaging activities ♟.\n\n  \nLocated at the Harvey Curling Club.
URL:https://harveyruralcommunity.ca/event/the-gathering-place/2028-01-14/
END:VEVENT
BEGIN:VEVENT
DTSTART;TZID=America/Halifax:20280117T100000
DTEND;TZID=America/Halifax:20280117T140000
DTSTAMP:20260423T114310
CREATED:20250902T121428Z
LAST-MODIFIED:20250902T121428Z
UID:10007209-1831716000-1831730400@harveyruralcommunity.ca
SUMMARY:The Gathering Place
DESCRIPTION:Open every Monday and Friday\, from 10am to 2pm – The Gathering Place is a welcoming space for you to: \n\nMeet up with friends and make new ones 👱‍♂️ 👩‍🦳.\nRelax with tea and coffee 🍵.\nEnjoy lively discussions and engaging activities ♟.\n\n  \nLocated at the Harvey Curling Club.
URL:https://harveyruralcommunity.ca/event/the-gathering-place/2028-01-17/
END:VEVENT
BEGIN:VEVENT
DTSTART;TZID=America/Halifax:20280121T100000
DTEND;TZID=America/Halifax:20280121T140000
DTSTAMP:20260423T114310
CREATED:20250902T121428Z
LAST-MODIFIED:20250902T121428Z
UID:10007210-1832061600-1832076000@harveyruralcommunity.ca
SUMMARY:The Gathering Place
DESCRIPTION:Open every Monday and Friday\, from 10am to 2pm – The Gathering Place is a welcoming space for you to: \n\nMeet up with friends and make new ones 👱‍♂️ 👩‍🦳.\nRelax with tea and coffee 🍵.\nEnjoy lively discussions and engaging activities ♟.\n\n  \nLocated at the Harvey Curling Club.
URL:https://harveyruralcommunity.ca/event/the-gathering-place/2028-01-21/
END:VEVENT
BEGIN:VEVENT
DTSTART;TZID=America/Halifax:20280124T100000
DTEND;TZID=America/Halifax:20280124T140000
DTSTAMP:20260423T114310
CREATED:20250902T121428Z
LAST-MODIFIED:20250902T121428Z
UID:10007211-1832320800-1832335200@harveyruralcommunity.ca
SUMMARY:The Gathering Place
DESCRIPTION:Open every Monday and Friday\, from 10am to 2pm – The Gathering Place is a welcoming space for you to: \n\nMeet up with friends and make new ones 👱‍♂️ 👩‍🦳.\nRelax with tea and coffee 🍵.\nEnjoy lively discussions and engaging activities ♟.\n\n  \nLocated at the Harvey Curling Club.
URL:https://harveyruralcommunity.ca/event/the-gathering-place/2028-01-24/
END:VEVENT
BEGIN:VEVENT
DTSTART;TZID=America/Halifax:20280128T100000
DTEND;TZID=America/Halifax:20280128T140000
DTSTAMP:20260423T114310
CREATED:20250902T121428Z
LAST-MODIFIED:20250902T121428Z
UID:10007212-1832666400-1832680800@harveyruralcommunity.ca
SUMMARY:The Gathering Place
DESCRIPTION:Open every Monday and Friday\, from 10am to 2pm – The Gathering Place is a welcoming space for you to: \n\nMeet up with friends and make new ones 👱‍♂️ 👩‍🦳.\nRelax with tea and coffee 🍵.\nEnjoy lively discussions and engaging activities ♟.\n\n  \nLocated at the Harvey Curling Club.
URL:https://harveyruralcommunity.ca/event/the-gathering-place/2028-01-28/
END:VEVENT
BEGIN:VEVENT
DTSTART;TZID=America/Halifax:20280131T100000
DTEND;TZID=America/Halifax:20280131T140000
DTSTAMP:20260423T114310
CREATED:20250902T121428Z
LAST-MODIFIED:20250902T121428Z
UID:10007213-1832925600-1832940000@harveyruralcommunity.ca
SUMMARY:The Gathering Place
DESCRIPTION:Open every Monday and Friday\, from 10am to 2pm – The Gathering Place is a welcoming space for you to: \n\nMeet up with friends and make new ones 👱‍♂️ 👩‍🦳.\nRelax with tea and coffee 🍵.\nEnjoy lively discussions and engaging activities ♟.\n\n  \nLocated at the Harvey Curling Club.
URL:https://harveyruralcommunity.ca/event/the-gathering-place/2028-01-31/
END:VEVENT
END:VCALENDAR