BEGIN:VCALENDAR
VERSION:2.0
PRODID:-//Harvey Rural Community - ECPv6.6.1//NONSGML v1.0//EN
CALSCALE:GREGORIAN
METHOD:PUBLISH
X-WR-CALNAME:Harvey Rural Community
X-ORIGINAL-URL:https://harveyruralcommunity.ca
X-WR-CALDESC:Events for Harvey Rural Community
BEGIN:VTIMEZONE
TZID:America/Halifax
BEGIN:DAYLIGHT
TZOFFSETFROM:-0400
TZOFFSETTO:-0300
TZNAME:ADT
DTSTART:20280312T060000
END:DAYLIGHT
BEGIN:STANDARD
TZOFFSETFROM:-0300
TZOFFSETTO:-0400
TZNAME:AST
DTSTART:20281105T050000
END:STANDARD
END:VTIMEZONE
BEGIN:VEVENT
DTSTART;TZID=America/Halifax:20280225T100000
DTEND;TZID=America/Halifax:20280225T140000
DTSTAMP:20260423T163629
CREATED:20250902T121428Z
LAST-MODIFIED:20250902T121428Z
UID:10007220-1835085600-1835100000@harveyruralcommunity.ca
SUMMARY:The Gathering Place
DESCRIPTION:Open every Monday and Friday\, from 10am to 2pm – The Gathering Place is a welcoming space for you to: \n\nMeet up with friends and make new ones 👱‍♂️ 👩‍🦳.\nRelax with tea and coffee 🍵.\nEnjoy lively discussions and engaging activities ♟.\n\n  \nLocated at the Harvey Curling Club.
URL:https://harveyruralcommunity.ca/event/the-gathering-place/2028-02-25/
END:VEVENT
BEGIN:VEVENT
DTSTART;TZID=America/Halifax:20280228T100000
DTEND;TZID=America/Halifax:20280228T140000
DTSTAMP:20260423T163629
CREATED:20250902T121428Z
LAST-MODIFIED:20250902T121428Z
UID:10007221-1835344800-1835359200@harveyruralcommunity.ca
SUMMARY:The Gathering Place
DESCRIPTION:Open every Monday and Friday\, from 10am to 2pm – The Gathering Place is a welcoming space for you to: \n\nMeet up with friends and make new ones 👱‍♂️ 👩‍🦳.\nRelax with tea and coffee 🍵.\nEnjoy lively discussions and engaging activities ♟.\n\n  \nLocated at the Harvey Curling Club.
URL:https://harveyruralcommunity.ca/event/the-gathering-place/2028-02-28/
END:VEVENT
BEGIN:VEVENT
DTSTART;TZID=America/Halifax:20280303T100000
DTEND;TZID=America/Halifax:20280303T140000
DTSTAMP:20260423T163629
CREATED:20250902T121428Z
LAST-MODIFIED:20250902T121428Z
UID:10007222-1835690400-1835704800@harveyruralcommunity.ca
SUMMARY:The Gathering Place
DESCRIPTION:Open every Monday and Friday\, from 10am to 2pm – The Gathering Place is a welcoming space for you to: \n\nMeet up with friends and make new ones 👱‍♂️ 👩‍🦳.\nRelax with tea and coffee 🍵.\nEnjoy lively discussions and engaging activities ♟.\n\n  \nLocated at the Harvey Curling Club.
URL:https://harveyruralcommunity.ca/event/the-gathering-place/2028-03-03/
END:VEVENT
BEGIN:VEVENT
DTSTART;TZID=America/Halifax:20280306T100000
DTEND;TZID=America/Halifax:20280306T140000
DTSTAMP:20260423T163629
CREATED:20250902T121428Z
LAST-MODIFIED:20250902T121428Z
UID:10007223-1835949600-1835964000@harveyruralcommunity.ca
SUMMARY:The Gathering Place
DESCRIPTION:Open every Monday and Friday\, from 10am to 2pm – The Gathering Place is a welcoming space for you to: \n\nMeet up with friends and make new ones 👱‍♂️ 👩‍🦳.\nRelax with tea and coffee 🍵.\nEnjoy lively discussions and engaging activities ♟.\n\n  \nLocated at the Harvey Curling Club.
URL:https://harveyruralcommunity.ca/event/the-gathering-place/2028-03-06/
END:VEVENT
BEGIN:VEVENT
DTSTART;TZID=America/Halifax:20280310T100000
DTEND;TZID=America/Halifax:20280310T140000
DTSTAMP:20260423T163629
CREATED:20250902T121428Z
LAST-MODIFIED:20250902T121428Z
UID:10007224-1836295200-1836309600@harveyruralcommunity.ca
SUMMARY:The Gathering Place
DESCRIPTION:Open every Monday and Friday\, from 10am to 2pm – The Gathering Place is a welcoming space for you to: \n\nMeet up with friends and make new ones 👱‍♂️ 👩‍🦳.\nRelax with tea and coffee 🍵.\nEnjoy lively discussions and engaging activities ♟.\n\n  \nLocated at the Harvey Curling Club.
URL:https://harveyruralcommunity.ca/event/the-gathering-place/2028-03-10/
END:VEVENT
BEGIN:VEVENT
DTSTART;TZID=America/Halifax:20280313T100000
DTEND;TZID=America/Halifax:20280313T140000
DTSTAMP:20260423T163629
CREATED:20250902T121428Z
LAST-MODIFIED:20250902T121428Z
UID:10007225-1836554400-1836568800@harveyruralcommunity.ca
SUMMARY:The Gathering Place
DESCRIPTION:Open every Monday and Friday\, from 10am to 2pm – The Gathering Place is a welcoming space for you to: \n\nMeet up with friends and make new ones 👱‍♂️ 👩‍🦳.\nRelax with tea and coffee 🍵.\nEnjoy lively discussions and engaging activities ♟.\n\n  \nLocated at the Harvey Curling Club.
URL:https://harveyruralcommunity.ca/event/the-gathering-place/2028-03-13/
END:VEVENT
BEGIN:VEVENT
DTSTART;TZID=America/Halifax:20280317T100000
DTEND;TZID=America/Halifax:20280317T140000
DTSTAMP:20260423T163629
CREATED:20250902T121428Z
LAST-MODIFIED:20250902T121428Z
UID:10007226-1836900000-1836914400@harveyruralcommunity.ca
SUMMARY:The Gathering Place
DESCRIPTION:Open every Monday and Friday\, from 10am to 2pm – The Gathering Place is a welcoming space for you to: \n\nMeet up with friends and make new ones 👱‍♂️ 👩‍🦳.\nRelax with tea and coffee 🍵.\nEnjoy lively discussions and engaging activities ♟.\n\n  \nLocated at the Harvey Curling Club.
URL:https://harveyruralcommunity.ca/event/the-gathering-place/2028-03-17/
END:VEVENT
BEGIN:VEVENT
DTSTART;TZID=America/Halifax:20280320T100000
DTEND;TZID=America/Halifax:20280320T140000
DTSTAMP:20260423T163629
CREATED:20250902T121428Z
LAST-MODIFIED:20250902T121428Z
UID:10007227-1837159200-1837173600@harveyruralcommunity.ca
SUMMARY:The Gathering Place
DESCRIPTION:Open every Monday and Friday\, from 10am to 2pm – The Gathering Place is a welcoming space for you to: \n\nMeet up with friends and make new ones 👱‍♂️ 👩‍🦳.\nRelax with tea and coffee 🍵.\nEnjoy lively discussions and engaging activities ♟.\n\n  \nLocated at the Harvey Curling Club.
URL:https://harveyruralcommunity.ca/event/the-gathering-place/2028-03-20/
END:VEVENT
BEGIN:VEVENT
DTSTART;TZID=America/Halifax:20280324T100000
DTEND;TZID=America/Halifax:20280324T140000
DTSTAMP:20260423T163629
CREATED:20250902T121428Z
LAST-MODIFIED:20250902T121428Z
UID:10007228-1837504800-1837519200@harveyruralcommunity.ca
SUMMARY:The Gathering Place
DESCRIPTION:Open every Monday and Friday\, from 10am to 2pm – The Gathering Place is a welcoming space for you to: \n\nMeet up with friends and make new ones 👱‍♂️ 👩‍🦳.\nRelax with tea and coffee 🍵.\nEnjoy lively discussions and engaging activities ♟.\n\n  \nLocated at the Harvey Curling Club.
URL:https://harveyruralcommunity.ca/event/the-gathering-place/2028-03-24/
END:VEVENT
BEGIN:VEVENT
DTSTART;TZID=America/Halifax:20280327T100000
DTEND;TZID=America/Halifax:20280327T140000
DTSTAMP:20260423T163629
CREATED:20250902T121428Z
LAST-MODIFIED:20250902T121428Z
UID:10007229-1837764000-1837778400@harveyruralcommunity.ca
SUMMARY:The Gathering Place
DESCRIPTION:Open every Monday and Friday\, from 10am to 2pm – The Gathering Place is a welcoming space for you to: \n\nMeet up with friends and make new ones 👱‍♂️ 👩‍🦳.\nRelax with tea and coffee 🍵.\nEnjoy lively discussions and engaging activities ♟.\n\n  \nLocated at the Harvey Curling Club.
URL:https://harveyruralcommunity.ca/event/the-gathering-place/2028-03-27/
END:VEVENT
BEGIN:VEVENT
DTSTART;TZID=America/Halifax:20280331T100000
DTEND;TZID=America/Halifax:20280331T140000
DTSTAMP:20260423T163629
CREATED:20250902T121428Z
LAST-MODIFIED:20250902T121428Z
UID:10007230-1838109600-1838124000@harveyruralcommunity.ca
SUMMARY:The Gathering Place
DESCRIPTION:Open every Monday and Friday\, from 10am to 2pm – The Gathering Place is a welcoming space for you to: \n\nMeet up with friends and make new ones 👱‍♂️ 👩‍🦳.\nRelax with tea and coffee 🍵.\nEnjoy lively discussions and engaging activities ♟.\n\n  \nLocated at the Harvey Curling Club.
URL:https://harveyruralcommunity.ca/event/the-gathering-place/2028-03-31/
END:VEVENT
BEGIN:VEVENT
DTSTART;TZID=America/Halifax:20280403T100000
DTEND;TZID=America/Halifax:20280403T140000
DTSTAMP:20260423T163629
CREATED:20250902T121428Z
LAST-MODIFIED:20250902T121428Z
UID:10007231-1838368800-1838383200@harveyruralcommunity.ca
SUMMARY:The Gathering Place
DESCRIPTION:Open every Monday and Friday\, from 10am to 2pm – The Gathering Place is a welcoming space for you to: \n\nMeet up with friends and make new ones 👱‍♂️ 👩‍🦳.\nRelax with tea and coffee 🍵.\nEnjoy lively discussions and engaging activities ♟.\n\n  \nLocated at the Harvey Curling Club.
URL:https://harveyruralcommunity.ca/event/the-gathering-place/2028-04-03/
END:VEVENT
BEGIN:VEVENT
DTSTART;TZID=America/Halifax:20280407T100000
DTEND;TZID=America/Halifax:20280407T140000
DTSTAMP:20260423T163629
CREATED:20250902T121428Z
LAST-MODIFIED:20250902T121428Z
UID:10007232-1838714400-1838728800@harveyruralcommunity.ca
SUMMARY:The Gathering Place
DESCRIPTION:Open every Monday and Friday\, from 10am to 2pm – The Gathering Place is a welcoming space for you to: \n\nMeet up with friends and make new ones 👱‍♂️ 👩‍🦳.\nRelax with tea and coffee 🍵.\nEnjoy lively discussions and engaging activities ♟.\n\n  \nLocated at the Harvey Curling Club.
URL:https://harveyruralcommunity.ca/event/the-gathering-place/2028-04-07/
END:VEVENT
BEGIN:VEVENT
DTSTART;TZID=America/Halifax:20280410T100000
DTEND;TZID=America/Halifax:20280410T140000
DTSTAMP:20260423T163629
CREATED:20250902T121428Z
LAST-MODIFIED:20250902T121428Z
UID:10007233-1838973600-1838988000@harveyruralcommunity.ca
SUMMARY:The Gathering Place
DESCRIPTION:Open every Monday and Friday\, from 10am to 2pm – The Gathering Place is a welcoming space for you to: \n\nMeet up with friends and make new ones 👱‍♂️ 👩‍🦳.\nRelax with tea and coffee 🍵.\nEnjoy lively discussions and engaging activities ♟.\n\n  \nLocated at the Harvey Curling Club.
URL:https://harveyruralcommunity.ca/event/the-gathering-place/2028-04-10/
END:VEVENT
BEGIN:VEVENT
DTSTART;TZID=America/Halifax:20280414T100000
DTEND;TZID=America/Halifax:20280414T140000
DTSTAMP:20260423T163629
CREATED:20250902T121428Z
LAST-MODIFIED:20250902T121428Z
UID:10007234-1839319200-1839333600@harveyruralcommunity.ca
SUMMARY:The Gathering Place
DESCRIPTION:Open every Monday and Friday\, from 10am to 2pm – The Gathering Place is a welcoming space for you to: \n\nMeet up with friends and make new ones 👱‍♂️ 👩‍🦳.\nRelax with tea and coffee 🍵.\nEnjoy lively discussions and engaging activities ♟.\n\n  \nLocated at the Harvey Curling Club.
URL:https://harveyruralcommunity.ca/event/the-gathering-place/2028-04-14/
END:VEVENT
BEGIN:VEVENT
DTSTART;TZID=America/Halifax:20280417T100000
DTEND;TZID=America/Halifax:20280417T140000
DTSTAMP:20260423T163629
CREATED:20250902T121428Z
LAST-MODIFIED:20250902T121428Z
UID:10007235-1839578400-1839592800@harveyruralcommunity.ca
SUMMARY:The Gathering Place
DESCRIPTION:Open every Monday and Friday\, from 10am to 2pm – The Gathering Place is a welcoming space for you to: \n\nMeet up with friends and make new ones 👱‍♂️ 👩‍🦳.\nRelax with tea and coffee 🍵.\nEnjoy lively discussions and engaging activities ♟.\n\n  \nLocated at the Harvey Curling Club.
URL:https://harveyruralcommunity.ca/event/the-gathering-place/2028-04-17/
END:VEVENT
BEGIN:VEVENT
DTSTART;TZID=America/Halifax:20280421T100000
DTEND;TZID=America/Halifax:20280421T140000
DTSTAMP:20260423T163629
CREATED:20250902T121428Z
LAST-MODIFIED:20250902T121428Z
UID:10007236-1839924000-1839938400@harveyruralcommunity.ca
SUMMARY:The Gathering Place
DESCRIPTION:Open every Monday and Friday\, from 10am to 2pm – The Gathering Place is a welcoming space for you to: \n\nMeet up with friends and make new ones 👱‍♂️ 👩‍🦳.\nRelax with tea and coffee 🍵.\nEnjoy lively discussions and engaging activities ♟.\n\n  \nLocated at the Harvey Curling Club.
URL:https://harveyruralcommunity.ca/event/the-gathering-place/2028-04-21/
END:VEVENT
BEGIN:VEVENT
DTSTART;TZID=America/Halifax:20280424T100000
DTEND;TZID=America/Halifax:20280424T140000
DTSTAMP:20260423T163629
CREATED:20250902T121428Z
LAST-MODIFIED:20250902T121428Z
UID:10007237-1840183200-1840197600@harveyruralcommunity.ca
SUMMARY:The Gathering Place
DESCRIPTION:Open every Monday and Friday\, from 10am to 2pm – The Gathering Place is a welcoming space for you to: \n\nMeet up with friends and make new ones 👱‍♂️ 👩‍🦳.\nRelax with tea and coffee 🍵.\nEnjoy lively discussions and engaging activities ♟.\n\n  \nLocated at the Harvey Curling Club.
URL:https://harveyruralcommunity.ca/event/the-gathering-place/2028-04-24/
END:VEVENT
BEGIN:VEVENT
DTSTART;TZID=America/Halifax:20280428T100000
DTEND;TZID=America/Halifax:20280428T140000
DTSTAMP:20260423T163629
CREATED:20250902T121428Z
LAST-MODIFIED:20250902T121428Z
UID:10007238-1840528800-1840543200@harveyruralcommunity.ca
SUMMARY:The Gathering Place
DESCRIPTION:Open every Monday and Friday\, from 10am to 2pm – The Gathering Place is a welcoming space for you to: \n\nMeet up with friends and make new ones 👱‍♂️ 👩‍🦳.\nRelax with tea and coffee 🍵.\nEnjoy lively discussions and engaging activities ♟.\n\n  \nLocated at the Harvey Curling Club.
URL:https://harveyruralcommunity.ca/event/the-gathering-place/2028-04-28/
END:VEVENT
BEGIN:VEVENT
DTSTART;TZID=America/Halifax:20280501T100000
DTEND;TZID=America/Halifax:20280501T140000
DTSTAMP:20260423T163629
CREATED:20250902T121428Z
LAST-MODIFIED:20250902T121428Z
UID:10007239-1840788000-1840802400@harveyruralcommunity.ca
SUMMARY:The Gathering Place
DESCRIPTION:Open every Monday and Friday\, from 10am to 2pm – The Gathering Place is a welcoming space for you to: \n\nMeet up with friends and make new ones 👱‍♂️ 👩‍🦳.\nRelax with tea and coffee 🍵.\nEnjoy lively discussions and engaging activities ♟.\n\n  \nLocated at the Harvey Curling Club.
URL:https://harveyruralcommunity.ca/event/the-gathering-place/2028-05-01/
END:VEVENT
BEGIN:VEVENT
DTSTART;TZID=America/Halifax:20280505T100000
DTEND;TZID=America/Halifax:20280505T140000
DTSTAMP:20260423T163629
CREATED:20250902T121428Z
LAST-MODIFIED:20250902T121428Z
UID:10007240-1841133600-1841148000@harveyruralcommunity.ca
SUMMARY:The Gathering Place
DESCRIPTION:Open every Monday and Friday\, from 10am to 2pm – The Gathering Place is a welcoming space for you to: \n\nMeet up with friends and make new ones 👱‍♂️ 👩‍🦳.\nRelax with tea and coffee 🍵.\nEnjoy lively discussions and engaging activities ♟.\n\n  \nLocated at the Harvey Curling Club.
URL:https://harveyruralcommunity.ca/event/the-gathering-place/2028-05-05/
END:VEVENT
BEGIN:VEVENT
DTSTART;TZID=America/Halifax:20280508T100000
DTEND;TZID=America/Halifax:20280508T140000
DTSTAMP:20260423T163629
CREATED:20250902T121428Z
LAST-MODIFIED:20250902T121428Z
UID:10007241-1841392800-1841407200@harveyruralcommunity.ca
SUMMARY:The Gathering Place
DESCRIPTION:Open every Monday and Friday\, from 10am to 2pm – The Gathering Place is a welcoming space for you to: \n\nMeet up with friends and make new ones 👱‍♂️ 👩‍🦳.\nRelax with tea and coffee 🍵.\nEnjoy lively discussions and engaging activities ♟.\n\n  \nLocated at the Harvey Curling Club.
URL:https://harveyruralcommunity.ca/event/the-gathering-place/2028-05-08/
END:VEVENT
BEGIN:VEVENT
DTSTART;TZID=America/Halifax:20280512T100000
DTEND;TZID=America/Halifax:20280512T140000
DTSTAMP:20260423T163629
CREATED:20250902T121428Z
LAST-MODIFIED:20250902T121428Z
UID:10007242-1841738400-1841752800@harveyruralcommunity.ca
SUMMARY:The Gathering Place
DESCRIPTION:Open every Monday and Friday\, from 10am to 2pm – The Gathering Place is a welcoming space for you to: \n\nMeet up with friends and make new ones 👱‍♂️ 👩‍🦳.\nRelax with tea and coffee 🍵.\nEnjoy lively discussions and engaging activities ♟.\n\n  \nLocated at the Harvey Curling Club.
URL:https://harveyruralcommunity.ca/event/the-gathering-place/2028-05-12/
END:VEVENT
BEGIN:VEVENT
DTSTART;TZID=America/Halifax:20280515T100000
DTEND;TZID=America/Halifax:20280515T140000
DTSTAMP:20260423T163629
CREATED:20250902T121428Z
LAST-MODIFIED:20250902T121428Z
UID:10007243-1841997600-1842012000@harveyruralcommunity.ca
SUMMARY:The Gathering Place
DESCRIPTION:Open every Monday and Friday\, from 10am to 2pm – The Gathering Place is a welcoming space for you to: \n\nMeet up with friends and make new ones 👱‍♂️ 👩‍🦳.\nRelax with tea and coffee 🍵.\nEnjoy lively discussions and engaging activities ♟.\n\n  \nLocated at the Harvey Curling Club.
URL:https://harveyruralcommunity.ca/event/the-gathering-place/2028-05-15/
END:VEVENT
BEGIN:VEVENT
DTSTART;TZID=America/Halifax:20280519T100000
DTEND;TZID=America/Halifax:20280519T140000
DTSTAMP:20260423T163629
CREATED:20250902T121428Z
LAST-MODIFIED:20250902T121428Z
UID:10007244-1842343200-1842357600@harveyruralcommunity.ca
SUMMARY:The Gathering Place
DESCRIPTION:Open every Monday and Friday\, from 10am to 2pm – The Gathering Place is a welcoming space for you to: \n\nMeet up with friends and make new ones 👱‍♂️ 👩‍🦳.\nRelax with tea and coffee 🍵.\nEnjoy lively discussions and engaging activities ♟.\n\n  \nLocated at the Harvey Curling Club.
URL:https://harveyruralcommunity.ca/event/the-gathering-place/2028-05-19/
END:VEVENT
BEGIN:VEVENT
DTSTART;TZID=America/Halifax:20280522T100000
DTEND;TZID=America/Halifax:20280522T140000
DTSTAMP:20260423T163629
CREATED:20250902T121428Z
LAST-MODIFIED:20250902T121428Z
UID:10007245-1842602400-1842616800@harveyruralcommunity.ca
SUMMARY:The Gathering Place
DESCRIPTION:Open every Monday and Friday\, from 10am to 2pm – The Gathering Place is a welcoming space for you to: \n\nMeet up with friends and make new ones 👱‍♂️ 👩‍🦳.\nRelax with tea and coffee 🍵.\nEnjoy lively discussions and engaging activities ♟.\n\n  \nLocated at the Harvey Curling Club.
URL:https://harveyruralcommunity.ca/event/the-gathering-place/2028-05-22/
END:VEVENT
BEGIN:VEVENT
DTSTART;TZID=America/Halifax:20280526T100000
DTEND;TZID=America/Halifax:20280526T140000
DTSTAMP:20260423T163629
CREATED:20250902T121428Z
LAST-MODIFIED:20250902T121428Z
UID:10007246-1842948000-1842962400@harveyruralcommunity.ca
SUMMARY:The Gathering Place
DESCRIPTION:Open every Monday and Friday\, from 10am to 2pm – The Gathering Place is a welcoming space for you to: \n\nMeet up with friends and make new ones 👱‍♂️ 👩‍🦳.\nRelax with tea and coffee 🍵.\nEnjoy lively discussions and engaging activities ♟.\n\n  \nLocated at the Harvey Curling Club.
URL:https://harveyruralcommunity.ca/event/the-gathering-place/2028-05-26/
END:VEVENT
BEGIN:VEVENT
DTSTART;TZID=America/Halifax:20280529T100000
DTEND;TZID=America/Halifax:20280529T140000
DTSTAMP:20260423T163629
CREATED:20250902T121428Z
LAST-MODIFIED:20250902T121428Z
UID:10007247-1843207200-1843221600@harveyruralcommunity.ca
SUMMARY:The Gathering Place
DESCRIPTION:Open every Monday and Friday\, from 10am to 2pm – The Gathering Place is a welcoming space for you to: \n\nMeet up with friends and make new ones 👱‍♂️ 👩‍🦳.\nRelax with tea and coffee 🍵.\nEnjoy lively discussions and engaging activities ♟.\n\n  \nLocated at the Harvey Curling Club.
URL:https://harveyruralcommunity.ca/event/the-gathering-place/2028-05-29/
END:VEVENT
BEGIN:VEVENT
DTSTART;TZID=America/Halifax:20280602T100000
DTEND;TZID=America/Halifax:20280602T140000
DTSTAMP:20260423T163629
CREATED:20250902T121428Z
LAST-MODIFIED:20250902T121428Z
UID:10007248-1843552800-1843567200@harveyruralcommunity.ca
SUMMARY:The Gathering Place
DESCRIPTION:Open every Monday and Friday\, from 10am to 2pm – The Gathering Place is a welcoming space for you to: \n\nMeet up with friends and make new ones 👱‍♂️ 👩‍🦳.\nRelax with tea and coffee 🍵.\nEnjoy lively discussions and engaging activities ♟.\n\n  \nLocated at the Harvey Curling Club.
URL:https://harveyruralcommunity.ca/event/the-gathering-place/2028-06-02/
END:VEVENT
BEGIN:VEVENT
DTSTART;TZID=America/Halifax:20280605T100000
DTEND;TZID=America/Halifax:20280605T140000
DTSTAMP:20260423T163629
CREATED:20250902T121428Z
LAST-MODIFIED:20250902T121428Z
UID:10007249-1843812000-1843826400@harveyruralcommunity.ca
SUMMARY:The Gathering Place
DESCRIPTION:Open every Monday and Friday\, from 10am to 2pm – The Gathering Place is a welcoming space for you to: \n\nMeet up with friends and make new ones 👱‍♂️ 👩‍🦳.\nRelax with tea and coffee 🍵.\nEnjoy lively discussions and engaging activities ♟.\n\n  \nLocated at the Harvey Curling Club.
URL:https://harveyruralcommunity.ca/event/the-gathering-place/2028-06-05/
END:VEVENT
END:VCALENDAR