BEGIN:VCALENDAR
VERSION:2.0
PRODID:-//Harvey Rural Community - ECPv6.6.1//NONSGML v1.0//EN
CALSCALE:GREGORIAN
METHOD:PUBLISH
X-WR-CALNAME:Harvey Rural Community
X-ORIGINAL-URL:https://harveyruralcommunity.ca
X-WR-CALDESC:Events for Harvey Rural Community
BEGIN:VTIMEZONE
TZID:America/Halifax
BEGIN:DAYLIGHT
TZOFFSETFROM:-0400
TZOFFSETTO:-0300
TZNAME:ADT
DTSTART:20260308T060000
END:DAYLIGHT
BEGIN:STANDARD
TZOFFSETFROM:-0300
TZOFFSETTO:-0400
TZNAME:AST
DTSTART:20261101T050000
END:STANDARD
BEGIN:DAYLIGHT
TZOFFSETFROM:-0400
TZOFFSETTO:-0300
TZNAME:ADT
DTSTART:20270314T060000
END:DAYLIGHT
BEGIN:STANDARD
TZOFFSETFROM:-0300
TZOFFSETTO:-0400
TZNAME:AST
DTSTART:20271107T050000
END:STANDARD
END:VTIMEZONE
BEGIN:VEVENT
DTSTART;TZID=America/Halifax:20260720T190000
DTEND;TZID=America/Halifax:20260720T220000
DTSTAMP:20260422T160035
CREATED:20230517T141949Z
LAST-MODIFIED:20240523T164954Z
UID:10003576-1784574000-1784584800@harveyruralcommunity.ca
SUMMARY:Lions Club Bingo
DESCRIPTION:Monday Nights at the Harvey Lions club. Visit their Facebook page for more information
URL:https://harveyruralcommunity.ca/event/lions-club-bingo/2026-07-20/
LOCATION:Harvey Lions Club\, 4722 NB-640\, Harvey\, NB E6K 3W9
CATEGORIES:Games
END:VEVENT
BEGIN:VEVENT
DTSTART;TZID=America/Halifax:20260727T190000
DTEND;TZID=America/Halifax:20260727T220000
DTSTAMP:20260422T160035
CREATED:20230517T141949Z
LAST-MODIFIED:20240523T164954Z
UID:10003577-1785178800-1785189600@harveyruralcommunity.ca
SUMMARY:Lions Club Bingo
DESCRIPTION:Monday Nights at the Harvey Lions club. Visit their Facebook page for more information
URL:https://harveyruralcommunity.ca/event/lions-club-bingo/2026-07-27/
LOCATION:Harvey Lions Club\, 4722 NB-640\, Harvey\, NB E6K 3W9
CATEGORIES:Games
END:VEVENT
BEGIN:VEVENT
DTSTART;TZID=America/Halifax:20260803T190000
DTEND;TZID=America/Halifax:20260803T220000
DTSTAMP:20260422T160035
CREATED:20230517T141949Z
LAST-MODIFIED:20240523T164954Z
UID:10003578-1785783600-1785794400@harveyruralcommunity.ca
SUMMARY:Lions Club Bingo
DESCRIPTION:Monday Nights at the Harvey Lions club. Visit their Facebook page for more information
URL:https://harveyruralcommunity.ca/event/lions-club-bingo/2026-08-03/
LOCATION:Harvey Lions Club\, 4722 NB-640\, Harvey\, NB E6K 3W9
CATEGORIES:Games
END:VEVENT
BEGIN:VEVENT
DTSTART;TZID=America/Halifax:20260810T190000
DTEND;TZID=America/Halifax:20260810T220000
DTSTAMP:20260422T160035
CREATED:20230517T141949Z
LAST-MODIFIED:20240523T164954Z
UID:10003579-1786388400-1786399200@harveyruralcommunity.ca
SUMMARY:Lions Club Bingo
DESCRIPTION:Monday Nights at the Harvey Lions club. Visit their Facebook page for more information
URL:https://harveyruralcommunity.ca/event/lions-club-bingo/2026-08-10/
LOCATION:Harvey Lions Club\, 4722 NB-640\, Harvey\, NB E6K 3W9
CATEGORIES:Games
END:VEVENT
BEGIN:VEVENT
DTSTART;TZID=America/Halifax:20260817T190000
DTEND;TZID=America/Halifax:20260817T220000
DTSTAMP:20260422T160035
CREATED:20230517T141949Z
LAST-MODIFIED:20240523T164954Z
UID:10003580-1786993200-1787004000@harveyruralcommunity.ca
SUMMARY:Lions Club Bingo
DESCRIPTION:Monday Nights at the Harvey Lions club. Visit their Facebook page for more information
URL:https://harveyruralcommunity.ca/event/lions-club-bingo/2026-08-17/
LOCATION:Harvey Lions Club\, 4722 NB-640\, Harvey\, NB E6K 3W9
CATEGORIES:Games
END:VEVENT
BEGIN:VEVENT
DTSTART;TZID=America/Halifax:20260824T190000
DTEND;TZID=America/Halifax:20260824T220000
DTSTAMP:20260422T160035
CREATED:20230517T141949Z
LAST-MODIFIED:20240523T164954Z
UID:10003581-1787598000-1787608800@harveyruralcommunity.ca
SUMMARY:Lions Club Bingo
DESCRIPTION:Monday Nights at the Harvey Lions club. Visit their Facebook page for more information
URL:https://harveyruralcommunity.ca/event/lions-club-bingo/2026-08-24/
LOCATION:Harvey Lions Club\, 4722 NB-640\, Harvey\, NB E6K 3W9
CATEGORIES:Games
END:VEVENT
BEGIN:VEVENT
DTSTART;TZID=America/Halifax:20260831T190000
DTEND;TZID=America/Halifax:20260831T220000
DTSTAMP:20260422T160035
CREATED:20230517T141949Z
LAST-MODIFIED:20240523T164954Z
UID:10003582-1788202800-1788213600@harveyruralcommunity.ca
SUMMARY:Lions Club Bingo
DESCRIPTION:Monday Nights at the Harvey Lions club. Visit their Facebook page for more information
URL:https://harveyruralcommunity.ca/event/lions-club-bingo/2026-08-31/
LOCATION:Harvey Lions Club\, 4722 NB-640\, Harvey\, NB E6K 3W9
CATEGORIES:Games
END:VEVENT
BEGIN:VEVENT
DTSTART;TZID=America/Halifax:20260907T190000
DTEND;TZID=America/Halifax:20260907T220000
DTSTAMP:20260422T160035
CREATED:20230517T141949Z
LAST-MODIFIED:20240523T164954Z
UID:10003583-1788807600-1788818400@harveyruralcommunity.ca
SUMMARY:Lions Club Bingo
DESCRIPTION:Monday Nights at the Harvey Lions club. Visit their Facebook page for more information
URL:https://harveyruralcommunity.ca/event/lions-club-bingo/2026-09-07/
LOCATION:Harvey Lions Club\, 4722 NB-640\, Harvey\, NB E6K 3W9
CATEGORIES:Games
END:VEVENT
BEGIN:VEVENT
DTSTART;TZID=America/Halifax:20260914T190000
DTEND;TZID=America/Halifax:20260914T220000
DTSTAMP:20260422T160035
CREATED:20230517T141949Z
LAST-MODIFIED:20240523T164954Z
UID:10003584-1789412400-1789423200@harveyruralcommunity.ca
SUMMARY:Lions Club Bingo
DESCRIPTION:Monday Nights at the Harvey Lions club. Visit their Facebook page for more information
URL:https://harveyruralcommunity.ca/event/lions-club-bingo/2026-09-14/
LOCATION:Harvey Lions Club\, 4722 NB-640\, Harvey\, NB E6K 3W9
CATEGORIES:Games
END:VEVENT
BEGIN:VEVENT
DTSTART;TZID=America/Halifax:20260921T190000
DTEND;TZID=America/Halifax:20260921T220000
DTSTAMP:20260422T160035
CREATED:20230517T141949Z
LAST-MODIFIED:20240523T164954Z
UID:10003585-1790017200-1790028000@harveyruralcommunity.ca
SUMMARY:Lions Club Bingo
DESCRIPTION:Monday Nights at the Harvey Lions club. Visit their Facebook page for more information
URL:https://harveyruralcommunity.ca/event/lions-club-bingo/2026-09-21/
LOCATION:Harvey Lions Club\, 4722 NB-640\, Harvey\, NB E6K 3W9
CATEGORIES:Games
END:VEVENT
BEGIN:VEVENT
DTSTART;TZID=America/Halifax:20260928T190000
DTEND;TZID=America/Halifax:20260928T220000
DTSTAMP:20260422T160035
CREATED:20230517T141949Z
LAST-MODIFIED:20240523T164954Z
UID:10003586-1790622000-1790632800@harveyruralcommunity.ca
SUMMARY:Lions Club Bingo
DESCRIPTION:Monday Nights at the Harvey Lions club. Visit their Facebook page for more information
URL:https://harveyruralcommunity.ca/event/lions-club-bingo/2026-09-28/
LOCATION:Harvey Lions Club\, 4722 NB-640\, Harvey\, NB E6K 3W9
CATEGORIES:Games
END:VEVENT
BEGIN:VEVENT
DTSTART;TZID=America/Halifax:20261005T190000
DTEND;TZID=America/Halifax:20261005T220000
DTSTAMP:20260422T160035
CREATED:20230517T141949Z
LAST-MODIFIED:20240523T164954Z
UID:10003587-1791226800-1791237600@harveyruralcommunity.ca
SUMMARY:Lions Club Bingo
DESCRIPTION:Monday Nights at the Harvey Lions club. Visit their Facebook page for more information
URL:https://harveyruralcommunity.ca/event/lions-club-bingo/2026-10-05/
LOCATION:Harvey Lions Club\, 4722 NB-640\, Harvey\, NB E6K 3W9
CATEGORIES:Games
END:VEVENT
BEGIN:VEVENT
DTSTART;TZID=America/Halifax:20261012T190000
DTEND;TZID=America/Halifax:20261012T220000
DTSTAMP:20260422T160035
CREATED:20230517T141949Z
LAST-MODIFIED:20240523T164954Z
UID:10003588-1791831600-1791842400@harveyruralcommunity.ca
SUMMARY:Lions Club Bingo
DESCRIPTION:Monday Nights at the Harvey Lions club. Visit their Facebook page for more information
URL:https://harveyruralcommunity.ca/event/lions-club-bingo/2026-10-12/
LOCATION:Harvey Lions Club\, 4722 NB-640\, Harvey\, NB E6K 3W9
CATEGORIES:Games
END:VEVENT
BEGIN:VEVENT
DTSTART;TZID=America/Halifax:20261019T190000
DTEND;TZID=America/Halifax:20261019T220000
DTSTAMP:20260422T160035
CREATED:20230517T141949Z
LAST-MODIFIED:20240523T164954Z
UID:10003589-1792436400-1792447200@harveyruralcommunity.ca
SUMMARY:Lions Club Bingo
DESCRIPTION:Monday Nights at the Harvey Lions club. Visit their Facebook page for more information
URL:https://harveyruralcommunity.ca/event/lions-club-bingo/2026-10-19/
LOCATION:Harvey Lions Club\, 4722 NB-640\, Harvey\, NB E6K 3W9
CATEGORIES:Games
END:VEVENT
BEGIN:VEVENT
DTSTART;TZID=America/Halifax:20261026T190000
DTEND;TZID=America/Halifax:20261026T220000
DTSTAMP:20260422T160035
CREATED:20230517T141949Z
LAST-MODIFIED:20240523T164954Z
UID:10003590-1793041200-1793052000@harveyruralcommunity.ca
SUMMARY:Lions Club Bingo
DESCRIPTION:Monday Nights at the Harvey Lions club. Visit their Facebook page for more information
URL:https://harveyruralcommunity.ca/event/lions-club-bingo/2026-10-26/
LOCATION:Harvey Lions Club\, 4722 NB-640\, Harvey\, NB E6K 3W9
CATEGORIES:Games
END:VEVENT
BEGIN:VEVENT
DTSTART;TZID=America/Halifax:20261102T190000
DTEND;TZID=America/Halifax:20261102T220000
DTSTAMP:20260422T160035
CREATED:20230517T141949Z
LAST-MODIFIED:20240523T164954Z
UID:10003591-1793646000-1793656800@harveyruralcommunity.ca
SUMMARY:Lions Club Bingo
DESCRIPTION:Monday Nights at the Harvey Lions club. Visit their Facebook page for more information
URL:https://harveyruralcommunity.ca/event/lions-club-bingo/2026-11-02/
LOCATION:Harvey Lions Club\, 4722 NB-640\, Harvey\, NB E6K 3W9
CATEGORIES:Games
END:VEVENT
BEGIN:VEVENT
DTSTART;TZID=America/Halifax:20261109T190000
DTEND;TZID=America/Halifax:20261109T220000
DTSTAMP:20260422T160035
CREATED:20230517T141949Z
LAST-MODIFIED:20240523T164954Z
UID:10003592-1794250800-1794261600@harveyruralcommunity.ca
SUMMARY:Lions Club Bingo
DESCRIPTION:Monday Nights at the Harvey Lions club. Visit their Facebook page for more information
URL:https://harveyruralcommunity.ca/event/lions-club-bingo/2026-11-09/
LOCATION:Harvey Lions Club\, 4722 NB-640\, Harvey\, NB E6K 3W9
CATEGORIES:Games
END:VEVENT
BEGIN:VEVENT
DTSTART;TZID=America/Halifax:20261116T190000
DTEND;TZID=America/Halifax:20261116T220000
DTSTAMP:20260422T160035
CREATED:20230517T141949Z
LAST-MODIFIED:20240523T164954Z
UID:10003593-1794855600-1794866400@harveyruralcommunity.ca
SUMMARY:Lions Club Bingo
DESCRIPTION:Monday Nights at the Harvey Lions club. Visit their Facebook page for more information
URL:https://harveyruralcommunity.ca/event/lions-club-bingo/2026-11-16/
LOCATION:Harvey Lions Club\, 4722 NB-640\, Harvey\, NB E6K 3W9
CATEGORIES:Games
END:VEVENT
BEGIN:VEVENT
DTSTART;TZID=America/Halifax:20261123T190000
DTEND;TZID=America/Halifax:20261123T220000
DTSTAMP:20260422T160035
CREATED:20230517T141949Z
LAST-MODIFIED:20240523T164954Z
UID:10003594-1795460400-1795471200@harveyruralcommunity.ca
SUMMARY:Lions Club Bingo
DESCRIPTION:Monday Nights at the Harvey Lions club. Visit their Facebook page for more information
URL:https://harveyruralcommunity.ca/event/lions-club-bingo/2026-11-23/
LOCATION:Harvey Lions Club\, 4722 NB-640\, Harvey\, NB E6K 3W9
CATEGORIES:Games
END:VEVENT
BEGIN:VEVENT
DTSTART;TZID=America/Halifax:20261130T190000
DTEND;TZID=America/Halifax:20261130T220000
DTSTAMP:20260422T160035
CREATED:20230517T141949Z
LAST-MODIFIED:20240523T164954Z
UID:10003595-1796065200-1796076000@harveyruralcommunity.ca
SUMMARY:Lions Club Bingo
DESCRIPTION:Monday Nights at the Harvey Lions club. Visit their Facebook page for more information
URL:https://harveyruralcommunity.ca/event/lions-club-bingo/2026-11-30/
LOCATION:Harvey Lions Club\, 4722 NB-640\, Harvey\, NB E6K 3W9
CATEGORIES:Games
END:VEVENT
BEGIN:VEVENT
DTSTART;TZID=America/Halifax:20261207T190000
DTEND;TZID=America/Halifax:20261207T220000
DTSTAMP:20260422T160035
CREATED:20230517T141949Z
LAST-MODIFIED:20240523T164954Z
UID:10003596-1796670000-1796680800@harveyruralcommunity.ca
SUMMARY:Lions Club Bingo
DESCRIPTION:Monday Nights at the Harvey Lions club. Visit their Facebook page for more information
URL:https://harveyruralcommunity.ca/event/lions-club-bingo/2026-12-07/
LOCATION:Harvey Lions Club\, 4722 NB-640\, Harvey\, NB E6K 3W9
CATEGORIES:Games
END:VEVENT
BEGIN:VEVENT
DTSTART;TZID=America/Halifax:20261214T190000
DTEND;TZID=America/Halifax:20261214T220000
DTSTAMP:20260422T160035
CREATED:20230517T141949Z
LAST-MODIFIED:20240523T164954Z
UID:10003597-1797274800-1797285600@harveyruralcommunity.ca
SUMMARY:Lions Club Bingo
DESCRIPTION:Monday Nights at the Harvey Lions club. Visit their Facebook page for more information
URL:https://harveyruralcommunity.ca/event/lions-club-bingo/2026-12-14/
LOCATION:Harvey Lions Club\, 4722 NB-640\, Harvey\, NB E6K 3W9
CATEGORIES:Games
END:VEVENT
BEGIN:VEVENT
DTSTART;TZID=America/Halifax:20261221T190000
DTEND;TZID=America/Halifax:20261221T220000
DTSTAMP:20260422T160035
CREATED:20230517T141949Z
LAST-MODIFIED:20240523T164954Z
UID:10003598-1797879600-1797890400@harveyruralcommunity.ca
SUMMARY:Lions Club Bingo
DESCRIPTION:Monday Nights at the Harvey Lions club. Visit their Facebook page for more information
URL:https://harveyruralcommunity.ca/event/lions-club-bingo/2026-12-21/
LOCATION:Harvey Lions Club\, 4722 NB-640\, Harvey\, NB E6K 3W9
CATEGORIES:Games
END:VEVENT
BEGIN:VEVENT
DTSTART;TZID=America/Halifax:20261228T190000
DTEND;TZID=America/Halifax:20261228T220000
DTSTAMP:20260422T160035
CREATED:20230517T141949Z
LAST-MODIFIED:20240523T164954Z
UID:10003599-1798484400-1798495200@harveyruralcommunity.ca
SUMMARY:Lions Club Bingo
DESCRIPTION:Monday Nights at the Harvey Lions club. Visit their Facebook page for more information
URL:https://harveyruralcommunity.ca/event/lions-club-bingo/2026-12-28/
LOCATION:Harvey Lions Club\, 4722 NB-640\, Harvey\, NB E6K 3W9
CATEGORIES:Games
END:VEVENT
BEGIN:VEVENT
DTSTART;TZID=America/Halifax:20270104T190000
DTEND;TZID=America/Halifax:20270104T220000
DTSTAMP:20260422T160035
CREATED:20230517T141949Z
LAST-MODIFIED:20240523T164954Z
UID:10003600-1799089200-1799100000@harveyruralcommunity.ca
SUMMARY:Lions Club Bingo
DESCRIPTION:Monday Nights at the Harvey Lions club. Visit their Facebook page for more information
URL:https://harveyruralcommunity.ca/event/lions-club-bingo/2027-01-04/
LOCATION:Harvey Lions Club\, 4722 NB-640\, Harvey\, NB E6K 3W9
CATEGORIES:Games
END:VEVENT
BEGIN:VEVENT
DTSTART;TZID=America/Halifax:20270111T190000
DTEND;TZID=America/Halifax:20270111T220000
DTSTAMP:20260422T160035
CREATED:20230517T141949Z
LAST-MODIFIED:20240523T164954Z
UID:10003601-1799694000-1799704800@harveyruralcommunity.ca
SUMMARY:Lions Club Bingo
DESCRIPTION:Monday Nights at the Harvey Lions club. Visit their Facebook page for more information
URL:https://harveyruralcommunity.ca/event/lions-club-bingo/2027-01-11/
LOCATION:Harvey Lions Club\, 4722 NB-640\, Harvey\, NB E6K 3W9
CATEGORIES:Games
END:VEVENT
BEGIN:VEVENT
DTSTART;TZID=America/Halifax:20270118T190000
DTEND;TZID=America/Halifax:20270118T220000
DTSTAMP:20260422T160035
CREATED:20230517T141949Z
LAST-MODIFIED:20240523T164954Z
UID:10003602-1800298800-1800309600@harveyruralcommunity.ca
SUMMARY:Lions Club Bingo
DESCRIPTION:Monday Nights at the Harvey Lions club. Visit their Facebook page for more information
URL:https://harveyruralcommunity.ca/event/lions-club-bingo/2027-01-18/
LOCATION:Harvey Lions Club\, 4722 NB-640\, Harvey\, NB E6K 3W9
CATEGORIES:Games
END:VEVENT
BEGIN:VEVENT
DTSTART;TZID=America/Halifax:20270125T190000
DTEND;TZID=America/Halifax:20270125T220000
DTSTAMP:20260422T160035
CREATED:20230517T141949Z
LAST-MODIFIED:20240523T164954Z
UID:10003603-1800903600-1800914400@harveyruralcommunity.ca
SUMMARY:Lions Club Bingo
DESCRIPTION:Monday Nights at the Harvey Lions club. Visit their Facebook page for more information
URL:https://harveyruralcommunity.ca/event/lions-club-bingo/2027-01-25/
LOCATION:Harvey Lions Club\, 4722 NB-640\, Harvey\, NB E6K 3W9
CATEGORIES:Games
END:VEVENT
BEGIN:VEVENT
DTSTART;TZID=America/Halifax:20270201T190000
DTEND;TZID=America/Halifax:20270201T220000
DTSTAMP:20260422T160035
CREATED:20230517T141949Z
LAST-MODIFIED:20240523T164954Z
UID:10003604-1801508400-1801519200@harveyruralcommunity.ca
SUMMARY:Lions Club Bingo
DESCRIPTION:Monday Nights at the Harvey Lions club. Visit their Facebook page for more information
URL:https://harveyruralcommunity.ca/event/lions-club-bingo/2027-02-01/
LOCATION:Harvey Lions Club\, 4722 NB-640\, Harvey\, NB E6K 3W9
CATEGORIES:Games
END:VEVENT
BEGIN:VEVENT
DTSTART;TZID=America/Halifax:20270208T190000
DTEND;TZID=America/Halifax:20270208T220000
DTSTAMP:20260422T160035
CREATED:20230517T141949Z
LAST-MODIFIED:20240523T164954Z
UID:10003605-1802113200-1802124000@harveyruralcommunity.ca
SUMMARY:Lions Club Bingo
DESCRIPTION:Monday Nights at the Harvey Lions club. Visit their Facebook page for more information
URL:https://harveyruralcommunity.ca/event/lions-club-bingo/2027-02-08/
LOCATION:Harvey Lions Club\, 4722 NB-640\, Harvey\, NB E6K 3W9
CATEGORIES:Games
END:VEVENT
END:VCALENDAR