BEGIN:VCALENDAR
VERSION:2.0
PRODID:-//Harvey Rural Community - ECPv6.6.1//NONSGML v1.0//EN
CALSCALE:GREGORIAN
METHOD:PUBLISH
X-WR-CALNAME:Harvey Rural Community
X-ORIGINAL-URL:https://harveyruralcommunity.ca
X-WR-CALDESC:Events for Harvey Rural Community
BEGIN:VTIMEZONE
TZID:America/Halifax
BEGIN:DAYLIGHT
TZOFFSETFROM:-0400
TZOFFSETTO:-0300
TZNAME:ADT
DTSTART:20260308T060000
END:DAYLIGHT
BEGIN:STANDARD
TZOFFSETFROM:-0300
TZOFFSETTO:-0400
TZNAME:AST
DTSTART:20261101T050000
END:STANDARD
BEGIN:DAYLIGHT
TZOFFSETFROM:-0400
TZOFFSETTO:-0300
TZNAME:ADT
DTSTART:20270314T060000
END:DAYLIGHT
BEGIN:STANDARD
TZOFFSETFROM:-0300
TZOFFSETTO:-0400
TZNAME:AST
DTSTART:20271107T050000
END:STANDARD
END:VTIMEZONE
BEGIN:VEVENT
DTSTART;TZID=America/Halifax:20260717T103000
DTEND;TZID=America/Halifax:20260717T113000
DTSTAMP:20260422T210539
CREATED:20230517T142927Z
LAST-MODIFIED:20230614T172055Z
UID:10002074-1784284200-1784287800@harveyruralcommunity.ca
SUMMARY:Family Storytime at the Library
DESCRIPTION:Join us for a few stories\, songs and activities for children. Every Friday at 10:30am at the Library.
URL:https://harveyruralcommunity.ca/event/family-storytime-at-the-library/2026-07-17/
LOCATION:Harvey Community Library\, 2055 NB-3\, Harvey\, NB E6K 1L1
ATTACH;FMTTYPE=image/png:https://harveyruralcommunity.ca/wp-content/uploads/2023/05/Storytime.png
END:VEVENT
BEGIN:VEVENT
DTSTART;TZID=America/Halifax:20260724T103000
DTEND;TZID=America/Halifax:20260724T113000
DTSTAMP:20260422T210539
CREATED:20230517T142927Z
LAST-MODIFIED:20230614T172055Z
UID:10002075-1784889000-1784892600@harveyruralcommunity.ca
SUMMARY:Family Storytime at the Library
DESCRIPTION:Join us for a few stories\, songs and activities for children. Every Friday at 10:30am at the Library.
URL:https://harveyruralcommunity.ca/event/family-storytime-at-the-library/2026-07-24/
LOCATION:Harvey Community Library\, 2055 NB-3\, Harvey\, NB E6K 1L1
ATTACH;FMTTYPE=image/png:https://harveyruralcommunity.ca/wp-content/uploads/2023/05/Storytime.png
END:VEVENT
BEGIN:VEVENT
DTSTART;TZID=America/Halifax:20260731T103000
DTEND;TZID=America/Halifax:20260731T113000
DTSTAMP:20260422T210539
CREATED:20230517T142927Z
LAST-MODIFIED:20230614T172055Z
UID:10002076-1785493800-1785497400@harveyruralcommunity.ca
SUMMARY:Family Storytime at the Library
DESCRIPTION:Join us for a few stories\, songs and activities for children. Every Friday at 10:30am at the Library.
URL:https://harveyruralcommunity.ca/event/family-storytime-at-the-library/2026-07-31/
LOCATION:Harvey Community Library\, 2055 NB-3\, Harvey\, NB E6K 1L1
ATTACH;FMTTYPE=image/png:https://harveyruralcommunity.ca/wp-content/uploads/2023/05/Storytime.png
END:VEVENT
BEGIN:VEVENT
DTSTART;TZID=America/Halifax:20260807T103000
DTEND;TZID=America/Halifax:20260807T113000
DTSTAMP:20260422T210539
CREATED:20230517T142927Z
LAST-MODIFIED:20230614T172055Z
UID:10002077-1786098600-1786102200@harveyruralcommunity.ca
SUMMARY:Family Storytime at the Library
DESCRIPTION:Join us for a few stories\, songs and activities for children. Every Friday at 10:30am at the Library.
URL:https://harveyruralcommunity.ca/event/family-storytime-at-the-library/2026-08-07/
LOCATION:Harvey Community Library\, 2055 NB-3\, Harvey\, NB E6K 1L1
ATTACH;FMTTYPE=image/png:https://harveyruralcommunity.ca/wp-content/uploads/2023/05/Storytime.png
END:VEVENT
BEGIN:VEVENT
DTSTART;TZID=America/Halifax:20260814T103000
DTEND;TZID=America/Halifax:20260814T113000
DTSTAMP:20260422T210539
CREATED:20230517T142927Z
LAST-MODIFIED:20230614T172055Z
UID:10002078-1786703400-1786707000@harveyruralcommunity.ca
SUMMARY:Family Storytime at the Library
DESCRIPTION:Join us for a few stories\, songs and activities for children. Every Friday at 10:30am at the Library.
URL:https://harveyruralcommunity.ca/event/family-storytime-at-the-library/2026-08-14/
LOCATION:Harvey Community Library\, 2055 NB-3\, Harvey\, NB E6K 1L1
ATTACH;FMTTYPE=image/png:https://harveyruralcommunity.ca/wp-content/uploads/2023/05/Storytime.png
END:VEVENT
BEGIN:VEVENT
DTSTART;TZID=America/Halifax:20260821T103000
DTEND;TZID=America/Halifax:20260821T113000
DTSTAMP:20260422T210539
CREATED:20230517T142927Z
LAST-MODIFIED:20230614T172055Z
UID:10002079-1787308200-1787311800@harveyruralcommunity.ca
SUMMARY:Family Storytime at the Library
DESCRIPTION:Join us for a few stories\, songs and activities for children. Every Friday at 10:30am at the Library.
URL:https://harveyruralcommunity.ca/event/family-storytime-at-the-library/2026-08-21/
LOCATION:Harvey Community Library\, 2055 NB-3\, Harvey\, NB E6K 1L1
ATTACH;FMTTYPE=image/png:https://harveyruralcommunity.ca/wp-content/uploads/2023/05/Storytime.png
END:VEVENT
BEGIN:VEVENT
DTSTART;TZID=America/Halifax:20260828T103000
DTEND;TZID=America/Halifax:20260828T113000
DTSTAMP:20260422T210539
CREATED:20230517T142927Z
LAST-MODIFIED:20230614T172055Z
UID:10002080-1787913000-1787916600@harveyruralcommunity.ca
SUMMARY:Family Storytime at the Library
DESCRIPTION:Join us for a few stories\, songs and activities for children. Every Friday at 10:30am at the Library.
URL:https://harveyruralcommunity.ca/event/family-storytime-at-the-library/2026-08-28/
LOCATION:Harvey Community Library\, 2055 NB-3\, Harvey\, NB E6K 1L1
ATTACH;FMTTYPE=image/png:https://harveyruralcommunity.ca/wp-content/uploads/2023/05/Storytime.png
END:VEVENT
BEGIN:VEVENT
DTSTART;TZID=America/Halifax:20260904T103000
DTEND;TZID=America/Halifax:20260904T113000
DTSTAMP:20260422T210539
CREATED:20230517T142927Z
LAST-MODIFIED:20230614T172055Z
UID:10002081-1788517800-1788521400@harveyruralcommunity.ca
SUMMARY:Family Storytime at the Library
DESCRIPTION:Join us for a few stories\, songs and activities for children. Every Friday at 10:30am at the Library.
URL:https://harveyruralcommunity.ca/event/family-storytime-at-the-library/2026-09-04/
LOCATION:Harvey Community Library\, 2055 NB-3\, Harvey\, NB E6K 1L1
ATTACH;FMTTYPE=image/png:https://harveyruralcommunity.ca/wp-content/uploads/2023/05/Storytime.png
END:VEVENT
BEGIN:VEVENT
DTSTART;TZID=America/Halifax:20260911T103000
DTEND;TZID=America/Halifax:20260911T113000
DTSTAMP:20260422T210539
CREATED:20230517T142927Z
LAST-MODIFIED:20230614T172055Z
UID:10002082-1789122600-1789126200@harveyruralcommunity.ca
SUMMARY:Family Storytime at the Library
DESCRIPTION:Join us for a few stories\, songs and activities for children. Every Friday at 10:30am at the Library.
URL:https://harveyruralcommunity.ca/event/family-storytime-at-the-library/2026-09-11/
LOCATION:Harvey Community Library\, 2055 NB-3\, Harvey\, NB E6K 1L1
ATTACH;FMTTYPE=image/png:https://harveyruralcommunity.ca/wp-content/uploads/2023/05/Storytime.png
END:VEVENT
BEGIN:VEVENT
DTSTART;TZID=America/Halifax:20260918T103000
DTEND;TZID=America/Halifax:20260918T113000
DTSTAMP:20260422T210539
CREATED:20230517T142927Z
LAST-MODIFIED:20230614T172055Z
UID:10002083-1789727400-1789731000@harveyruralcommunity.ca
SUMMARY:Family Storytime at the Library
DESCRIPTION:Join us for a few stories\, songs and activities for children. Every Friday at 10:30am at the Library.
URL:https://harveyruralcommunity.ca/event/family-storytime-at-the-library/2026-09-18/
LOCATION:Harvey Community Library\, 2055 NB-3\, Harvey\, NB E6K 1L1
ATTACH;FMTTYPE=image/png:https://harveyruralcommunity.ca/wp-content/uploads/2023/05/Storytime.png
END:VEVENT
BEGIN:VEVENT
DTSTART;TZID=America/Halifax:20260925T103000
DTEND;TZID=America/Halifax:20260925T113000
DTSTAMP:20260422T210539
CREATED:20230517T142927Z
LAST-MODIFIED:20230614T172055Z
UID:10002084-1790332200-1790335800@harveyruralcommunity.ca
SUMMARY:Family Storytime at the Library
DESCRIPTION:Join us for a few stories\, songs and activities for children. Every Friday at 10:30am at the Library.
URL:https://harveyruralcommunity.ca/event/family-storytime-at-the-library/2026-09-25/
LOCATION:Harvey Community Library\, 2055 NB-3\, Harvey\, NB E6K 1L1
ATTACH;FMTTYPE=image/png:https://harveyruralcommunity.ca/wp-content/uploads/2023/05/Storytime.png
END:VEVENT
BEGIN:VEVENT
DTSTART;TZID=America/Halifax:20261002T103000
DTEND;TZID=America/Halifax:20261002T113000
DTSTAMP:20260422T210539
CREATED:20230517T142927Z
LAST-MODIFIED:20230614T172055Z
UID:10002085-1790937000-1790940600@harveyruralcommunity.ca
SUMMARY:Family Storytime at the Library
DESCRIPTION:Join us for a few stories\, songs and activities for children. Every Friday at 10:30am at the Library.
URL:https://harveyruralcommunity.ca/event/family-storytime-at-the-library/2026-10-02/
LOCATION:Harvey Community Library\, 2055 NB-3\, Harvey\, NB E6K 1L1
ATTACH;FMTTYPE=image/png:https://harveyruralcommunity.ca/wp-content/uploads/2023/05/Storytime.png
END:VEVENT
BEGIN:VEVENT
DTSTART;TZID=America/Halifax:20261009T103000
DTEND;TZID=America/Halifax:20261009T113000
DTSTAMP:20260422T210539
CREATED:20230517T142927Z
LAST-MODIFIED:20230614T172055Z
UID:10002086-1791541800-1791545400@harveyruralcommunity.ca
SUMMARY:Family Storytime at the Library
DESCRIPTION:Join us for a few stories\, songs and activities for children. Every Friday at 10:30am at the Library.
URL:https://harveyruralcommunity.ca/event/family-storytime-at-the-library/2026-10-09/
LOCATION:Harvey Community Library\, 2055 NB-3\, Harvey\, NB E6K 1L1
ATTACH;FMTTYPE=image/png:https://harveyruralcommunity.ca/wp-content/uploads/2023/05/Storytime.png
END:VEVENT
BEGIN:VEVENT
DTSTART;TZID=America/Halifax:20261016T103000
DTEND;TZID=America/Halifax:20261016T113000
DTSTAMP:20260422T210539
CREATED:20230517T142927Z
LAST-MODIFIED:20230614T172055Z
UID:10002087-1792146600-1792150200@harveyruralcommunity.ca
SUMMARY:Family Storytime at the Library
DESCRIPTION:Join us for a few stories\, songs and activities for children. Every Friday at 10:30am at the Library.
URL:https://harveyruralcommunity.ca/event/family-storytime-at-the-library/2026-10-16/
LOCATION:Harvey Community Library\, 2055 NB-3\, Harvey\, NB E6K 1L1
ATTACH;FMTTYPE=image/png:https://harveyruralcommunity.ca/wp-content/uploads/2023/05/Storytime.png
END:VEVENT
BEGIN:VEVENT
DTSTART;TZID=America/Halifax:20261023T103000
DTEND;TZID=America/Halifax:20261023T113000
DTSTAMP:20260422T210539
CREATED:20230517T142927Z
LAST-MODIFIED:20230614T172055Z
UID:10002088-1792751400-1792755000@harveyruralcommunity.ca
SUMMARY:Family Storytime at the Library
DESCRIPTION:Join us for a few stories\, songs and activities for children. Every Friday at 10:30am at the Library.
URL:https://harveyruralcommunity.ca/event/family-storytime-at-the-library/2026-10-23/
LOCATION:Harvey Community Library\, 2055 NB-3\, Harvey\, NB E6K 1L1
ATTACH;FMTTYPE=image/png:https://harveyruralcommunity.ca/wp-content/uploads/2023/05/Storytime.png
END:VEVENT
BEGIN:VEVENT
DTSTART;TZID=America/Halifax:20261030T103000
DTEND;TZID=America/Halifax:20261030T113000
DTSTAMP:20260422T210539
CREATED:20230517T142927Z
LAST-MODIFIED:20230614T172055Z
UID:10002089-1793356200-1793359800@harveyruralcommunity.ca
SUMMARY:Family Storytime at the Library
DESCRIPTION:Join us for a few stories\, songs and activities for children. Every Friday at 10:30am at the Library.
URL:https://harveyruralcommunity.ca/event/family-storytime-at-the-library/2026-10-30/
LOCATION:Harvey Community Library\, 2055 NB-3\, Harvey\, NB E6K 1L1
ATTACH;FMTTYPE=image/png:https://harveyruralcommunity.ca/wp-content/uploads/2023/05/Storytime.png
END:VEVENT
BEGIN:VEVENT
DTSTART;TZID=America/Halifax:20261106T103000
DTEND;TZID=America/Halifax:20261106T113000
DTSTAMP:20260422T210539
CREATED:20230517T142927Z
LAST-MODIFIED:20230614T172055Z
UID:10002090-1793961000-1793964600@harveyruralcommunity.ca
SUMMARY:Family Storytime at the Library
DESCRIPTION:Join us for a few stories\, songs and activities for children. Every Friday at 10:30am at the Library.
URL:https://harveyruralcommunity.ca/event/family-storytime-at-the-library/2026-11-06/
LOCATION:Harvey Community Library\, 2055 NB-3\, Harvey\, NB E6K 1L1
ATTACH;FMTTYPE=image/png:https://harveyruralcommunity.ca/wp-content/uploads/2023/05/Storytime.png
END:VEVENT
BEGIN:VEVENT
DTSTART;TZID=America/Halifax:20261113T103000
DTEND;TZID=America/Halifax:20261113T113000
DTSTAMP:20260422T210539
CREATED:20230517T142927Z
LAST-MODIFIED:20230614T172055Z
UID:10002091-1794565800-1794569400@harveyruralcommunity.ca
SUMMARY:Family Storytime at the Library
DESCRIPTION:Join us for a few stories\, songs and activities for children. Every Friday at 10:30am at the Library.
URL:https://harveyruralcommunity.ca/event/family-storytime-at-the-library/2026-11-13/
LOCATION:Harvey Community Library\, 2055 NB-3\, Harvey\, NB E6K 1L1
ATTACH;FMTTYPE=image/png:https://harveyruralcommunity.ca/wp-content/uploads/2023/05/Storytime.png
END:VEVENT
BEGIN:VEVENT
DTSTART;TZID=America/Halifax:20261120T103000
DTEND;TZID=America/Halifax:20261120T113000
DTSTAMP:20260422T210539
CREATED:20230517T142927Z
LAST-MODIFIED:20230614T172055Z
UID:10002092-1795170600-1795174200@harveyruralcommunity.ca
SUMMARY:Family Storytime at the Library
DESCRIPTION:Join us for a few stories\, songs and activities for children. Every Friday at 10:30am at the Library.
URL:https://harveyruralcommunity.ca/event/family-storytime-at-the-library/2026-11-20/
LOCATION:Harvey Community Library\, 2055 NB-3\, Harvey\, NB E6K 1L1
ATTACH;FMTTYPE=image/png:https://harveyruralcommunity.ca/wp-content/uploads/2023/05/Storytime.png
END:VEVENT
BEGIN:VEVENT
DTSTART;TZID=America/Halifax:20261127T103000
DTEND;TZID=America/Halifax:20261127T113000
DTSTAMP:20260422T210539
CREATED:20230517T142927Z
LAST-MODIFIED:20230614T172055Z
UID:10002093-1795775400-1795779000@harveyruralcommunity.ca
SUMMARY:Family Storytime at the Library
DESCRIPTION:Join us for a few stories\, songs and activities for children. Every Friday at 10:30am at the Library.
URL:https://harveyruralcommunity.ca/event/family-storytime-at-the-library/2026-11-27/
LOCATION:Harvey Community Library\, 2055 NB-3\, Harvey\, NB E6K 1L1
ATTACH;FMTTYPE=image/png:https://harveyruralcommunity.ca/wp-content/uploads/2023/05/Storytime.png
END:VEVENT
BEGIN:VEVENT
DTSTART;TZID=America/Halifax:20261204T103000
DTEND;TZID=America/Halifax:20261204T113000
DTSTAMP:20260422T210539
CREATED:20230517T142927Z
LAST-MODIFIED:20230614T172055Z
UID:10002094-1796380200-1796383800@harveyruralcommunity.ca
SUMMARY:Family Storytime at the Library
DESCRIPTION:Join us for a few stories\, songs and activities for children. Every Friday at 10:30am at the Library.
URL:https://harveyruralcommunity.ca/event/family-storytime-at-the-library/2026-12-04/
LOCATION:Harvey Community Library\, 2055 NB-3\, Harvey\, NB E6K 1L1
ATTACH;FMTTYPE=image/png:https://harveyruralcommunity.ca/wp-content/uploads/2023/05/Storytime.png
END:VEVENT
BEGIN:VEVENT
DTSTART;TZID=America/Halifax:20261211T103000
DTEND;TZID=America/Halifax:20261211T113000
DTSTAMP:20260422T210539
CREATED:20230517T142927Z
LAST-MODIFIED:20230614T172055Z
UID:10002095-1796985000-1796988600@harveyruralcommunity.ca
SUMMARY:Family Storytime at the Library
DESCRIPTION:Join us for a few stories\, songs and activities for children. Every Friday at 10:30am at the Library.
URL:https://harveyruralcommunity.ca/event/family-storytime-at-the-library/2026-12-11/
LOCATION:Harvey Community Library\, 2055 NB-3\, Harvey\, NB E6K 1L1
ATTACH;FMTTYPE=image/png:https://harveyruralcommunity.ca/wp-content/uploads/2023/05/Storytime.png
END:VEVENT
BEGIN:VEVENT
DTSTART;TZID=America/Halifax:20261218T103000
DTEND;TZID=America/Halifax:20261218T113000
DTSTAMP:20260422T210539
CREATED:20230517T142927Z
LAST-MODIFIED:20230614T172055Z
UID:10002096-1797589800-1797593400@harveyruralcommunity.ca
SUMMARY:Family Storytime at the Library
DESCRIPTION:Join us for a few stories\, songs and activities for children. Every Friday at 10:30am at the Library.
URL:https://harveyruralcommunity.ca/event/family-storytime-at-the-library/2026-12-18/
LOCATION:Harvey Community Library\, 2055 NB-3\, Harvey\, NB E6K 1L1
ATTACH;FMTTYPE=image/png:https://harveyruralcommunity.ca/wp-content/uploads/2023/05/Storytime.png
END:VEVENT
BEGIN:VEVENT
DTSTART;TZID=America/Halifax:20261225T103000
DTEND;TZID=America/Halifax:20261225T113000
DTSTAMP:20260422T210539
CREATED:20230517T142927Z
LAST-MODIFIED:20230614T172055Z
UID:10002097-1798194600-1798198200@harveyruralcommunity.ca
SUMMARY:Family Storytime at the Library
DESCRIPTION:Join us for a few stories\, songs and activities for children. Every Friday at 10:30am at the Library.
URL:https://harveyruralcommunity.ca/event/family-storytime-at-the-library/2026-12-25/
LOCATION:Harvey Community Library\, 2055 NB-3\, Harvey\, NB E6K 1L1
ATTACH;FMTTYPE=image/png:https://harveyruralcommunity.ca/wp-content/uploads/2023/05/Storytime.png
END:VEVENT
BEGIN:VEVENT
DTSTART;TZID=America/Halifax:20270101T103000
DTEND;TZID=America/Halifax:20270101T113000
DTSTAMP:20260422T210539
CREATED:20230517T142927Z
LAST-MODIFIED:20230614T172055Z
UID:10002098-1798799400-1798803000@harveyruralcommunity.ca
SUMMARY:Family Storytime at the Library
DESCRIPTION:Join us for a few stories\, songs and activities for children. Every Friday at 10:30am at the Library.
URL:https://harveyruralcommunity.ca/event/family-storytime-at-the-library/2027-01-01/
LOCATION:Harvey Community Library\, 2055 NB-3\, Harvey\, NB E6K 1L1
ATTACH;FMTTYPE=image/png:https://harveyruralcommunity.ca/wp-content/uploads/2023/05/Storytime.png
END:VEVENT
BEGIN:VEVENT
DTSTART;TZID=America/Halifax:20270108T103000
DTEND;TZID=America/Halifax:20270108T113000
DTSTAMP:20260422T210539
CREATED:20230517T142927Z
LAST-MODIFIED:20230614T172055Z
UID:10002099-1799404200-1799407800@harveyruralcommunity.ca
SUMMARY:Family Storytime at the Library
DESCRIPTION:Join us for a few stories\, songs and activities for children. Every Friday at 10:30am at the Library.
URL:https://harveyruralcommunity.ca/event/family-storytime-at-the-library/2027-01-08/
LOCATION:Harvey Community Library\, 2055 NB-3\, Harvey\, NB E6K 1L1
ATTACH;FMTTYPE=image/png:https://harveyruralcommunity.ca/wp-content/uploads/2023/05/Storytime.png
END:VEVENT
BEGIN:VEVENT
DTSTART;TZID=America/Halifax:20270115T103000
DTEND;TZID=America/Halifax:20270115T113000
DTSTAMP:20260422T210539
CREATED:20230517T142927Z
LAST-MODIFIED:20230614T172055Z
UID:10002100-1800009000-1800012600@harveyruralcommunity.ca
SUMMARY:Family Storytime at the Library
DESCRIPTION:Join us for a few stories\, songs and activities for children. Every Friday at 10:30am at the Library.
URL:https://harveyruralcommunity.ca/event/family-storytime-at-the-library/2027-01-15/
LOCATION:Harvey Community Library\, 2055 NB-3\, Harvey\, NB E6K 1L1
ATTACH;FMTTYPE=image/png:https://harveyruralcommunity.ca/wp-content/uploads/2023/05/Storytime.png
END:VEVENT
BEGIN:VEVENT
DTSTART;TZID=America/Halifax:20270122T103000
DTEND;TZID=America/Halifax:20270122T113000
DTSTAMP:20260422T210539
CREATED:20230517T142927Z
LAST-MODIFIED:20230614T172055Z
UID:10002101-1800613800-1800617400@harveyruralcommunity.ca
SUMMARY:Family Storytime at the Library
DESCRIPTION:Join us for a few stories\, songs and activities for children. Every Friday at 10:30am at the Library.
URL:https://harveyruralcommunity.ca/event/family-storytime-at-the-library/2027-01-22/
LOCATION:Harvey Community Library\, 2055 NB-3\, Harvey\, NB E6K 1L1
ATTACH;FMTTYPE=image/png:https://harveyruralcommunity.ca/wp-content/uploads/2023/05/Storytime.png
END:VEVENT
BEGIN:VEVENT
DTSTART;TZID=America/Halifax:20270129T103000
DTEND;TZID=America/Halifax:20270129T113000
DTSTAMP:20260422T210539
CREATED:20230517T142927Z
LAST-MODIFIED:20230614T172055Z
UID:10002102-1801218600-1801222200@harveyruralcommunity.ca
SUMMARY:Family Storytime at the Library
DESCRIPTION:Join us for a few stories\, songs and activities for children. Every Friday at 10:30am at the Library.
URL:https://harveyruralcommunity.ca/event/family-storytime-at-the-library/2027-01-29/
LOCATION:Harvey Community Library\, 2055 NB-3\, Harvey\, NB E6K 1L1
ATTACH;FMTTYPE=image/png:https://harveyruralcommunity.ca/wp-content/uploads/2023/05/Storytime.png
END:VEVENT
BEGIN:VEVENT
DTSTART;TZID=America/Halifax:20270205T103000
DTEND;TZID=America/Halifax:20270205T113000
DTSTAMP:20260422T210539
CREATED:20230517T142927Z
LAST-MODIFIED:20230614T172055Z
UID:10002103-1801823400-1801827000@harveyruralcommunity.ca
SUMMARY:Family Storytime at the Library
DESCRIPTION:Join us for a few stories\, songs and activities for children. Every Friday at 10:30am at the Library.
URL:https://harveyruralcommunity.ca/event/family-storytime-at-the-library/2027-02-05/
LOCATION:Harvey Community Library\, 2055 NB-3\, Harvey\, NB E6K 1L1
ATTACH;FMTTYPE=image/png:https://harveyruralcommunity.ca/wp-content/uploads/2023/05/Storytime.png
END:VEVENT
END:VCALENDAR