BEGIN:VCALENDAR
VERSION:2.0
PRODID:-//Harvey Rural Community - ECPv6.6.1//NONSGML v1.0//EN
CALSCALE:GREGORIAN
METHOD:PUBLISH
X-WR-CALNAME:Harvey Rural Community
X-ORIGINAL-URL:https://harveyruralcommunity.ca
X-WR-CALDESC:Events for Harvey Rural Community
BEGIN:VTIMEZONE
TZID:America/Halifax
BEGIN:DAYLIGHT
TZOFFSETFROM:-0400
TZOFFSETTO:-0300
TZNAME:ADT
DTSTART:20260308T060000
END:DAYLIGHT
BEGIN:STANDARD
TZOFFSETFROM:-0300
TZOFFSETTO:-0400
TZNAME:AST
DTSTART:20261101T050000
END:STANDARD
BEGIN:DAYLIGHT
TZOFFSETFROM:-0400
TZOFFSETTO:-0300
TZNAME:ADT
DTSTART:20270314T060000
END:DAYLIGHT
BEGIN:STANDARD
TZOFFSETFROM:-0300
TZOFFSETTO:-0400
TZNAME:AST
DTSTART:20271107T050000
END:STANDARD
END:VTIMEZONE
BEGIN:VEVENT
DTSTART;TZID=America/Halifax:20260720T143000
DTEND;TZID=America/Halifax:20260720T160000
DTSTAMP:20260425T125001
CREATED:20230517T143230Z
LAST-MODIFIED:20240812T173221Z
UID:10005706-1784557800-1784563200@harveyruralcommunity.ca
SUMMARY:Tech Afternoon
DESCRIPTION:Every Monday\, drop in anytime between 2:30PM and 4:00PM with your devices and technology questions. This would be a great time to come learn how to place holds on books through New Brunswick’s online catalogue or to ask questions about electronic book resources like Libby.
URL:https://harveyruralcommunity.ca/event/tech-morning/2026-07-20/
LOCATION:Harvey Community Library\, 2055 NB-3\, Harvey\, NB E6K 1L1
ATTACH;FMTTYPE=image/jpeg:https://harveyruralcommunity.ca/wp-content/uploads/2023/05/scaled_384.jpg
END:VEVENT
BEGIN:VEVENT
DTSTART;TZID=America/Halifax:20260727T143000
DTEND;TZID=America/Halifax:20260727T160000
DTSTAMP:20260425T125001
CREATED:20230517T143230Z
LAST-MODIFIED:20240812T173221Z
UID:10005707-1785162600-1785168000@harveyruralcommunity.ca
SUMMARY:Tech Afternoon
DESCRIPTION:Every Monday\, drop in anytime between 2:30PM and 4:00PM with your devices and technology questions. This would be a great time to come learn how to place holds on books through New Brunswick’s online catalogue or to ask questions about electronic book resources like Libby.
URL:https://harveyruralcommunity.ca/event/tech-morning/2026-07-27/
LOCATION:Harvey Community Library\, 2055 NB-3\, Harvey\, NB E6K 1L1
ATTACH;FMTTYPE=image/jpeg:https://harveyruralcommunity.ca/wp-content/uploads/2023/05/scaled_384.jpg
END:VEVENT
BEGIN:VEVENT
DTSTART;TZID=America/Halifax:20260803T143000
DTEND;TZID=America/Halifax:20260803T160000
DTSTAMP:20260425T125001
CREATED:20230517T143230Z
LAST-MODIFIED:20240812T173221Z
UID:10005708-1785767400-1785772800@harveyruralcommunity.ca
SUMMARY:Tech Afternoon
DESCRIPTION:Every Monday\, drop in anytime between 2:30PM and 4:00PM with your devices and technology questions. This would be a great time to come learn how to place holds on books through New Brunswick’s online catalogue or to ask questions about electronic book resources like Libby.
URL:https://harveyruralcommunity.ca/event/tech-morning/2026-08-03/
LOCATION:Harvey Community Library\, 2055 NB-3\, Harvey\, NB E6K 1L1
ATTACH;FMTTYPE=image/jpeg:https://harveyruralcommunity.ca/wp-content/uploads/2023/05/scaled_384.jpg
END:VEVENT
BEGIN:VEVENT
DTSTART;TZID=America/Halifax:20260810T143000
DTEND;TZID=America/Halifax:20260810T160000
DTSTAMP:20260425T125001
CREATED:20230517T143230Z
LAST-MODIFIED:20240812T173221Z
UID:10005709-1786372200-1786377600@harveyruralcommunity.ca
SUMMARY:Tech Afternoon
DESCRIPTION:Every Monday\, drop in anytime between 2:30PM and 4:00PM with your devices and technology questions. This would be a great time to come learn how to place holds on books through New Brunswick’s online catalogue or to ask questions about electronic book resources like Libby.
URL:https://harveyruralcommunity.ca/event/tech-morning/2026-08-10/
LOCATION:Harvey Community Library\, 2055 NB-3\, Harvey\, NB E6K 1L1
ATTACH;FMTTYPE=image/jpeg:https://harveyruralcommunity.ca/wp-content/uploads/2023/05/scaled_384.jpg
END:VEVENT
BEGIN:VEVENT
DTSTART;TZID=America/Halifax:20260817T143000
DTEND;TZID=America/Halifax:20260817T160000
DTSTAMP:20260425T125001
CREATED:20230517T143230Z
LAST-MODIFIED:20240812T173221Z
UID:10005710-1786977000-1786982400@harveyruralcommunity.ca
SUMMARY:Tech Afternoon
DESCRIPTION:Every Monday\, drop in anytime between 2:30PM and 4:00PM with your devices and technology questions. This would be a great time to come learn how to place holds on books through New Brunswick’s online catalogue or to ask questions about electronic book resources like Libby.
URL:https://harveyruralcommunity.ca/event/tech-morning/2026-08-17/
LOCATION:Harvey Community Library\, 2055 NB-3\, Harvey\, NB E6K 1L1
ATTACH;FMTTYPE=image/jpeg:https://harveyruralcommunity.ca/wp-content/uploads/2023/05/scaled_384.jpg
END:VEVENT
BEGIN:VEVENT
DTSTART;TZID=America/Halifax:20260824T143000
DTEND;TZID=America/Halifax:20260824T160000
DTSTAMP:20260425T125001
CREATED:20230517T143230Z
LAST-MODIFIED:20240812T173221Z
UID:10005711-1787581800-1787587200@harveyruralcommunity.ca
SUMMARY:Tech Afternoon
DESCRIPTION:Every Monday\, drop in anytime between 2:30PM and 4:00PM with your devices and technology questions. This would be a great time to come learn how to place holds on books through New Brunswick’s online catalogue or to ask questions about electronic book resources like Libby.
URL:https://harveyruralcommunity.ca/event/tech-morning/2026-08-24/
LOCATION:Harvey Community Library\, 2055 NB-3\, Harvey\, NB E6K 1L1
ATTACH;FMTTYPE=image/jpeg:https://harveyruralcommunity.ca/wp-content/uploads/2023/05/scaled_384.jpg
END:VEVENT
BEGIN:VEVENT
DTSTART;TZID=America/Halifax:20260831T143000
DTEND;TZID=America/Halifax:20260831T160000
DTSTAMP:20260425T125001
CREATED:20230517T143230Z
LAST-MODIFIED:20240812T173221Z
UID:10005712-1788186600-1788192000@harveyruralcommunity.ca
SUMMARY:Tech Afternoon
DESCRIPTION:Every Monday\, drop in anytime between 2:30PM and 4:00PM with your devices and technology questions. This would be a great time to come learn how to place holds on books through New Brunswick’s online catalogue or to ask questions about electronic book resources like Libby.
URL:https://harveyruralcommunity.ca/event/tech-morning/2026-08-31/
LOCATION:Harvey Community Library\, 2055 NB-3\, Harvey\, NB E6K 1L1
ATTACH;FMTTYPE=image/jpeg:https://harveyruralcommunity.ca/wp-content/uploads/2023/05/scaled_384.jpg
END:VEVENT
BEGIN:VEVENT
DTSTART;TZID=America/Halifax:20260907T143000
DTEND;TZID=America/Halifax:20260907T160000
DTSTAMP:20260425T125001
CREATED:20230517T143230Z
LAST-MODIFIED:20240812T173221Z
UID:10005713-1788791400-1788796800@harveyruralcommunity.ca
SUMMARY:Tech Afternoon
DESCRIPTION:Every Monday\, drop in anytime between 2:30PM and 4:00PM with your devices and technology questions. This would be a great time to come learn how to place holds on books through New Brunswick’s online catalogue or to ask questions about electronic book resources like Libby.
URL:https://harveyruralcommunity.ca/event/tech-morning/2026-09-07/
LOCATION:Harvey Community Library\, 2055 NB-3\, Harvey\, NB E6K 1L1
ATTACH;FMTTYPE=image/jpeg:https://harveyruralcommunity.ca/wp-content/uploads/2023/05/scaled_384.jpg
END:VEVENT
BEGIN:VEVENT
DTSTART;TZID=America/Halifax:20260914T143000
DTEND;TZID=America/Halifax:20260914T160000
DTSTAMP:20260425T125002
CREATED:20230517T143230Z
LAST-MODIFIED:20240812T173221Z
UID:10005714-1789396200-1789401600@harveyruralcommunity.ca
SUMMARY:Tech Afternoon
DESCRIPTION:Every Monday\, drop in anytime between 2:30PM and 4:00PM with your devices and technology questions. This would be a great time to come learn how to place holds on books through New Brunswick’s online catalogue or to ask questions about electronic book resources like Libby.
URL:https://harveyruralcommunity.ca/event/tech-morning/2026-09-14/
LOCATION:Harvey Community Library\, 2055 NB-3\, Harvey\, NB E6K 1L1
ATTACH;FMTTYPE=image/jpeg:https://harveyruralcommunity.ca/wp-content/uploads/2023/05/scaled_384.jpg
END:VEVENT
BEGIN:VEVENT
DTSTART;TZID=America/Halifax:20260921T143000
DTEND;TZID=America/Halifax:20260921T160000
DTSTAMP:20260425T125002
CREATED:20230517T143230Z
LAST-MODIFIED:20240812T173221Z
UID:10005715-1790001000-1790006400@harveyruralcommunity.ca
SUMMARY:Tech Afternoon
DESCRIPTION:Every Monday\, drop in anytime between 2:30PM and 4:00PM with your devices and technology questions. This would be a great time to come learn how to place holds on books through New Brunswick’s online catalogue or to ask questions about electronic book resources like Libby.
URL:https://harveyruralcommunity.ca/event/tech-morning/2026-09-21/
LOCATION:Harvey Community Library\, 2055 NB-3\, Harvey\, NB E6K 1L1
ATTACH;FMTTYPE=image/jpeg:https://harveyruralcommunity.ca/wp-content/uploads/2023/05/scaled_384.jpg
END:VEVENT
BEGIN:VEVENT
DTSTART;TZID=America/Halifax:20260928T143000
DTEND;TZID=America/Halifax:20260928T160000
DTSTAMP:20260425T125002
CREATED:20230517T143230Z
LAST-MODIFIED:20240812T173221Z
UID:10005716-1790605800-1790611200@harveyruralcommunity.ca
SUMMARY:Tech Afternoon
DESCRIPTION:Every Monday\, drop in anytime between 2:30PM and 4:00PM with your devices and technology questions. This would be a great time to come learn how to place holds on books through New Brunswick’s online catalogue or to ask questions about electronic book resources like Libby.
URL:https://harveyruralcommunity.ca/event/tech-morning/2026-09-28/
LOCATION:Harvey Community Library\, 2055 NB-3\, Harvey\, NB E6K 1L1
ATTACH;FMTTYPE=image/jpeg:https://harveyruralcommunity.ca/wp-content/uploads/2023/05/scaled_384.jpg
END:VEVENT
BEGIN:VEVENT
DTSTART;TZID=America/Halifax:20261005T143000
DTEND;TZID=America/Halifax:20261005T160000
DTSTAMP:20260425T125002
CREATED:20230517T143230Z
LAST-MODIFIED:20240812T173221Z
UID:10005717-1791210600-1791216000@harveyruralcommunity.ca
SUMMARY:Tech Afternoon
DESCRIPTION:Every Monday\, drop in anytime between 2:30PM and 4:00PM with your devices and technology questions. This would be a great time to come learn how to place holds on books through New Brunswick’s online catalogue or to ask questions about electronic book resources like Libby.
URL:https://harveyruralcommunity.ca/event/tech-morning/2026-10-05/
LOCATION:Harvey Community Library\, 2055 NB-3\, Harvey\, NB E6K 1L1
ATTACH;FMTTYPE=image/jpeg:https://harveyruralcommunity.ca/wp-content/uploads/2023/05/scaled_384.jpg
END:VEVENT
BEGIN:VEVENT
DTSTART;TZID=America/Halifax:20261012T143000
DTEND;TZID=America/Halifax:20261012T160000
DTSTAMP:20260425T125002
CREATED:20230517T143230Z
LAST-MODIFIED:20240812T173221Z
UID:10005718-1791815400-1791820800@harveyruralcommunity.ca
SUMMARY:Tech Afternoon
DESCRIPTION:Every Monday\, drop in anytime between 2:30PM and 4:00PM with your devices and technology questions. This would be a great time to come learn how to place holds on books through New Brunswick’s online catalogue or to ask questions about electronic book resources like Libby.
URL:https://harveyruralcommunity.ca/event/tech-morning/2026-10-12/
LOCATION:Harvey Community Library\, 2055 NB-3\, Harvey\, NB E6K 1L1
ATTACH;FMTTYPE=image/jpeg:https://harveyruralcommunity.ca/wp-content/uploads/2023/05/scaled_384.jpg
END:VEVENT
BEGIN:VEVENT
DTSTART;TZID=America/Halifax:20261019T143000
DTEND;TZID=America/Halifax:20261019T160000
DTSTAMP:20260425T125002
CREATED:20230517T143230Z
LAST-MODIFIED:20240812T173221Z
UID:10005719-1792420200-1792425600@harveyruralcommunity.ca
SUMMARY:Tech Afternoon
DESCRIPTION:Every Monday\, drop in anytime between 2:30PM and 4:00PM with your devices and technology questions. This would be a great time to come learn how to place holds on books through New Brunswick’s online catalogue or to ask questions about electronic book resources like Libby.
URL:https://harveyruralcommunity.ca/event/tech-morning/2026-10-19/
LOCATION:Harvey Community Library\, 2055 NB-3\, Harvey\, NB E6K 1L1
ATTACH;FMTTYPE=image/jpeg:https://harveyruralcommunity.ca/wp-content/uploads/2023/05/scaled_384.jpg
END:VEVENT
BEGIN:VEVENT
DTSTART;TZID=America/Halifax:20261026T143000
DTEND;TZID=America/Halifax:20261026T160000
DTSTAMP:20260425T125002
CREATED:20230517T143230Z
LAST-MODIFIED:20240812T173221Z
UID:10005720-1793025000-1793030400@harveyruralcommunity.ca
SUMMARY:Tech Afternoon
DESCRIPTION:Every Monday\, drop in anytime between 2:30PM and 4:00PM with your devices and technology questions. This would be a great time to come learn how to place holds on books through New Brunswick’s online catalogue or to ask questions about electronic book resources like Libby.
URL:https://harveyruralcommunity.ca/event/tech-morning/2026-10-26/
LOCATION:Harvey Community Library\, 2055 NB-3\, Harvey\, NB E6K 1L1
ATTACH;FMTTYPE=image/jpeg:https://harveyruralcommunity.ca/wp-content/uploads/2023/05/scaled_384.jpg
END:VEVENT
BEGIN:VEVENT
DTSTART;TZID=America/Halifax:20261102T143000
DTEND;TZID=America/Halifax:20261102T160000
DTSTAMP:20260425T125002
CREATED:20230517T143230Z
LAST-MODIFIED:20240812T173221Z
UID:10005721-1793629800-1793635200@harveyruralcommunity.ca
SUMMARY:Tech Afternoon
DESCRIPTION:Every Monday\, drop in anytime between 2:30PM and 4:00PM with your devices and technology questions. This would be a great time to come learn how to place holds on books through New Brunswick’s online catalogue or to ask questions about electronic book resources like Libby.
URL:https://harveyruralcommunity.ca/event/tech-morning/2026-11-02/
LOCATION:Harvey Community Library\, 2055 NB-3\, Harvey\, NB E6K 1L1
ATTACH;FMTTYPE=image/jpeg:https://harveyruralcommunity.ca/wp-content/uploads/2023/05/scaled_384.jpg
END:VEVENT
BEGIN:VEVENT
DTSTART;TZID=America/Halifax:20261109T143000
DTEND;TZID=America/Halifax:20261109T160000
DTSTAMP:20260425T125002
CREATED:20230517T143230Z
LAST-MODIFIED:20240812T173221Z
UID:10005722-1794234600-1794240000@harveyruralcommunity.ca
SUMMARY:Tech Afternoon
DESCRIPTION:Every Monday\, drop in anytime between 2:30PM and 4:00PM with your devices and technology questions. This would be a great time to come learn how to place holds on books through New Brunswick’s online catalogue or to ask questions about electronic book resources like Libby.
URL:https://harveyruralcommunity.ca/event/tech-morning/2026-11-09/
LOCATION:Harvey Community Library\, 2055 NB-3\, Harvey\, NB E6K 1L1
ATTACH;FMTTYPE=image/jpeg:https://harveyruralcommunity.ca/wp-content/uploads/2023/05/scaled_384.jpg
END:VEVENT
BEGIN:VEVENT
DTSTART;TZID=America/Halifax:20261116T143000
DTEND;TZID=America/Halifax:20261116T160000
DTSTAMP:20260425T125002
CREATED:20230517T143230Z
LAST-MODIFIED:20240812T173221Z
UID:10005723-1794839400-1794844800@harveyruralcommunity.ca
SUMMARY:Tech Afternoon
DESCRIPTION:Every Monday\, drop in anytime between 2:30PM and 4:00PM with your devices and technology questions. This would be a great time to come learn how to place holds on books through New Brunswick’s online catalogue or to ask questions about electronic book resources like Libby.
URL:https://harveyruralcommunity.ca/event/tech-morning/2026-11-16/
LOCATION:Harvey Community Library\, 2055 NB-3\, Harvey\, NB E6K 1L1
ATTACH;FMTTYPE=image/jpeg:https://harveyruralcommunity.ca/wp-content/uploads/2023/05/scaled_384.jpg
END:VEVENT
BEGIN:VEVENT
DTSTART;TZID=America/Halifax:20261123T143000
DTEND;TZID=America/Halifax:20261123T160000
DTSTAMP:20260425T125002
CREATED:20230517T143230Z
LAST-MODIFIED:20240812T173221Z
UID:10005724-1795444200-1795449600@harveyruralcommunity.ca
SUMMARY:Tech Afternoon
DESCRIPTION:Every Monday\, drop in anytime between 2:30PM and 4:00PM with your devices and technology questions. This would be a great time to come learn how to place holds on books through New Brunswick’s online catalogue or to ask questions about electronic book resources like Libby.
URL:https://harveyruralcommunity.ca/event/tech-morning/2026-11-23/
LOCATION:Harvey Community Library\, 2055 NB-3\, Harvey\, NB E6K 1L1
ATTACH;FMTTYPE=image/jpeg:https://harveyruralcommunity.ca/wp-content/uploads/2023/05/scaled_384.jpg
END:VEVENT
BEGIN:VEVENT
DTSTART;TZID=America/Halifax:20261130T143000
DTEND;TZID=America/Halifax:20261130T160000
DTSTAMP:20260425T125002
CREATED:20230517T143230Z
LAST-MODIFIED:20240812T173221Z
UID:10005725-1796049000-1796054400@harveyruralcommunity.ca
SUMMARY:Tech Afternoon
DESCRIPTION:Every Monday\, drop in anytime between 2:30PM and 4:00PM with your devices and technology questions. This would be a great time to come learn how to place holds on books through New Brunswick’s online catalogue or to ask questions about electronic book resources like Libby.
URL:https://harveyruralcommunity.ca/event/tech-morning/2026-11-30/
LOCATION:Harvey Community Library\, 2055 NB-3\, Harvey\, NB E6K 1L1
ATTACH;FMTTYPE=image/jpeg:https://harveyruralcommunity.ca/wp-content/uploads/2023/05/scaled_384.jpg
END:VEVENT
BEGIN:VEVENT
DTSTART;TZID=America/Halifax:20261207T143000
DTEND;TZID=America/Halifax:20261207T160000
DTSTAMP:20260425T125002
CREATED:20230517T143230Z
LAST-MODIFIED:20240812T173221Z
UID:10005726-1796653800-1796659200@harveyruralcommunity.ca
SUMMARY:Tech Afternoon
DESCRIPTION:Every Monday\, drop in anytime between 2:30PM and 4:00PM with your devices and technology questions. This would be a great time to come learn how to place holds on books through New Brunswick’s online catalogue or to ask questions about electronic book resources like Libby.
URL:https://harveyruralcommunity.ca/event/tech-morning/2026-12-07/
LOCATION:Harvey Community Library\, 2055 NB-3\, Harvey\, NB E6K 1L1
ATTACH;FMTTYPE=image/jpeg:https://harveyruralcommunity.ca/wp-content/uploads/2023/05/scaled_384.jpg
END:VEVENT
BEGIN:VEVENT
DTSTART;TZID=America/Halifax:20261214T143000
DTEND;TZID=America/Halifax:20261214T160000
DTSTAMP:20260425T125002
CREATED:20230517T143230Z
LAST-MODIFIED:20240812T173221Z
UID:10005727-1797258600-1797264000@harveyruralcommunity.ca
SUMMARY:Tech Afternoon
DESCRIPTION:Every Monday\, drop in anytime between 2:30PM and 4:00PM with your devices and technology questions. This would be a great time to come learn how to place holds on books through New Brunswick’s online catalogue or to ask questions about electronic book resources like Libby.
URL:https://harveyruralcommunity.ca/event/tech-morning/2026-12-14/
LOCATION:Harvey Community Library\, 2055 NB-3\, Harvey\, NB E6K 1L1
ATTACH;FMTTYPE=image/jpeg:https://harveyruralcommunity.ca/wp-content/uploads/2023/05/scaled_384.jpg
END:VEVENT
BEGIN:VEVENT
DTSTART;TZID=America/Halifax:20261221T143000
DTEND;TZID=America/Halifax:20261221T160000
DTSTAMP:20260425T125002
CREATED:20230517T143230Z
LAST-MODIFIED:20240812T173221Z
UID:10005728-1797863400-1797868800@harveyruralcommunity.ca
SUMMARY:Tech Afternoon
DESCRIPTION:Every Monday\, drop in anytime between 2:30PM and 4:00PM with your devices and technology questions. This would be a great time to come learn how to place holds on books through New Brunswick’s online catalogue or to ask questions about electronic book resources like Libby.
URL:https://harveyruralcommunity.ca/event/tech-morning/2026-12-21/
LOCATION:Harvey Community Library\, 2055 NB-3\, Harvey\, NB E6K 1L1
ATTACH;FMTTYPE=image/jpeg:https://harveyruralcommunity.ca/wp-content/uploads/2023/05/scaled_384.jpg
END:VEVENT
BEGIN:VEVENT
DTSTART;TZID=America/Halifax:20261228T143000
DTEND;TZID=America/Halifax:20261228T160000
DTSTAMP:20260425T125002
CREATED:20230517T143230Z
LAST-MODIFIED:20240812T173221Z
UID:10005729-1798468200-1798473600@harveyruralcommunity.ca
SUMMARY:Tech Afternoon
DESCRIPTION:Every Monday\, drop in anytime between 2:30PM and 4:00PM with your devices and technology questions. This would be a great time to come learn how to place holds on books through New Brunswick’s online catalogue or to ask questions about electronic book resources like Libby.
URL:https://harveyruralcommunity.ca/event/tech-morning/2026-12-28/
LOCATION:Harvey Community Library\, 2055 NB-3\, Harvey\, NB E6K 1L1
ATTACH;FMTTYPE=image/jpeg:https://harveyruralcommunity.ca/wp-content/uploads/2023/05/scaled_384.jpg
END:VEVENT
BEGIN:VEVENT
DTSTART;TZID=America/Halifax:20270104T143000
DTEND;TZID=America/Halifax:20270104T160000
DTSTAMP:20260425T125002
CREATED:20230517T143230Z
LAST-MODIFIED:20240812T173221Z
UID:10005730-1799073000-1799078400@harveyruralcommunity.ca
SUMMARY:Tech Afternoon
DESCRIPTION:Every Monday\, drop in anytime between 2:30PM and 4:00PM with your devices and technology questions. This would be a great time to come learn how to place holds on books through New Brunswick’s online catalogue or to ask questions about electronic book resources like Libby.
URL:https://harveyruralcommunity.ca/event/tech-morning/2027-01-04/
LOCATION:Harvey Community Library\, 2055 NB-3\, Harvey\, NB E6K 1L1
ATTACH;FMTTYPE=image/jpeg:https://harveyruralcommunity.ca/wp-content/uploads/2023/05/scaled_384.jpg
END:VEVENT
BEGIN:VEVENT
DTSTART;TZID=America/Halifax:20270111T143000
DTEND;TZID=America/Halifax:20270111T160000
DTSTAMP:20260425T125002
CREATED:20230517T143230Z
LAST-MODIFIED:20240812T173221Z
UID:10005731-1799677800-1799683200@harveyruralcommunity.ca
SUMMARY:Tech Afternoon
DESCRIPTION:Every Monday\, drop in anytime between 2:30PM and 4:00PM with your devices and technology questions. This would be a great time to come learn how to place holds on books through New Brunswick’s online catalogue or to ask questions about electronic book resources like Libby.
URL:https://harveyruralcommunity.ca/event/tech-morning/2027-01-11/
LOCATION:Harvey Community Library\, 2055 NB-3\, Harvey\, NB E6K 1L1
ATTACH;FMTTYPE=image/jpeg:https://harveyruralcommunity.ca/wp-content/uploads/2023/05/scaled_384.jpg
END:VEVENT
BEGIN:VEVENT
DTSTART;TZID=America/Halifax:20270118T143000
DTEND;TZID=America/Halifax:20270118T160000
DTSTAMP:20260425T125002
CREATED:20230517T143230Z
LAST-MODIFIED:20240812T173221Z
UID:10005732-1800282600-1800288000@harveyruralcommunity.ca
SUMMARY:Tech Afternoon
DESCRIPTION:Every Monday\, drop in anytime between 2:30PM and 4:00PM with your devices and technology questions. This would be a great time to come learn how to place holds on books through New Brunswick’s online catalogue or to ask questions about electronic book resources like Libby.
URL:https://harveyruralcommunity.ca/event/tech-morning/2027-01-18/
LOCATION:Harvey Community Library\, 2055 NB-3\, Harvey\, NB E6K 1L1
ATTACH;FMTTYPE=image/jpeg:https://harveyruralcommunity.ca/wp-content/uploads/2023/05/scaled_384.jpg
END:VEVENT
BEGIN:VEVENT
DTSTART;TZID=America/Halifax:20270125T143000
DTEND;TZID=America/Halifax:20270125T160000
DTSTAMP:20260425T125002
CREATED:20230517T143230Z
LAST-MODIFIED:20240812T173221Z
UID:10005733-1800887400-1800892800@harveyruralcommunity.ca
SUMMARY:Tech Afternoon
DESCRIPTION:Every Monday\, drop in anytime between 2:30PM and 4:00PM with your devices and technology questions. This would be a great time to come learn how to place holds on books through New Brunswick’s online catalogue or to ask questions about electronic book resources like Libby.
URL:https://harveyruralcommunity.ca/event/tech-morning/2027-01-25/
LOCATION:Harvey Community Library\, 2055 NB-3\, Harvey\, NB E6K 1L1
ATTACH;FMTTYPE=image/jpeg:https://harveyruralcommunity.ca/wp-content/uploads/2023/05/scaled_384.jpg
END:VEVENT
BEGIN:VEVENT
DTSTART;TZID=America/Halifax:20270201T143000
DTEND;TZID=America/Halifax:20270201T160000
DTSTAMP:20260425T125002
CREATED:20230517T143230Z
LAST-MODIFIED:20240812T173221Z
UID:10005734-1801492200-1801497600@harveyruralcommunity.ca
SUMMARY:Tech Afternoon
DESCRIPTION:Every Monday\, drop in anytime between 2:30PM and 4:00PM with your devices and technology questions. This would be a great time to come learn how to place holds on books through New Brunswick’s online catalogue or to ask questions about electronic book resources like Libby.
URL:https://harveyruralcommunity.ca/event/tech-morning/2027-02-01/
LOCATION:Harvey Community Library\, 2055 NB-3\, Harvey\, NB E6K 1L1
ATTACH;FMTTYPE=image/jpeg:https://harveyruralcommunity.ca/wp-content/uploads/2023/05/scaled_384.jpg
END:VEVENT
BEGIN:VEVENT
DTSTART;TZID=America/Halifax:20270208T143000
DTEND;TZID=America/Halifax:20270208T160000
DTSTAMP:20260425T125002
CREATED:20230517T143230Z
LAST-MODIFIED:20240812T173221Z
UID:10005735-1802097000-1802102400@harveyruralcommunity.ca
SUMMARY:Tech Afternoon
DESCRIPTION:Every Monday\, drop in anytime between 2:30PM and 4:00PM with your devices and technology questions. This would be a great time to come learn how to place holds on books through New Brunswick’s online catalogue or to ask questions about electronic book resources like Libby.
URL:https://harveyruralcommunity.ca/event/tech-morning/2027-02-08/
LOCATION:Harvey Community Library\, 2055 NB-3\, Harvey\, NB E6K 1L1
ATTACH;FMTTYPE=image/jpeg:https://harveyruralcommunity.ca/wp-content/uploads/2023/05/scaled_384.jpg
END:VEVENT
END:VCALENDAR