BEGIN:VCALENDAR
VERSION:2.0
PRODID:-//Harvey Rural Community - ECPv6.6.1//NONSGML v1.0//EN
CALSCALE:GREGORIAN
METHOD:PUBLISH
X-WR-CALNAME:Harvey Rural Community
X-ORIGINAL-URL:https://harveyruralcommunity.ca
X-WR-CALDESC:Events for Harvey Rural Community
BEGIN:VTIMEZONE
TZID:America/Halifax
BEGIN:DAYLIGHT
TZOFFSETFROM:-0400
TZOFFSETTO:-0300
TZNAME:ADT
DTSTART:20260308T060000
END:DAYLIGHT
BEGIN:STANDARD
TZOFFSETFROM:-0300
TZOFFSETTO:-0400
TZNAME:AST
DTSTART:20261101T050000
END:STANDARD
BEGIN:DAYLIGHT
TZOFFSETFROM:-0400
TZOFFSETTO:-0300
TZNAME:ADT
DTSTART:20270314T060000
END:DAYLIGHT
BEGIN:STANDARD
TZOFFSETFROM:-0300
TZOFFSETTO:-0400
TZNAME:AST
DTSTART:20271107T050000
END:STANDARD
END:VTIMEZONE
BEGIN:VEVENT
DTSTART;TZID=America/Halifax:20261014T130000
DTEND;TZID=America/Halifax:20261014T150000
DTSTAMP:20260421T230657
CREATED:20231208T223552Z
LAST-MODIFIED:20231208T223552Z
UID:10005242-1791982800-1791990000@harveyruralcommunity.ca
SUMMARY:Seniors Meet and Greet
DESCRIPTION:Join us at the Lion’s Club every 2nd and 4th Wednesday for a potluck and play 45’s\, nickel bingo or whatever you like.\nNot a senior yet\, that’s OK. Come anyway!  Everyone welcome.\nNote new time for winter.
URL:https://harveyruralcommunity.ca/event/seniors-meet-and-greet-2/2026-10-14/
LOCATION:Harvey Lions Club\, 4722 NB-640\, Harvey\, NB E6K 3W9
CATEGORIES:Wellness
END:VEVENT
BEGIN:VEVENT
DTSTART;TZID=America/Halifax:20261028T130000
DTEND;TZID=America/Halifax:20261028T150000
DTSTAMP:20260421T230657
CREATED:20231208T223552Z
LAST-MODIFIED:20231208T223552Z
UID:10005243-1793192400-1793199600@harveyruralcommunity.ca
SUMMARY:Seniors Meet and Greet
DESCRIPTION:Join us at the Lion’s Club every 2nd and 4th Wednesday for a potluck and play 45’s\, nickel bingo or whatever you like.\nNot a senior yet\, that’s OK. Come anyway!  Everyone welcome.\nNote new time for winter.
URL:https://harveyruralcommunity.ca/event/seniors-meet-and-greet-2/2026-10-28/
LOCATION:Harvey Lions Club\, 4722 NB-640\, Harvey\, NB E6K 3W9
CATEGORIES:Wellness
END:VEVENT
BEGIN:VEVENT
DTSTART;TZID=America/Halifax:20261111T130000
DTEND;TZID=America/Halifax:20261111T150000
DTSTAMP:20260421T230657
CREATED:20231208T223552Z
LAST-MODIFIED:20231208T223552Z
UID:10005244-1794402000-1794409200@harveyruralcommunity.ca
SUMMARY:Seniors Meet and Greet
DESCRIPTION:Join us at the Lion’s Club every 2nd and 4th Wednesday for a potluck and play 45’s\, nickel bingo or whatever you like.\nNot a senior yet\, that’s OK. Come anyway!  Everyone welcome.\nNote new time for winter.
URL:https://harveyruralcommunity.ca/event/seniors-meet-and-greet-2/2026-11-11/
LOCATION:Harvey Lions Club\, 4722 NB-640\, Harvey\, NB E6K 3W9
CATEGORIES:Wellness
END:VEVENT
BEGIN:VEVENT
DTSTART;TZID=America/Halifax:20261125T130000
DTEND;TZID=America/Halifax:20261125T150000
DTSTAMP:20260421T230657
CREATED:20231208T223552Z
LAST-MODIFIED:20231208T223552Z
UID:10005245-1795611600-1795618800@harveyruralcommunity.ca
SUMMARY:Seniors Meet and Greet
DESCRIPTION:Join us at the Lion’s Club every 2nd and 4th Wednesday for a potluck and play 45’s\, nickel bingo or whatever you like.\nNot a senior yet\, that’s OK. Come anyway!  Everyone welcome.\nNote new time for winter.
URL:https://harveyruralcommunity.ca/event/seniors-meet-and-greet-2/2026-11-25/
LOCATION:Harvey Lions Club\, 4722 NB-640\, Harvey\, NB E6K 3W9
CATEGORIES:Wellness
END:VEVENT
BEGIN:VEVENT
DTSTART;TZID=America/Halifax:20261209T130000
DTEND;TZID=America/Halifax:20261209T150000
DTSTAMP:20260421T230657
CREATED:20231208T223552Z
LAST-MODIFIED:20231208T223552Z
UID:10005246-1796821200-1796828400@harveyruralcommunity.ca
SUMMARY:Seniors Meet and Greet
DESCRIPTION:Join us at the Lion’s Club every 2nd and 4th Wednesday for a potluck and play 45’s\, nickel bingo or whatever you like.\nNot a senior yet\, that’s OK. Come anyway!  Everyone welcome.\nNote new time for winter.
URL:https://harveyruralcommunity.ca/event/seniors-meet-and-greet-2/2026-12-09/
LOCATION:Harvey Lions Club\, 4722 NB-640\, Harvey\, NB E6K 3W9
CATEGORIES:Wellness
END:VEVENT
BEGIN:VEVENT
DTSTART;TZID=America/Halifax:20261223T130000
DTEND;TZID=America/Halifax:20261223T150000
DTSTAMP:20260421T230657
CREATED:20231208T223552Z
LAST-MODIFIED:20231208T223552Z
UID:10005247-1798030800-1798038000@harveyruralcommunity.ca
SUMMARY:Seniors Meet and Greet
DESCRIPTION:Join us at the Lion’s Club every 2nd and 4th Wednesday for a potluck and play 45’s\, nickel bingo or whatever you like.\nNot a senior yet\, that’s OK. Come anyway!  Everyone welcome.\nNote new time for winter.
URL:https://harveyruralcommunity.ca/event/seniors-meet-and-greet-2/2026-12-23/
LOCATION:Harvey Lions Club\, 4722 NB-640\, Harvey\, NB E6K 3W9
CATEGORIES:Wellness
END:VEVENT
BEGIN:VEVENT
DTSTART;TZID=America/Halifax:20270106T130000
DTEND;TZID=America/Halifax:20270106T150000
DTSTAMP:20260421T230657
CREATED:20231208T223552Z
LAST-MODIFIED:20231208T223552Z
UID:10005248-1799240400-1799247600@harveyruralcommunity.ca
SUMMARY:Seniors Meet and Greet
DESCRIPTION:Join us at the Lion’s Club every 2nd and 4th Wednesday for a potluck and play 45’s\, nickel bingo or whatever you like.\nNot a senior yet\, that’s OK. Come anyway!  Everyone welcome.\nNote new time for winter.
URL:https://harveyruralcommunity.ca/event/seniors-meet-and-greet-2/2027-01-06/
LOCATION:Harvey Lions Club\, 4722 NB-640\, Harvey\, NB E6K 3W9
CATEGORIES:Wellness
END:VEVENT
BEGIN:VEVENT
DTSTART;TZID=America/Halifax:20270120T130000
DTEND;TZID=America/Halifax:20270120T150000
DTSTAMP:20260421T230657
CREATED:20231208T223552Z
LAST-MODIFIED:20231208T223552Z
UID:10005249-1800450000-1800457200@harveyruralcommunity.ca
SUMMARY:Seniors Meet and Greet
DESCRIPTION:Join us at the Lion’s Club every 2nd and 4th Wednesday for a potluck and play 45’s\, nickel bingo or whatever you like.\nNot a senior yet\, that’s OK. Come anyway!  Everyone welcome.\nNote new time for winter.
URL:https://harveyruralcommunity.ca/event/seniors-meet-and-greet-2/2027-01-20/
LOCATION:Harvey Lions Club\, 4722 NB-640\, Harvey\, NB E6K 3W9
CATEGORIES:Wellness
END:VEVENT
BEGIN:VEVENT
DTSTART;TZID=America/Halifax:20270203T130000
DTEND;TZID=America/Halifax:20270203T150000
DTSTAMP:20260421T230657
CREATED:20231208T223552Z
LAST-MODIFIED:20231208T223552Z
UID:10005250-1801659600-1801666800@harveyruralcommunity.ca
SUMMARY:Seniors Meet and Greet
DESCRIPTION:Join us at the Lion’s Club every 2nd and 4th Wednesday for a potluck and play 45’s\, nickel bingo or whatever you like.\nNot a senior yet\, that’s OK. Come anyway!  Everyone welcome.\nNote new time for winter.
URL:https://harveyruralcommunity.ca/event/seniors-meet-and-greet-2/2027-02-03/
LOCATION:Harvey Lions Club\, 4722 NB-640\, Harvey\, NB E6K 3W9
CATEGORIES:Wellness
END:VEVENT
BEGIN:VEVENT
DTSTART;TZID=America/Halifax:20270217T130000
DTEND;TZID=America/Halifax:20270217T150000
DTSTAMP:20260421T230657
CREATED:20231208T223552Z
LAST-MODIFIED:20231208T223552Z
UID:10005251-1802869200-1802876400@harveyruralcommunity.ca
SUMMARY:Seniors Meet and Greet
DESCRIPTION:Join us at the Lion’s Club every 2nd and 4th Wednesday for a potluck and play 45’s\, nickel bingo or whatever you like.\nNot a senior yet\, that’s OK. Come anyway!  Everyone welcome.\nNote new time for winter.
URL:https://harveyruralcommunity.ca/event/seniors-meet-and-greet-2/2027-02-17/
LOCATION:Harvey Lions Club\, 4722 NB-640\, Harvey\, NB E6K 3W9
CATEGORIES:Wellness
END:VEVENT
BEGIN:VEVENT
DTSTART;TZID=America/Halifax:20270303T130000
DTEND;TZID=America/Halifax:20270303T150000
DTSTAMP:20260421T230657
CREATED:20231208T223552Z
LAST-MODIFIED:20231208T223552Z
UID:10005252-1804078800-1804086000@harveyruralcommunity.ca
SUMMARY:Seniors Meet and Greet
DESCRIPTION:Join us at the Lion’s Club every 2nd and 4th Wednesday for a potluck and play 45’s\, nickel bingo or whatever you like.\nNot a senior yet\, that’s OK. Come anyway!  Everyone welcome.\nNote new time for winter.
URL:https://harveyruralcommunity.ca/event/seniors-meet-and-greet-2/2027-03-03/
LOCATION:Harvey Lions Club\, 4722 NB-640\, Harvey\, NB E6K 3W9
CATEGORIES:Wellness
END:VEVENT
BEGIN:VEVENT
DTSTART;TZID=America/Halifax:20270317T130000
DTEND;TZID=America/Halifax:20270317T150000
DTSTAMP:20260421T230657
CREATED:20231208T223552Z
LAST-MODIFIED:20231208T223552Z
UID:10005253-1805288400-1805295600@harveyruralcommunity.ca
SUMMARY:Seniors Meet and Greet
DESCRIPTION:Join us at the Lion’s Club every 2nd and 4th Wednesday for a potluck and play 45’s\, nickel bingo or whatever you like.\nNot a senior yet\, that’s OK. Come anyway!  Everyone welcome.\nNote new time for winter.
URL:https://harveyruralcommunity.ca/event/seniors-meet-and-greet-2/2027-03-17/
LOCATION:Harvey Lions Club\, 4722 NB-640\, Harvey\, NB E6K 3W9
CATEGORIES:Wellness
END:VEVENT
BEGIN:VEVENT
DTSTART;TZID=America/Halifax:20270331T130000
DTEND;TZID=America/Halifax:20270331T150000
DTSTAMP:20260421T230657
CREATED:20231208T223552Z
LAST-MODIFIED:20231208T223552Z
UID:10005254-1806498000-1806505200@harveyruralcommunity.ca
SUMMARY:Seniors Meet and Greet
DESCRIPTION:Join us at the Lion’s Club every 2nd and 4th Wednesday for a potluck and play 45’s\, nickel bingo or whatever you like.\nNot a senior yet\, that’s OK. Come anyway!  Everyone welcome.\nNote new time for winter.
URL:https://harveyruralcommunity.ca/event/seniors-meet-and-greet-2/2027-03-31/
LOCATION:Harvey Lions Club\, 4722 NB-640\, Harvey\, NB E6K 3W9
CATEGORIES:Wellness
END:VEVENT
BEGIN:VEVENT
DTSTART;TZID=America/Halifax:20270414T130000
DTEND;TZID=America/Halifax:20270414T150000
DTSTAMP:20260421T230657
CREATED:20231208T223552Z
LAST-MODIFIED:20231208T223552Z
UID:10005255-1807707600-1807714800@harveyruralcommunity.ca
SUMMARY:Seniors Meet and Greet
DESCRIPTION:Join us at the Lion’s Club every 2nd and 4th Wednesday for a potluck and play 45’s\, nickel bingo or whatever you like.\nNot a senior yet\, that’s OK. Come anyway!  Everyone welcome.\nNote new time for winter.
URL:https://harveyruralcommunity.ca/event/seniors-meet-and-greet-2/2027-04-14/
LOCATION:Harvey Lions Club\, 4722 NB-640\, Harvey\, NB E6K 3W9
CATEGORIES:Wellness
END:VEVENT
BEGIN:VEVENT
DTSTART;TZID=America/Halifax:20270428T130000
DTEND;TZID=America/Halifax:20270428T150000
DTSTAMP:20260421T230657
CREATED:20231208T223552Z
LAST-MODIFIED:20231208T223552Z
UID:10005256-1808917200-1808924400@harveyruralcommunity.ca
SUMMARY:Seniors Meet and Greet
DESCRIPTION:Join us at the Lion’s Club every 2nd and 4th Wednesday for a potluck and play 45’s\, nickel bingo or whatever you like.\nNot a senior yet\, that’s OK. Come anyway!  Everyone welcome.\nNote new time for winter.
URL:https://harveyruralcommunity.ca/event/seniors-meet-and-greet-2/2027-04-28/
LOCATION:Harvey Lions Club\, 4722 NB-640\, Harvey\, NB E6K 3W9
CATEGORIES:Wellness
END:VEVENT
BEGIN:VEVENT
DTSTART;TZID=America/Halifax:20270512T130000
DTEND;TZID=America/Halifax:20270512T150000
DTSTAMP:20260421T230657
CREATED:20231208T223552Z
LAST-MODIFIED:20231208T223552Z
UID:10005257-1810126800-1810134000@harveyruralcommunity.ca
SUMMARY:Seniors Meet and Greet
DESCRIPTION:Join us at the Lion’s Club every 2nd and 4th Wednesday for a potluck and play 45’s\, nickel bingo or whatever you like.\nNot a senior yet\, that’s OK. Come anyway!  Everyone welcome.\nNote new time for winter.
URL:https://harveyruralcommunity.ca/event/seniors-meet-and-greet-2/2027-05-12/
LOCATION:Harvey Lions Club\, 4722 NB-640\, Harvey\, NB E6K 3W9
CATEGORIES:Wellness
END:VEVENT
BEGIN:VEVENT
DTSTART;TZID=America/Halifax:20270526T130000
DTEND;TZID=America/Halifax:20270526T150000
DTSTAMP:20260421T230657
CREATED:20231208T223552Z
LAST-MODIFIED:20231208T223552Z
UID:10005258-1811336400-1811343600@harveyruralcommunity.ca
SUMMARY:Seniors Meet and Greet
DESCRIPTION:Join us at the Lion’s Club every 2nd and 4th Wednesday for a potluck and play 45’s\, nickel bingo or whatever you like.\nNot a senior yet\, that’s OK. Come anyway!  Everyone welcome.\nNote new time for winter.
URL:https://harveyruralcommunity.ca/event/seniors-meet-and-greet-2/2027-05-26/
LOCATION:Harvey Lions Club\, 4722 NB-640\, Harvey\, NB E6K 3W9
CATEGORIES:Wellness
END:VEVENT
BEGIN:VEVENT
DTSTART;TZID=America/Halifax:20270609T130000
DTEND;TZID=America/Halifax:20270609T150000
DTSTAMP:20260421T230657
CREATED:20231208T223552Z
LAST-MODIFIED:20231208T223552Z
UID:10005259-1812546000-1812553200@harveyruralcommunity.ca
SUMMARY:Seniors Meet and Greet
DESCRIPTION:Join us at the Lion’s Club every 2nd and 4th Wednesday for a potluck and play 45’s\, nickel bingo or whatever you like.\nNot a senior yet\, that’s OK. Come anyway!  Everyone welcome.\nNote new time for winter.
URL:https://harveyruralcommunity.ca/event/seniors-meet-and-greet-2/2027-06-09/
LOCATION:Harvey Lions Club\, 4722 NB-640\, Harvey\, NB E6K 3W9
CATEGORIES:Wellness
END:VEVENT
BEGIN:VEVENT
DTSTART;TZID=America/Halifax:20270623T130000
DTEND;TZID=America/Halifax:20270623T150000
DTSTAMP:20260421T230657
CREATED:20231208T223552Z
LAST-MODIFIED:20231208T223552Z
UID:10005260-1813755600-1813762800@harveyruralcommunity.ca
SUMMARY:Seniors Meet and Greet
DESCRIPTION:Join us at the Lion’s Club every 2nd and 4th Wednesday for a potluck and play 45’s\, nickel bingo or whatever you like.\nNot a senior yet\, that’s OK. Come anyway!  Everyone welcome.\nNote new time for winter.
URL:https://harveyruralcommunity.ca/event/seniors-meet-and-greet-2/2027-06-23/
LOCATION:Harvey Lions Club\, 4722 NB-640\, Harvey\, NB E6K 3W9
CATEGORIES:Wellness
END:VEVENT
BEGIN:VEVENT
DTSTART;TZID=America/Halifax:20270707T130000
DTEND;TZID=America/Halifax:20270707T150000
DTSTAMP:20260421T230657
CREATED:20231208T223552Z
LAST-MODIFIED:20231208T223552Z
UID:10005261-1814965200-1814972400@harveyruralcommunity.ca
SUMMARY:Seniors Meet and Greet
DESCRIPTION:Join us at the Lion’s Club every 2nd and 4th Wednesday for a potluck and play 45’s\, nickel bingo or whatever you like.\nNot a senior yet\, that’s OK. Come anyway!  Everyone welcome.\nNote new time for winter.
URL:https://harveyruralcommunity.ca/event/seniors-meet-and-greet-2/2027-07-07/
LOCATION:Harvey Lions Club\, 4722 NB-640\, Harvey\, NB E6K 3W9
CATEGORIES:Wellness
END:VEVENT
BEGIN:VEVENT
DTSTART;TZID=America/Halifax:20270721T130000
DTEND;TZID=America/Halifax:20270721T150000
DTSTAMP:20260421T230657
CREATED:20231208T223552Z
LAST-MODIFIED:20231208T223552Z
UID:10005262-1816174800-1816182000@harveyruralcommunity.ca
SUMMARY:Seniors Meet and Greet
DESCRIPTION:Join us at the Lion’s Club every 2nd and 4th Wednesday for a potluck and play 45’s\, nickel bingo or whatever you like.\nNot a senior yet\, that’s OK. Come anyway!  Everyone welcome.\nNote new time for winter.
URL:https://harveyruralcommunity.ca/event/seniors-meet-and-greet-2/2027-07-21/
LOCATION:Harvey Lions Club\, 4722 NB-640\, Harvey\, NB E6K 3W9
CATEGORIES:Wellness
END:VEVENT
BEGIN:VEVENT
DTSTART;TZID=America/Halifax:20270804T130000
DTEND;TZID=America/Halifax:20270804T150000
DTSTAMP:20260421T230657
CREATED:20231208T223552Z
LAST-MODIFIED:20231208T223552Z
UID:10005263-1817384400-1817391600@harveyruralcommunity.ca
SUMMARY:Seniors Meet and Greet
DESCRIPTION:Join us at the Lion’s Club every 2nd and 4th Wednesday for a potluck and play 45’s\, nickel bingo or whatever you like.\nNot a senior yet\, that’s OK. Come anyway!  Everyone welcome.\nNote new time for winter.
URL:https://harveyruralcommunity.ca/event/seniors-meet-and-greet-2/2027-08-04/
LOCATION:Harvey Lions Club\, 4722 NB-640\, Harvey\, NB E6K 3W9
CATEGORIES:Wellness
END:VEVENT
BEGIN:VEVENT
DTSTART;TZID=America/Halifax:20270818T130000
DTEND;TZID=America/Halifax:20270818T150000
DTSTAMP:20260421T230657
CREATED:20231208T223552Z
LAST-MODIFIED:20231208T223552Z
UID:10005264-1818594000-1818601200@harveyruralcommunity.ca
SUMMARY:Seniors Meet and Greet
DESCRIPTION:Join us at the Lion’s Club every 2nd and 4th Wednesday for a potluck and play 45’s\, nickel bingo or whatever you like.\nNot a senior yet\, that’s OK. Come anyway!  Everyone welcome.\nNote new time for winter.
URL:https://harveyruralcommunity.ca/event/seniors-meet-and-greet-2/2027-08-18/
LOCATION:Harvey Lions Club\, 4722 NB-640\, Harvey\, NB E6K 3W9
CATEGORIES:Wellness
END:VEVENT
BEGIN:VEVENT
DTSTART;TZID=America/Halifax:20270901T130000
DTEND;TZID=America/Halifax:20270901T150000
DTSTAMP:20260421T230657
CREATED:20231208T223552Z
LAST-MODIFIED:20231208T223552Z
UID:10005265-1819803600-1819810800@harveyruralcommunity.ca
SUMMARY:Seniors Meet and Greet
DESCRIPTION:Join us at the Lion’s Club every 2nd and 4th Wednesday for a potluck and play 45’s\, nickel bingo or whatever you like.\nNot a senior yet\, that’s OK. Come anyway!  Everyone welcome.\nNote new time for winter.
URL:https://harveyruralcommunity.ca/event/seniors-meet-and-greet-2/2027-09-01/
LOCATION:Harvey Lions Club\, 4722 NB-640\, Harvey\, NB E6K 3W9
CATEGORIES:Wellness
END:VEVENT
BEGIN:VEVENT
DTSTART;TZID=America/Halifax:20270915T130000
DTEND;TZID=America/Halifax:20270915T150000
DTSTAMP:20260421T230657
CREATED:20231208T223552Z
LAST-MODIFIED:20231208T223552Z
UID:10005266-1821013200-1821020400@harveyruralcommunity.ca
SUMMARY:Seniors Meet and Greet
DESCRIPTION:Join us at the Lion’s Club every 2nd and 4th Wednesday for a potluck and play 45’s\, nickel bingo or whatever you like.\nNot a senior yet\, that’s OK. Come anyway!  Everyone welcome.\nNote new time for winter.
URL:https://harveyruralcommunity.ca/event/seniors-meet-and-greet-2/2027-09-15/
LOCATION:Harvey Lions Club\, 4722 NB-640\, Harvey\, NB E6K 3W9
CATEGORIES:Wellness
END:VEVENT
BEGIN:VEVENT
DTSTART;TZID=America/Halifax:20270929T130000
DTEND;TZID=America/Halifax:20270929T150000
DTSTAMP:20260421T230657
CREATED:20231208T223552Z
LAST-MODIFIED:20231208T223552Z
UID:10005267-1822222800-1822230000@harveyruralcommunity.ca
SUMMARY:Seniors Meet and Greet
DESCRIPTION:Join us at the Lion’s Club every 2nd and 4th Wednesday for a potluck and play 45’s\, nickel bingo or whatever you like.\nNot a senior yet\, that’s OK. Come anyway!  Everyone welcome.\nNote new time for winter.
URL:https://harveyruralcommunity.ca/event/seniors-meet-and-greet-2/2027-09-29/
LOCATION:Harvey Lions Club\, 4722 NB-640\, Harvey\, NB E6K 3W9
CATEGORIES:Wellness
END:VEVENT
BEGIN:VEVENT
DTSTART;TZID=America/Halifax:20271013T130000
DTEND;TZID=America/Halifax:20271013T150000
DTSTAMP:20260421T230657
CREATED:20231208T223552Z
LAST-MODIFIED:20231208T223552Z
UID:10005268-1823432400-1823439600@harveyruralcommunity.ca
SUMMARY:Seniors Meet and Greet
DESCRIPTION:Join us at the Lion’s Club every 2nd and 4th Wednesday for a potluck and play 45’s\, nickel bingo or whatever you like.\nNot a senior yet\, that’s OK. Come anyway!  Everyone welcome.\nNote new time for winter.
URL:https://harveyruralcommunity.ca/event/seniors-meet-and-greet-2/2027-10-13/
LOCATION:Harvey Lions Club\, 4722 NB-640\, Harvey\, NB E6K 3W9
CATEGORIES:Wellness
END:VEVENT
BEGIN:VEVENT
DTSTART;TZID=America/Halifax:20271027T130000
DTEND;TZID=America/Halifax:20271027T150000
DTSTAMP:20260421T230657
CREATED:20231208T223552Z
LAST-MODIFIED:20231208T223552Z
UID:10005269-1824642000-1824649200@harveyruralcommunity.ca
SUMMARY:Seniors Meet and Greet
DESCRIPTION:Join us at the Lion’s Club every 2nd and 4th Wednesday for a potluck and play 45’s\, nickel bingo or whatever you like.\nNot a senior yet\, that’s OK. Come anyway!  Everyone welcome.\nNote new time for winter.
URL:https://harveyruralcommunity.ca/event/seniors-meet-and-greet-2/2027-10-27/
LOCATION:Harvey Lions Club\, 4722 NB-640\, Harvey\, NB E6K 3W9
CATEGORIES:Wellness
END:VEVENT
BEGIN:VEVENT
DTSTART;TZID=America/Halifax:20271110T130000
DTEND;TZID=America/Halifax:20271110T150000
DTSTAMP:20260421T230657
CREATED:20231208T223552Z
LAST-MODIFIED:20231208T223552Z
UID:10005270-1825851600-1825858800@harveyruralcommunity.ca
SUMMARY:Seniors Meet and Greet
DESCRIPTION:Join us at the Lion’s Club every 2nd and 4th Wednesday for a potluck and play 45’s\, nickel bingo or whatever you like.\nNot a senior yet\, that’s OK. Come anyway!  Everyone welcome.\nNote new time for winter.
URL:https://harveyruralcommunity.ca/event/seniors-meet-and-greet-2/2027-11-10/
LOCATION:Harvey Lions Club\, 4722 NB-640\, Harvey\, NB E6K 3W9
CATEGORIES:Wellness
END:VEVENT
BEGIN:VEVENT
DTSTART;TZID=America/Halifax:20271124T130000
DTEND;TZID=America/Halifax:20271124T150000
DTSTAMP:20260421T230657
CREATED:20231208T223552Z
LAST-MODIFIED:20231208T223552Z
UID:10005271-1827061200-1827068400@harveyruralcommunity.ca
SUMMARY:Seniors Meet and Greet
DESCRIPTION:Join us at the Lion’s Club every 2nd and 4th Wednesday for a potluck and play 45’s\, nickel bingo or whatever you like.\nNot a senior yet\, that’s OK. Come anyway!  Everyone welcome.\nNote new time for winter.
URL:https://harveyruralcommunity.ca/event/seniors-meet-and-greet-2/2027-11-24/
LOCATION:Harvey Lions Club\, 4722 NB-640\, Harvey\, NB E6K 3W9
CATEGORIES:Wellness
END:VEVENT
END:VCALENDAR