BEGIN:VCALENDAR
VERSION:2.0
PRODID:-//Harvey Rural Community - ECPv6.6.1//NONSGML v1.0//EN
CALSCALE:GREGORIAN
METHOD:PUBLISH
X-WR-CALNAME:Harvey Rural Community
X-ORIGINAL-URL:https://harveyruralcommunity.ca
X-WR-CALDESC:Events for Harvey Rural Community
BEGIN:VTIMEZONE
TZID:America/Halifax
BEGIN:DAYLIGHT
TZOFFSETFROM:-0400
TZOFFSETTO:-0300
TZNAME:ADT
DTSTART:20260308T060000
END:DAYLIGHT
BEGIN:STANDARD
TZOFFSETFROM:-0300
TZOFFSETTO:-0400
TZNAME:AST
DTSTART:20261101T050000
END:STANDARD
END:VTIMEZONE
BEGIN:VEVENT
DTSTART;TZID=America/Halifax:20260605T100000
DTEND;TZID=America/Halifax:20260605T140000
DTSTAMP:20260422T155427
CREATED:20250902T121428Z
LAST-MODIFIED:20250902T121428Z
UID:10007040-1780653600-1780668000@harveyruralcommunity.ca
SUMMARY:The Gathering Place
DESCRIPTION:Open every Monday and Friday\, from 10am to 2pm – The Gathering Place is a welcoming space for you to: \n\nMeet up with friends and make new ones 👱‍♂️ 👩‍🦳.\nRelax with tea and coffee 🍵.\nEnjoy lively discussions and engaging activities ♟.\n\n  \nLocated at the Harvey Curling Club.
URL:https://harveyruralcommunity.ca/event/the-gathering-place/2026-06-05/
END:VEVENT
BEGIN:VEVENT
DTSTART;TZID=America/Halifax:20260608T100000
DTEND;TZID=America/Halifax:20260608T140000
DTSTAMP:20260422T155427
CREATED:20250902T121428Z
LAST-MODIFIED:20250902T121428Z
UID:10007041-1780912800-1780927200@harveyruralcommunity.ca
SUMMARY:The Gathering Place
DESCRIPTION:Open every Monday and Friday\, from 10am to 2pm – The Gathering Place is a welcoming space for you to: \n\nMeet up with friends and make new ones 👱‍♂️ 👩‍🦳.\nRelax with tea and coffee 🍵.\nEnjoy lively discussions and engaging activities ♟.\n\n  \nLocated at the Harvey Curling Club.
URL:https://harveyruralcommunity.ca/event/the-gathering-place/2026-06-08/
END:VEVENT
BEGIN:VEVENT
DTSTART;TZID=America/Halifax:20260612T100000
DTEND;TZID=America/Halifax:20260612T140000
DTSTAMP:20260422T155427
CREATED:20250902T121428Z
LAST-MODIFIED:20250902T121428Z
UID:10007042-1781258400-1781272800@harveyruralcommunity.ca
SUMMARY:The Gathering Place
DESCRIPTION:Open every Monday and Friday\, from 10am to 2pm – The Gathering Place is a welcoming space for you to: \n\nMeet up with friends and make new ones 👱‍♂️ 👩‍🦳.\nRelax with tea and coffee 🍵.\nEnjoy lively discussions and engaging activities ♟.\n\n  \nLocated at the Harvey Curling Club.
URL:https://harveyruralcommunity.ca/event/the-gathering-place/2026-06-12/
END:VEVENT
BEGIN:VEVENT
DTSTART;TZID=America/Halifax:20260615T100000
DTEND;TZID=America/Halifax:20260615T140000
DTSTAMP:20260422T155427
CREATED:20250902T121428Z
LAST-MODIFIED:20250902T121428Z
UID:10007043-1781517600-1781532000@harveyruralcommunity.ca
SUMMARY:The Gathering Place
DESCRIPTION:Open every Monday and Friday\, from 10am to 2pm – The Gathering Place is a welcoming space for you to: \n\nMeet up with friends and make new ones 👱‍♂️ 👩‍🦳.\nRelax with tea and coffee 🍵.\nEnjoy lively discussions and engaging activities ♟.\n\n  \nLocated at the Harvey Curling Club.
URL:https://harveyruralcommunity.ca/event/the-gathering-place/2026-06-15/
END:VEVENT
BEGIN:VEVENT
DTSTART;TZID=America/Halifax:20260619T100000
DTEND;TZID=America/Halifax:20260619T140000
DTSTAMP:20260422T155427
CREATED:20250902T121428Z
LAST-MODIFIED:20250902T121428Z
UID:10007044-1781863200-1781877600@harveyruralcommunity.ca
SUMMARY:The Gathering Place
DESCRIPTION:Open every Monday and Friday\, from 10am to 2pm – The Gathering Place is a welcoming space for you to: \n\nMeet up with friends and make new ones 👱‍♂️ 👩‍🦳.\nRelax with tea and coffee 🍵.\nEnjoy lively discussions and engaging activities ♟.\n\n  \nLocated at the Harvey Curling Club.
URL:https://harveyruralcommunity.ca/event/the-gathering-place/2026-06-19/
END:VEVENT
BEGIN:VEVENT
DTSTART;TZID=America/Halifax:20260622T100000
DTEND;TZID=America/Halifax:20260622T140000
DTSTAMP:20260422T155427
CREATED:20250902T121428Z
LAST-MODIFIED:20250902T121428Z
UID:10007045-1782122400-1782136800@harveyruralcommunity.ca
SUMMARY:The Gathering Place
DESCRIPTION:Open every Monday and Friday\, from 10am to 2pm – The Gathering Place is a welcoming space for you to: \n\nMeet up with friends and make new ones 👱‍♂️ 👩‍🦳.\nRelax with tea and coffee 🍵.\nEnjoy lively discussions and engaging activities ♟.\n\n  \nLocated at the Harvey Curling Club.
URL:https://harveyruralcommunity.ca/event/the-gathering-place/2026-06-22/
END:VEVENT
BEGIN:VEVENT
DTSTART;TZID=America/Halifax:20260626T100000
DTEND;TZID=America/Halifax:20260626T140000
DTSTAMP:20260422T155427
CREATED:20250902T121428Z
LAST-MODIFIED:20250902T121428Z
UID:10007046-1782468000-1782482400@harveyruralcommunity.ca
SUMMARY:The Gathering Place
DESCRIPTION:Open every Monday and Friday\, from 10am to 2pm – The Gathering Place is a welcoming space for you to: \n\nMeet up with friends and make new ones 👱‍♂️ 👩‍🦳.\nRelax with tea and coffee 🍵.\nEnjoy lively discussions and engaging activities ♟.\n\n  \nLocated at the Harvey Curling Club.
URL:https://harveyruralcommunity.ca/event/the-gathering-place/2026-06-26/
END:VEVENT
BEGIN:VEVENT
DTSTART;TZID=America/Halifax:20260629T100000
DTEND;TZID=America/Halifax:20260629T140000
DTSTAMP:20260422T155427
CREATED:20250902T121428Z
LAST-MODIFIED:20250902T121428Z
UID:10007047-1782727200-1782741600@harveyruralcommunity.ca
SUMMARY:The Gathering Place
DESCRIPTION:Open every Monday and Friday\, from 10am to 2pm – The Gathering Place is a welcoming space for you to: \n\nMeet up with friends and make new ones 👱‍♂️ 👩‍🦳.\nRelax with tea and coffee 🍵.\nEnjoy lively discussions and engaging activities ♟.\n\n  \nLocated at the Harvey Curling Club.
URL:https://harveyruralcommunity.ca/event/the-gathering-place/2026-06-29/
END:VEVENT
BEGIN:VEVENT
DTSTART;TZID=America/Halifax:20260703T100000
DTEND;TZID=America/Halifax:20260703T140000
DTSTAMP:20260422T155427
CREATED:20250902T121428Z
LAST-MODIFIED:20250902T121428Z
UID:10007048-1783072800-1783087200@harveyruralcommunity.ca
SUMMARY:The Gathering Place
DESCRIPTION:Open every Monday and Friday\, from 10am to 2pm – The Gathering Place is a welcoming space for you to: \n\nMeet up with friends and make new ones 👱‍♂️ 👩‍🦳.\nRelax with tea and coffee 🍵.\nEnjoy lively discussions and engaging activities ♟.\n\n  \nLocated at the Harvey Curling Club.
URL:https://harveyruralcommunity.ca/event/the-gathering-place/2026-07-03/
END:VEVENT
BEGIN:VEVENT
DTSTART;TZID=America/Halifax:20260706T100000
DTEND;TZID=America/Halifax:20260706T140000
DTSTAMP:20260422T155427
CREATED:20250902T121428Z
LAST-MODIFIED:20250902T121428Z
UID:10007049-1783332000-1783346400@harveyruralcommunity.ca
SUMMARY:The Gathering Place
DESCRIPTION:Open every Monday and Friday\, from 10am to 2pm – The Gathering Place is a welcoming space for you to: \n\nMeet up with friends and make new ones 👱‍♂️ 👩‍🦳.\nRelax with tea and coffee 🍵.\nEnjoy lively discussions and engaging activities ♟.\n\n  \nLocated at the Harvey Curling Club.
URL:https://harveyruralcommunity.ca/event/the-gathering-place/2026-07-06/
END:VEVENT
BEGIN:VEVENT
DTSTART;TZID=America/Halifax:20260710T100000
DTEND;TZID=America/Halifax:20260710T140000
DTSTAMP:20260422T155427
CREATED:20250902T121428Z
LAST-MODIFIED:20250902T121428Z
UID:10007050-1783677600-1783692000@harveyruralcommunity.ca
SUMMARY:The Gathering Place
DESCRIPTION:Open every Monday and Friday\, from 10am to 2pm – The Gathering Place is a welcoming space for you to: \n\nMeet up with friends and make new ones 👱‍♂️ 👩‍🦳.\nRelax with tea and coffee 🍵.\nEnjoy lively discussions and engaging activities ♟.\n\n  \nLocated at the Harvey Curling Club.
URL:https://harveyruralcommunity.ca/event/the-gathering-place/2026-07-10/
END:VEVENT
BEGIN:VEVENT
DTSTART;TZID=America/Halifax:20260713T100000
DTEND;TZID=America/Halifax:20260713T140000
DTSTAMP:20260422T155427
CREATED:20250902T121428Z
LAST-MODIFIED:20250902T121428Z
UID:10007051-1783936800-1783951200@harveyruralcommunity.ca
SUMMARY:The Gathering Place
DESCRIPTION:Open every Monday and Friday\, from 10am to 2pm – The Gathering Place is a welcoming space for you to: \n\nMeet up with friends and make new ones 👱‍♂️ 👩‍🦳.\nRelax with tea and coffee 🍵.\nEnjoy lively discussions and engaging activities ♟.\n\n  \nLocated at the Harvey Curling Club.
URL:https://harveyruralcommunity.ca/event/the-gathering-place/2026-07-13/
END:VEVENT
BEGIN:VEVENT
DTSTART;TZID=America/Halifax:20260717T100000
DTEND;TZID=America/Halifax:20260717T140000
DTSTAMP:20260422T155427
CREATED:20250902T121428Z
LAST-MODIFIED:20250902T121428Z
UID:10007052-1784282400-1784296800@harveyruralcommunity.ca
SUMMARY:The Gathering Place
DESCRIPTION:Open every Monday and Friday\, from 10am to 2pm – The Gathering Place is a welcoming space for you to: \n\nMeet up with friends and make new ones 👱‍♂️ 👩‍🦳.\nRelax with tea and coffee 🍵.\nEnjoy lively discussions and engaging activities ♟.\n\n  \nLocated at the Harvey Curling Club.
URL:https://harveyruralcommunity.ca/event/the-gathering-place/2026-07-17/
END:VEVENT
BEGIN:VEVENT
DTSTART;TZID=America/Halifax:20260720T100000
DTEND;TZID=America/Halifax:20260720T140000
DTSTAMP:20260422T155427
CREATED:20250902T121428Z
LAST-MODIFIED:20250902T121428Z
UID:10007053-1784541600-1784556000@harveyruralcommunity.ca
SUMMARY:The Gathering Place
DESCRIPTION:Open every Monday and Friday\, from 10am to 2pm – The Gathering Place is a welcoming space for you to: \n\nMeet up with friends and make new ones 👱‍♂️ 👩‍🦳.\nRelax with tea and coffee 🍵.\nEnjoy lively discussions and engaging activities ♟.\n\n  \nLocated at the Harvey Curling Club.
URL:https://harveyruralcommunity.ca/event/the-gathering-place/2026-07-20/
END:VEVENT
BEGIN:VEVENT
DTSTART;TZID=America/Halifax:20260724T100000
DTEND;TZID=America/Halifax:20260724T140000
DTSTAMP:20260422T155427
CREATED:20250902T121428Z
LAST-MODIFIED:20250902T121428Z
UID:10007054-1784887200-1784901600@harveyruralcommunity.ca
SUMMARY:The Gathering Place
DESCRIPTION:Open every Monday and Friday\, from 10am to 2pm – The Gathering Place is a welcoming space for you to: \n\nMeet up with friends and make new ones 👱‍♂️ 👩‍🦳.\nRelax with tea and coffee 🍵.\nEnjoy lively discussions and engaging activities ♟.\n\n  \nLocated at the Harvey Curling Club.
URL:https://harveyruralcommunity.ca/event/the-gathering-place/2026-07-24/
END:VEVENT
BEGIN:VEVENT
DTSTART;TZID=America/Halifax:20260727T100000
DTEND;TZID=America/Halifax:20260727T140000
DTSTAMP:20260422T155427
CREATED:20250902T121428Z
LAST-MODIFIED:20250902T121428Z
UID:10007055-1785146400-1785160800@harveyruralcommunity.ca
SUMMARY:The Gathering Place
DESCRIPTION:Open every Monday and Friday\, from 10am to 2pm – The Gathering Place is a welcoming space for you to: \n\nMeet up with friends and make new ones 👱‍♂️ 👩‍🦳.\nRelax with tea and coffee 🍵.\nEnjoy lively discussions and engaging activities ♟.\n\n  \nLocated at the Harvey Curling Club.
URL:https://harveyruralcommunity.ca/event/the-gathering-place/2026-07-27/
END:VEVENT
BEGIN:VEVENT
DTSTART;TZID=America/Halifax:20260731T100000
DTEND;TZID=America/Halifax:20260731T140000
DTSTAMP:20260422T155427
CREATED:20250902T121428Z
LAST-MODIFIED:20250902T121428Z
UID:10007056-1785492000-1785506400@harveyruralcommunity.ca
SUMMARY:The Gathering Place
DESCRIPTION:Open every Monday and Friday\, from 10am to 2pm – The Gathering Place is a welcoming space for you to: \n\nMeet up with friends and make new ones 👱‍♂️ 👩‍🦳.\nRelax with tea and coffee 🍵.\nEnjoy lively discussions and engaging activities ♟.\n\n  \nLocated at the Harvey Curling Club.
URL:https://harveyruralcommunity.ca/event/the-gathering-place/2026-07-31/
END:VEVENT
BEGIN:VEVENT
DTSTART;TZID=America/Halifax:20260803T100000
DTEND;TZID=America/Halifax:20260803T140000
DTSTAMP:20260422T155427
CREATED:20250902T121428Z
LAST-MODIFIED:20250902T121428Z
UID:10007057-1785751200-1785765600@harveyruralcommunity.ca
SUMMARY:The Gathering Place
DESCRIPTION:Open every Monday and Friday\, from 10am to 2pm – The Gathering Place is a welcoming space for you to: \n\nMeet up with friends and make new ones 👱‍♂️ 👩‍🦳.\nRelax with tea and coffee 🍵.\nEnjoy lively discussions and engaging activities ♟.\n\n  \nLocated at the Harvey Curling Club.
URL:https://harveyruralcommunity.ca/event/the-gathering-place/2026-08-03/
END:VEVENT
BEGIN:VEVENT
DTSTART;TZID=America/Halifax:20260807T100000
DTEND;TZID=America/Halifax:20260807T140000
DTSTAMP:20260422T155427
CREATED:20250902T121428Z
LAST-MODIFIED:20250902T121428Z
UID:10007058-1786096800-1786111200@harveyruralcommunity.ca
SUMMARY:The Gathering Place
DESCRIPTION:Open every Monday and Friday\, from 10am to 2pm – The Gathering Place is a welcoming space for you to: \n\nMeet up with friends and make new ones 👱‍♂️ 👩‍🦳.\nRelax with tea and coffee 🍵.\nEnjoy lively discussions and engaging activities ♟.\n\n  \nLocated at the Harvey Curling Club.
URL:https://harveyruralcommunity.ca/event/the-gathering-place/2026-08-07/
END:VEVENT
BEGIN:VEVENT
DTSTART;TZID=America/Halifax:20260810T100000
DTEND;TZID=America/Halifax:20260810T140000
DTSTAMP:20260422T155427
CREATED:20250902T121428Z
LAST-MODIFIED:20250902T121428Z
UID:10007059-1786356000-1786370400@harveyruralcommunity.ca
SUMMARY:The Gathering Place
DESCRIPTION:Open every Monday and Friday\, from 10am to 2pm – The Gathering Place is a welcoming space for you to: \n\nMeet up with friends and make new ones 👱‍♂️ 👩‍🦳.\nRelax with tea and coffee 🍵.\nEnjoy lively discussions and engaging activities ♟.\n\n  \nLocated at the Harvey Curling Club.
URL:https://harveyruralcommunity.ca/event/the-gathering-place/2026-08-10/
END:VEVENT
BEGIN:VEVENT
DTSTART;TZID=America/Halifax:20260814T100000
DTEND;TZID=America/Halifax:20260814T140000
DTSTAMP:20260422T155427
CREATED:20250902T121428Z
LAST-MODIFIED:20250902T121428Z
UID:10007060-1786701600-1786716000@harveyruralcommunity.ca
SUMMARY:The Gathering Place
DESCRIPTION:Open every Monday and Friday\, from 10am to 2pm – The Gathering Place is a welcoming space for you to: \n\nMeet up with friends and make new ones 👱‍♂️ 👩‍🦳.\nRelax with tea and coffee 🍵.\nEnjoy lively discussions and engaging activities ♟.\n\n  \nLocated at the Harvey Curling Club.
URL:https://harveyruralcommunity.ca/event/the-gathering-place/2026-08-14/
END:VEVENT
BEGIN:VEVENT
DTSTART;TZID=America/Halifax:20260817T100000
DTEND;TZID=America/Halifax:20260817T140000
DTSTAMP:20260422T155427
CREATED:20250902T121428Z
LAST-MODIFIED:20250902T121428Z
UID:10007061-1786960800-1786975200@harveyruralcommunity.ca
SUMMARY:The Gathering Place
DESCRIPTION:Open every Monday and Friday\, from 10am to 2pm – The Gathering Place is a welcoming space for you to: \n\nMeet up with friends and make new ones 👱‍♂️ 👩‍🦳.\nRelax with tea and coffee 🍵.\nEnjoy lively discussions and engaging activities ♟.\n\n  \nLocated at the Harvey Curling Club.
URL:https://harveyruralcommunity.ca/event/the-gathering-place/2026-08-17/
END:VEVENT
BEGIN:VEVENT
DTSTART;TZID=America/Halifax:20260821T100000
DTEND;TZID=America/Halifax:20260821T140000
DTSTAMP:20260422T155427
CREATED:20250902T121428Z
LAST-MODIFIED:20250902T121428Z
UID:10007062-1787306400-1787320800@harveyruralcommunity.ca
SUMMARY:The Gathering Place
DESCRIPTION:Open every Monday and Friday\, from 10am to 2pm – The Gathering Place is a welcoming space for you to: \n\nMeet up with friends and make new ones 👱‍♂️ 👩‍🦳.\nRelax with tea and coffee 🍵.\nEnjoy lively discussions and engaging activities ♟.\n\n  \nLocated at the Harvey Curling Club.
URL:https://harveyruralcommunity.ca/event/the-gathering-place/2026-08-21/
END:VEVENT
BEGIN:VEVENT
DTSTART;TZID=America/Halifax:20260824T100000
DTEND;TZID=America/Halifax:20260824T140000
DTSTAMP:20260422T155427
CREATED:20250902T121428Z
LAST-MODIFIED:20250902T121428Z
UID:10007063-1787565600-1787580000@harveyruralcommunity.ca
SUMMARY:The Gathering Place
DESCRIPTION:Open every Monday and Friday\, from 10am to 2pm – The Gathering Place is a welcoming space for you to: \n\nMeet up with friends and make new ones 👱‍♂️ 👩‍🦳.\nRelax with tea and coffee 🍵.\nEnjoy lively discussions and engaging activities ♟.\n\n  \nLocated at the Harvey Curling Club.
URL:https://harveyruralcommunity.ca/event/the-gathering-place/2026-08-24/
END:VEVENT
BEGIN:VEVENT
DTSTART;TZID=America/Halifax:20260828T100000
DTEND;TZID=America/Halifax:20260828T140000
DTSTAMP:20260422T155427
CREATED:20250902T121428Z
LAST-MODIFIED:20250902T121428Z
UID:10007064-1787911200-1787925600@harveyruralcommunity.ca
SUMMARY:The Gathering Place
DESCRIPTION:Open every Monday and Friday\, from 10am to 2pm – The Gathering Place is a welcoming space for you to: \n\nMeet up with friends and make new ones 👱‍♂️ 👩‍🦳.\nRelax with tea and coffee 🍵.\nEnjoy lively discussions and engaging activities ♟.\n\n  \nLocated at the Harvey Curling Club.
URL:https://harveyruralcommunity.ca/event/the-gathering-place/2026-08-28/
END:VEVENT
BEGIN:VEVENT
DTSTART;TZID=America/Halifax:20260831T100000
DTEND;TZID=America/Halifax:20260831T140000
DTSTAMP:20260422T155427
CREATED:20250902T121428Z
LAST-MODIFIED:20250902T121428Z
UID:10007065-1788170400-1788184800@harveyruralcommunity.ca
SUMMARY:The Gathering Place
DESCRIPTION:Open every Monday and Friday\, from 10am to 2pm – The Gathering Place is a welcoming space for you to: \n\nMeet up with friends and make new ones 👱‍♂️ 👩‍🦳.\nRelax with tea and coffee 🍵.\nEnjoy lively discussions and engaging activities ♟.\n\n  \nLocated at the Harvey Curling Club.
URL:https://harveyruralcommunity.ca/event/the-gathering-place/2026-08-31/
END:VEVENT
BEGIN:VEVENT
DTSTART;TZID=America/Halifax:20260904T100000
DTEND;TZID=America/Halifax:20260904T140000
DTSTAMP:20260422T155427
CREATED:20250902T121428Z
LAST-MODIFIED:20250902T121428Z
UID:10007066-1788516000-1788530400@harveyruralcommunity.ca
SUMMARY:The Gathering Place
DESCRIPTION:Open every Monday and Friday\, from 10am to 2pm – The Gathering Place is a welcoming space for you to: \n\nMeet up with friends and make new ones 👱‍♂️ 👩‍🦳.\nRelax with tea and coffee 🍵.\nEnjoy lively discussions and engaging activities ♟.\n\n  \nLocated at the Harvey Curling Club.
URL:https://harveyruralcommunity.ca/event/the-gathering-place/2026-09-04/
END:VEVENT
BEGIN:VEVENT
DTSTART;TZID=America/Halifax:20260907T100000
DTEND;TZID=America/Halifax:20260907T140000
DTSTAMP:20260422T155427
CREATED:20250902T121428Z
LAST-MODIFIED:20250902T121428Z
UID:10007067-1788775200-1788789600@harveyruralcommunity.ca
SUMMARY:The Gathering Place
DESCRIPTION:Open every Monday and Friday\, from 10am to 2pm – The Gathering Place is a welcoming space for you to: \n\nMeet up with friends and make new ones 👱‍♂️ 👩‍🦳.\nRelax with tea and coffee 🍵.\nEnjoy lively discussions and engaging activities ♟.\n\n  \nLocated at the Harvey Curling Club.
URL:https://harveyruralcommunity.ca/event/the-gathering-place/2026-09-07/
END:VEVENT
BEGIN:VEVENT
DTSTART;TZID=America/Halifax:20260911T100000
DTEND;TZID=America/Halifax:20260911T140000
DTSTAMP:20260422T155427
CREATED:20250902T121428Z
LAST-MODIFIED:20250902T121428Z
UID:10007068-1789120800-1789135200@harveyruralcommunity.ca
SUMMARY:The Gathering Place
DESCRIPTION:Open every Monday and Friday\, from 10am to 2pm – The Gathering Place is a welcoming space for you to: \n\nMeet up with friends and make new ones 👱‍♂️ 👩‍🦳.\nRelax with tea and coffee 🍵.\nEnjoy lively discussions and engaging activities ♟.\n\n  \nLocated at the Harvey Curling Club.
URL:https://harveyruralcommunity.ca/event/the-gathering-place/2026-09-11/
END:VEVENT
BEGIN:VEVENT
DTSTART;TZID=America/Halifax:20260914T100000
DTEND;TZID=America/Halifax:20260914T140000
DTSTAMP:20260422T155427
CREATED:20250902T121428Z
LAST-MODIFIED:20250902T121428Z
UID:10007069-1789380000-1789394400@harveyruralcommunity.ca
SUMMARY:The Gathering Place
DESCRIPTION:Open every Monday and Friday\, from 10am to 2pm – The Gathering Place is a welcoming space for you to: \n\nMeet up with friends and make new ones 👱‍♂️ 👩‍🦳.\nRelax with tea and coffee 🍵.\nEnjoy lively discussions and engaging activities ♟.\n\n  \nLocated at the Harvey Curling Club.
URL:https://harveyruralcommunity.ca/event/the-gathering-place/2026-09-14/
END:VEVENT
END:VCALENDAR