BEGIN:VCALENDAR
VERSION:2.0
PRODID:-//Harvey Rural Community - ECPv6.6.1//NONSGML v1.0//EN
CALSCALE:GREGORIAN
METHOD:PUBLISH
X-WR-CALNAME:Harvey Rural Community
X-ORIGINAL-URL:https://harveyruralcommunity.ca
X-WR-CALDESC:Events for Harvey Rural Community
BEGIN:VTIMEZONE
TZID:America/Halifax
BEGIN:DAYLIGHT
TZOFFSETFROM:-0400
TZOFFSETTO:-0300
TZNAME:ADT
DTSTART:20260308T060000
END:DAYLIGHT
BEGIN:STANDARD
TZOFFSETFROM:-0300
TZOFFSETTO:-0400
TZNAME:AST
DTSTART:20261101T050000
END:STANDARD
BEGIN:DAYLIGHT
TZOFFSETFROM:-0400
TZOFFSETTO:-0300
TZNAME:ADT
DTSTART:20270314T060000
END:DAYLIGHT
BEGIN:STANDARD
TZOFFSETFROM:-0300
TZOFFSETTO:-0400
TZNAME:AST
DTSTART:20271107T050000
END:STANDARD
END:VTIMEZONE
BEGIN:VEVENT
DTSTART;TZID=America/Halifax:20260720T100000
DTEND;TZID=America/Halifax:20260720T120000
DTSTAMP:20260425T124031
CREATED:20250910T124324Z
LAST-MODIFIED:20250910T124324Z
UID:10007888-1784541600-1784548800@harveyruralcommunity.ca
SUMMARY:Recreational Bowling
DESCRIPTION:🎳 Monday Morning Bowling📍 Harvey Memorial Community Centre⏰ Every Monday at 10:00 a.m. \nLooking for some lighthearted fun to start your week? Join us for recreational bowling—no league\, no pressure\, just fun! \n\n\nWe bowl 2–3 strings\, depending on turnout. \n\n\nWrap-up between 11:00 a.m. and noon. \n\n\nOnly $3 per string ($6–$9 per morning). \n\n\nBowling shoes and balls provided at no cost. \n\n\nAll are welcome—no experience needed! \n\n\n👉 Come out\, get moving\, and have a ball!
URL:https://harveyruralcommunity.ca/event/recreational-bowling/2026-07-20/
END:VEVENT
BEGIN:VEVENT
DTSTART;TZID=America/Halifax:20260727T100000
DTEND;TZID=America/Halifax:20260727T120000
DTSTAMP:20260425T124031
CREATED:20250910T124324Z
LAST-MODIFIED:20250910T124324Z
UID:10007889-1785146400-1785153600@harveyruralcommunity.ca
SUMMARY:Recreational Bowling
DESCRIPTION:🎳 Monday Morning Bowling📍 Harvey Memorial Community Centre⏰ Every Monday at 10:00 a.m. \nLooking for some lighthearted fun to start your week? Join us for recreational bowling—no league\, no pressure\, just fun! \n\n\nWe bowl 2–3 strings\, depending on turnout. \n\n\nWrap-up between 11:00 a.m. and noon. \n\n\nOnly $3 per string ($6–$9 per morning). \n\n\nBowling shoes and balls provided at no cost. \n\n\nAll are welcome—no experience needed! \n\n\n👉 Come out\, get moving\, and have a ball!
URL:https://harveyruralcommunity.ca/event/recreational-bowling/2026-07-27/
END:VEVENT
BEGIN:VEVENT
DTSTART;TZID=America/Halifax:20260803T100000
DTEND;TZID=America/Halifax:20260803T120000
DTSTAMP:20260425T124031
CREATED:20250910T124324Z
LAST-MODIFIED:20250910T124324Z
UID:10007890-1785751200-1785758400@harveyruralcommunity.ca
SUMMARY:Recreational Bowling
DESCRIPTION:🎳 Monday Morning Bowling📍 Harvey Memorial Community Centre⏰ Every Monday at 10:00 a.m. \nLooking for some lighthearted fun to start your week? Join us for recreational bowling—no league\, no pressure\, just fun! \n\n\nWe bowl 2–3 strings\, depending on turnout. \n\n\nWrap-up between 11:00 a.m. and noon. \n\n\nOnly $3 per string ($6–$9 per morning). \n\n\nBowling shoes and balls provided at no cost. \n\n\nAll are welcome—no experience needed! \n\n\n👉 Come out\, get moving\, and have a ball!
URL:https://harveyruralcommunity.ca/event/recreational-bowling/2026-08-03/
END:VEVENT
BEGIN:VEVENT
DTSTART;TZID=America/Halifax:20260810T100000
DTEND;TZID=America/Halifax:20260810T120000
DTSTAMP:20260425T124031
CREATED:20250910T124324Z
LAST-MODIFIED:20250910T124324Z
UID:10007891-1786356000-1786363200@harveyruralcommunity.ca
SUMMARY:Recreational Bowling
DESCRIPTION:🎳 Monday Morning Bowling📍 Harvey Memorial Community Centre⏰ Every Monday at 10:00 a.m. \nLooking for some lighthearted fun to start your week? Join us for recreational bowling—no league\, no pressure\, just fun! \n\n\nWe bowl 2–3 strings\, depending on turnout. \n\n\nWrap-up between 11:00 a.m. and noon. \n\n\nOnly $3 per string ($6–$9 per morning). \n\n\nBowling shoes and balls provided at no cost. \n\n\nAll are welcome—no experience needed! \n\n\n👉 Come out\, get moving\, and have a ball!
URL:https://harveyruralcommunity.ca/event/recreational-bowling/2026-08-10/
END:VEVENT
BEGIN:VEVENT
DTSTART;TZID=America/Halifax:20260817T100000
DTEND;TZID=America/Halifax:20260817T120000
DTSTAMP:20260425T124031
CREATED:20250910T124324Z
LAST-MODIFIED:20250910T124324Z
UID:10007892-1786960800-1786968000@harveyruralcommunity.ca
SUMMARY:Recreational Bowling
DESCRIPTION:🎳 Monday Morning Bowling📍 Harvey Memorial Community Centre⏰ Every Monday at 10:00 a.m. \nLooking for some lighthearted fun to start your week? Join us for recreational bowling—no league\, no pressure\, just fun! \n\n\nWe bowl 2–3 strings\, depending on turnout. \n\n\nWrap-up between 11:00 a.m. and noon. \n\n\nOnly $3 per string ($6–$9 per morning). \n\n\nBowling shoes and balls provided at no cost. \n\n\nAll are welcome—no experience needed! \n\n\n👉 Come out\, get moving\, and have a ball!
URL:https://harveyruralcommunity.ca/event/recreational-bowling/2026-08-17/
END:VEVENT
BEGIN:VEVENT
DTSTART;TZID=America/Halifax:20260824T100000
DTEND;TZID=America/Halifax:20260824T120000
DTSTAMP:20260425T124031
CREATED:20250910T124324Z
LAST-MODIFIED:20250910T124324Z
UID:10007893-1787565600-1787572800@harveyruralcommunity.ca
SUMMARY:Recreational Bowling
DESCRIPTION:🎳 Monday Morning Bowling📍 Harvey Memorial Community Centre⏰ Every Monday at 10:00 a.m. \nLooking for some lighthearted fun to start your week? Join us for recreational bowling—no league\, no pressure\, just fun! \n\n\nWe bowl 2–3 strings\, depending on turnout. \n\n\nWrap-up between 11:00 a.m. and noon. \n\n\nOnly $3 per string ($6–$9 per morning). \n\n\nBowling shoes and balls provided at no cost. \n\n\nAll are welcome—no experience needed! \n\n\n👉 Come out\, get moving\, and have a ball!
URL:https://harveyruralcommunity.ca/event/recreational-bowling/2026-08-24/
END:VEVENT
BEGIN:VEVENT
DTSTART;TZID=America/Halifax:20260831T100000
DTEND;TZID=America/Halifax:20260831T120000
DTSTAMP:20260425T124031
CREATED:20250910T124324Z
LAST-MODIFIED:20250910T124324Z
UID:10007894-1788170400-1788177600@harveyruralcommunity.ca
SUMMARY:Recreational Bowling
DESCRIPTION:🎳 Monday Morning Bowling📍 Harvey Memorial Community Centre⏰ Every Monday at 10:00 a.m. \nLooking for some lighthearted fun to start your week? Join us for recreational bowling—no league\, no pressure\, just fun! \n\n\nWe bowl 2–3 strings\, depending on turnout. \n\n\nWrap-up between 11:00 a.m. and noon. \n\n\nOnly $3 per string ($6–$9 per morning). \n\n\nBowling shoes and balls provided at no cost. \n\n\nAll are welcome—no experience needed! \n\n\n👉 Come out\, get moving\, and have a ball!
URL:https://harveyruralcommunity.ca/event/recreational-bowling/2026-08-31/
END:VEVENT
BEGIN:VEVENT
DTSTART;TZID=America/Halifax:20260907T100000
DTEND;TZID=America/Halifax:20260907T120000
DTSTAMP:20260425T124031
CREATED:20250910T124324Z
LAST-MODIFIED:20250910T124324Z
UID:10007895-1788775200-1788782400@harveyruralcommunity.ca
SUMMARY:Recreational Bowling
DESCRIPTION:🎳 Monday Morning Bowling📍 Harvey Memorial Community Centre⏰ Every Monday at 10:00 a.m. \nLooking for some lighthearted fun to start your week? Join us for recreational bowling—no league\, no pressure\, just fun! \n\n\nWe bowl 2–3 strings\, depending on turnout. \n\n\nWrap-up between 11:00 a.m. and noon. \n\n\nOnly $3 per string ($6–$9 per morning). \n\n\nBowling shoes and balls provided at no cost. \n\n\nAll are welcome—no experience needed! \n\n\n👉 Come out\, get moving\, and have a ball!
URL:https://harveyruralcommunity.ca/event/recreational-bowling/2026-09-07/
END:VEVENT
BEGIN:VEVENT
DTSTART;TZID=America/Halifax:20260914T100000
DTEND;TZID=America/Halifax:20260914T120000
DTSTAMP:20260425T124031
CREATED:20250910T124324Z
LAST-MODIFIED:20250910T124324Z
UID:10007896-1789380000-1789387200@harveyruralcommunity.ca
SUMMARY:Recreational Bowling
DESCRIPTION:🎳 Monday Morning Bowling📍 Harvey Memorial Community Centre⏰ Every Monday at 10:00 a.m. \nLooking for some lighthearted fun to start your week? Join us for recreational bowling—no league\, no pressure\, just fun! \n\n\nWe bowl 2–3 strings\, depending on turnout. \n\n\nWrap-up between 11:00 a.m. and noon. \n\n\nOnly $3 per string ($6–$9 per morning). \n\n\nBowling shoes and balls provided at no cost. \n\n\nAll are welcome—no experience needed! \n\n\n👉 Come out\, get moving\, and have a ball!
URL:https://harveyruralcommunity.ca/event/recreational-bowling/2026-09-14/
END:VEVENT
BEGIN:VEVENT
DTSTART;TZID=America/Halifax:20260921T100000
DTEND;TZID=America/Halifax:20260921T120000
DTSTAMP:20260425T124031
CREATED:20250910T124324Z
LAST-MODIFIED:20250910T124324Z
UID:10007897-1789984800-1789992000@harveyruralcommunity.ca
SUMMARY:Recreational Bowling
DESCRIPTION:🎳 Monday Morning Bowling📍 Harvey Memorial Community Centre⏰ Every Monday at 10:00 a.m. \nLooking for some lighthearted fun to start your week? Join us for recreational bowling—no league\, no pressure\, just fun! \n\n\nWe bowl 2–3 strings\, depending on turnout. \n\n\nWrap-up between 11:00 a.m. and noon. \n\n\nOnly $3 per string ($6–$9 per morning). \n\n\nBowling shoes and balls provided at no cost. \n\n\nAll are welcome—no experience needed! \n\n\n👉 Come out\, get moving\, and have a ball!
URL:https://harveyruralcommunity.ca/event/recreational-bowling/2026-09-21/
END:VEVENT
BEGIN:VEVENT
DTSTART;TZID=America/Halifax:20260928T100000
DTEND;TZID=America/Halifax:20260928T120000
DTSTAMP:20260425T124031
CREATED:20250910T124324Z
LAST-MODIFIED:20250910T124324Z
UID:10007898-1790589600-1790596800@harveyruralcommunity.ca
SUMMARY:Recreational Bowling
DESCRIPTION:🎳 Monday Morning Bowling📍 Harvey Memorial Community Centre⏰ Every Monday at 10:00 a.m. \nLooking for some lighthearted fun to start your week? Join us for recreational bowling—no league\, no pressure\, just fun! \n\n\nWe bowl 2–3 strings\, depending on turnout. \n\n\nWrap-up between 11:00 a.m. and noon. \n\n\nOnly $3 per string ($6–$9 per morning). \n\n\nBowling shoes and balls provided at no cost. \n\n\nAll are welcome—no experience needed! \n\n\n👉 Come out\, get moving\, and have a ball!
URL:https://harveyruralcommunity.ca/event/recreational-bowling/2026-09-28/
END:VEVENT
BEGIN:VEVENT
DTSTART;TZID=America/Halifax:20261005T100000
DTEND;TZID=America/Halifax:20261005T120000
DTSTAMP:20260425T124031
CREATED:20250910T124324Z
LAST-MODIFIED:20250910T124324Z
UID:10007899-1791194400-1791201600@harveyruralcommunity.ca
SUMMARY:Recreational Bowling
DESCRIPTION:🎳 Monday Morning Bowling📍 Harvey Memorial Community Centre⏰ Every Monday at 10:00 a.m. \nLooking for some lighthearted fun to start your week? Join us for recreational bowling—no league\, no pressure\, just fun! \n\n\nWe bowl 2–3 strings\, depending on turnout. \n\n\nWrap-up between 11:00 a.m. and noon. \n\n\nOnly $3 per string ($6–$9 per morning). \n\n\nBowling shoes and balls provided at no cost. \n\n\nAll are welcome—no experience needed! \n\n\n👉 Come out\, get moving\, and have a ball!
URL:https://harveyruralcommunity.ca/event/recreational-bowling/2026-10-05/
END:VEVENT
BEGIN:VEVENT
DTSTART;TZID=America/Halifax:20261012T100000
DTEND;TZID=America/Halifax:20261012T120000
DTSTAMP:20260425T124031
CREATED:20250910T124324Z
LAST-MODIFIED:20250910T124324Z
UID:10007900-1791799200-1791806400@harveyruralcommunity.ca
SUMMARY:Recreational Bowling
DESCRIPTION:🎳 Monday Morning Bowling📍 Harvey Memorial Community Centre⏰ Every Monday at 10:00 a.m. \nLooking for some lighthearted fun to start your week? Join us for recreational bowling—no league\, no pressure\, just fun! \n\n\nWe bowl 2–3 strings\, depending on turnout. \n\n\nWrap-up between 11:00 a.m. and noon. \n\n\nOnly $3 per string ($6–$9 per morning). \n\n\nBowling shoes and balls provided at no cost. \n\n\nAll are welcome—no experience needed! \n\n\n👉 Come out\, get moving\, and have a ball!
URL:https://harveyruralcommunity.ca/event/recreational-bowling/2026-10-12/
END:VEVENT
BEGIN:VEVENT
DTSTART;TZID=America/Halifax:20261019T100000
DTEND;TZID=America/Halifax:20261019T120000
DTSTAMP:20260425T124031
CREATED:20250910T124324Z
LAST-MODIFIED:20250910T124324Z
UID:10007901-1792404000-1792411200@harveyruralcommunity.ca
SUMMARY:Recreational Bowling
DESCRIPTION:🎳 Monday Morning Bowling📍 Harvey Memorial Community Centre⏰ Every Monday at 10:00 a.m. \nLooking for some lighthearted fun to start your week? Join us for recreational bowling—no league\, no pressure\, just fun! \n\n\nWe bowl 2–3 strings\, depending on turnout. \n\n\nWrap-up between 11:00 a.m. and noon. \n\n\nOnly $3 per string ($6–$9 per morning). \n\n\nBowling shoes and balls provided at no cost. \n\n\nAll are welcome—no experience needed! \n\n\n👉 Come out\, get moving\, and have a ball!
URL:https://harveyruralcommunity.ca/event/recreational-bowling/2026-10-19/
END:VEVENT
BEGIN:VEVENT
DTSTART;TZID=America/Halifax:20261026T100000
DTEND;TZID=America/Halifax:20261026T120000
DTSTAMP:20260425T124031
CREATED:20250910T124324Z
LAST-MODIFIED:20250910T124324Z
UID:10007902-1793008800-1793016000@harveyruralcommunity.ca
SUMMARY:Recreational Bowling
DESCRIPTION:🎳 Monday Morning Bowling📍 Harvey Memorial Community Centre⏰ Every Monday at 10:00 a.m. \nLooking for some lighthearted fun to start your week? Join us for recreational bowling—no league\, no pressure\, just fun! \n\n\nWe bowl 2–3 strings\, depending on turnout. \n\n\nWrap-up between 11:00 a.m. and noon. \n\n\nOnly $3 per string ($6–$9 per morning). \n\n\nBowling shoes and balls provided at no cost. \n\n\nAll are welcome—no experience needed! \n\n\n👉 Come out\, get moving\, and have a ball!
URL:https://harveyruralcommunity.ca/event/recreational-bowling/2026-10-26/
END:VEVENT
BEGIN:VEVENT
DTSTART;TZID=America/Halifax:20261102T100000
DTEND;TZID=America/Halifax:20261102T120000
DTSTAMP:20260425T124031
CREATED:20250910T124324Z
LAST-MODIFIED:20250910T124324Z
UID:10007903-1793613600-1793620800@harveyruralcommunity.ca
SUMMARY:Recreational Bowling
DESCRIPTION:🎳 Monday Morning Bowling📍 Harvey Memorial Community Centre⏰ Every Monday at 10:00 a.m. \nLooking for some lighthearted fun to start your week? Join us for recreational bowling—no league\, no pressure\, just fun! \n\n\nWe bowl 2–3 strings\, depending on turnout. \n\n\nWrap-up between 11:00 a.m. and noon. \n\n\nOnly $3 per string ($6–$9 per morning). \n\n\nBowling shoes and balls provided at no cost. \n\n\nAll are welcome—no experience needed! \n\n\n👉 Come out\, get moving\, and have a ball!
URL:https://harveyruralcommunity.ca/event/recreational-bowling/2026-11-02/
END:VEVENT
BEGIN:VEVENT
DTSTART;TZID=America/Halifax:20261109T100000
DTEND;TZID=America/Halifax:20261109T120000
DTSTAMP:20260425T124031
CREATED:20250910T124324Z
LAST-MODIFIED:20250910T124324Z
UID:10007904-1794218400-1794225600@harveyruralcommunity.ca
SUMMARY:Recreational Bowling
DESCRIPTION:🎳 Monday Morning Bowling📍 Harvey Memorial Community Centre⏰ Every Monday at 10:00 a.m. \nLooking for some lighthearted fun to start your week? Join us for recreational bowling—no league\, no pressure\, just fun! \n\n\nWe bowl 2–3 strings\, depending on turnout. \n\n\nWrap-up between 11:00 a.m. and noon. \n\n\nOnly $3 per string ($6–$9 per morning). \n\n\nBowling shoes and balls provided at no cost. \n\n\nAll are welcome—no experience needed! \n\n\n👉 Come out\, get moving\, and have a ball!
URL:https://harveyruralcommunity.ca/event/recreational-bowling/2026-11-09/
END:VEVENT
BEGIN:VEVENT
DTSTART;TZID=America/Halifax:20261116T100000
DTEND;TZID=America/Halifax:20261116T120000
DTSTAMP:20260425T124031
CREATED:20250910T124324Z
LAST-MODIFIED:20250910T124324Z
UID:10007905-1794823200-1794830400@harveyruralcommunity.ca
SUMMARY:Recreational Bowling
DESCRIPTION:🎳 Monday Morning Bowling📍 Harvey Memorial Community Centre⏰ Every Monday at 10:00 a.m. \nLooking for some lighthearted fun to start your week? Join us for recreational bowling—no league\, no pressure\, just fun! \n\n\nWe bowl 2–3 strings\, depending on turnout. \n\n\nWrap-up between 11:00 a.m. and noon. \n\n\nOnly $3 per string ($6–$9 per morning). \n\n\nBowling shoes and balls provided at no cost. \n\n\nAll are welcome—no experience needed! \n\n\n👉 Come out\, get moving\, and have a ball!
URL:https://harveyruralcommunity.ca/event/recreational-bowling/2026-11-16/
END:VEVENT
BEGIN:VEVENT
DTSTART;TZID=America/Halifax:20261123T100000
DTEND;TZID=America/Halifax:20261123T120000
DTSTAMP:20260425T124031
CREATED:20250910T124324Z
LAST-MODIFIED:20250910T124324Z
UID:10007906-1795428000-1795435200@harveyruralcommunity.ca
SUMMARY:Recreational Bowling
DESCRIPTION:🎳 Monday Morning Bowling📍 Harvey Memorial Community Centre⏰ Every Monday at 10:00 a.m. \nLooking for some lighthearted fun to start your week? Join us for recreational bowling—no league\, no pressure\, just fun! \n\n\nWe bowl 2–3 strings\, depending on turnout. \n\n\nWrap-up between 11:00 a.m. and noon. \n\n\nOnly $3 per string ($6–$9 per morning). \n\n\nBowling shoes and balls provided at no cost. \n\n\nAll are welcome—no experience needed! \n\n\n👉 Come out\, get moving\, and have a ball!
URL:https://harveyruralcommunity.ca/event/recreational-bowling/2026-11-23/
END:VEVENT
BEGIN:VEVENT
DTSTART;TZID=America/Halifax:20261130T100000
DTEND;TZID=America/Halifax:20261130T120000
DTSTAMP:20260425T124031
CREATED:20250910T124324Z
LAST-MODIFIED:20250910T124324Z
UID:10007907-1796032800-1796040000@harveyruralcommunity.ca
SUMMARY:Recreational Bowling
DESCRIPTION:🎳 Monday Morning Bowling📍 Harvey Memorial Community Centre⏰ Every Monday at 10:00 a.m. \nLooking for some lighthearted fun to start your week? Join us for recreational bowling—no league\, no pressure\, just fun! \n\n\nWe bowl 2–3 strings\, depending on turnout. \n\n\nWrap-up between 11:00 a.m. and noon. \n\n\nOnly $3 per string ($6–$9 per morning). \n\n\nBowling shoes and balls provided at no cost. \n\n\nAll are welcome—no experience needed! \n\n\n👉 Come out\, get moving\, and have a ball!
URL:https://harveyruralcommunity.ca/event/recreational-bowling/2026-11-30/
END:VEVENT
BEGIN:VEVENT
DTSTART;TZID=America/Halifax:20261207T100000
DTEND;TZID=America/Halifax:20261207T120000
DTSTAMP:20260425T124031
CREATED:20250910T124324Z
LAST-MODIFIED:20250910T124324Z
UID:10007908-1796637600-1796644800@harveyruralcommunity.ca
SUMMARY:Recreational Bowling
DESCRIPTION:🎳 Monday Morning Bowling📍 Harvey Memorial Community Centre⏰ Every Monday at 10:00 a.m. \nLooking for some lighthearted fun to start your week? Join us for recreational bowling—no league\, no pressure\, just fun! \n\n\nWe bowl 2–3 strings\, depending on turnout. \n\n\nWrap-up between 11:00 a.m. and noon. \n\n\nOnly $3 per string ($6–$9 per morning). \n\n\nBowling shoes and balls provided at no cost. \n\n\nAll are welcome—no experience needed! \n\n\n👉 Come out\, get moving\, and have a ball!
URL:https://harveyruralcommunity.ca/event/recreational-bowling/2026-12-07/
END:VEVENT
BEGIN:VEVENT
DTSTART;TZID=America/Halifax:20261214T100000
DTEND;TZID=America/Halifax:20261214T120000
DTSTAMP:20260425T124031
CREATED:20250910T124324Z
LAST-MODIFIED:20250910T124324Z
UID:10007909-1797242400-1797249600@harveyruralcommunity.ca
SUMMARY:Recreational Bowling
DESCRIPTION:🎳 Monday Morning Bowling📍 Harvey Memorial Community Centre⏰ Every Monday at 10:00 a.m. \nLooking for some lighthearted fun to start your week? Join us for recreational bowling—no league\, no pressure\, just fun! \n\n\nWe bowl 2–3 strings\, depending on turnout. \n\n\nWrap-up between 11:00 a.m. and noon. \n\n\nOnly $3 per string ($6–$9 per morning). \n\n\nBowling shoes and balls provided at no cost. \n\n\nAll are welcome—no experience needed! \n\n\n👉 Come out\, get moving\, and have a ball!
URL:https://harveyruralcommunity.ca/event/recreational-bowling/2026-12-14/
END:VEVENT
BEGIN:VEVENT
DTSTART;TZID=America/Halifax:20261221T100000
DTEND;TZID=America/Halifax:20261221T120000
DTSTAMP:20260425T124031
CREATED:20250910T124324Z
LAST-MODIFIED:20250910T124324Z
UID:10007910-1797847200-1797854400@harveyruralcommunity.ca
SUMMARY:Recreational Bowling
DESCRIPTION:🎳 Monday Morning Bowling📍 Harvey Memorial Community Centre⏰ Every Monday at 10:00 a.m. \nLooking for some lighthearted fun to start your week? Join us for recreational bowling—no league\, no pressure\, just fun! \n\n\nWe bowl 2–3 strings\, depending on turnout. \n\n\nWrap-up between 11:00 a.m. and noon. \n\n\nOnly $3 per string ($6–$9 per morning). \n\n\nBowling shoes and balls provided at no cost. \n\n\nAll are welcome—no experience needed! \n\n\n👉 Come out\, get moving\, and have a ball!
URL:https://harveyruralcommunity.ca/event/recreational-bowling/2026-12-21/
END:VEVENT
BEGIN:VEVENT
DTSTART;TZID=America/Halifax:20261228T100000
DTEND;TZID=America/Halifax:20261228T120000
DTSTAMP:20260425T124031
CREATED:20250910T124324Z
LAST-MODIFIED:20250910T124324Z
UID:10007911-1798452000-1798459200@harveyruralcommunity.ca
SUMMARY:Recreational Bowling
DESCRIPTION:🎳 Monday Morning Bowling📍 Harvey Memorial Community Centre⏰ Every Monday at 10:00 a.m. \nLooking for some lighthearted fun to start your week? Join us for recreational bowling—no league\, no pressure\, just fun! \n\n\nWe bowl 2–3 strings\, depending on turnout. \n\n\nWrap-up between 11:00 a.m. and noon. \n\n\nOnly $3 per string ($6–$9 per morning). \n\n\nBowling shoes and balls provided at no cost. \n\n\nAll are welcome—no experience needed! \n\n\n👉 Come out\, get moving\, and have a ball!
URL:https://harveyruralcommunity.ca/event/recreational-bowling/2026-12-28/
END:VEVENT
BEGIN:VEVENT
DTSTART;TZID=America/Halifax:20270104T100000
DTEND;TZID=America/Halifax:20270104T120000
DTSTAMP:20260425T124031
CREATED:20250910T124324Z
LAST-MODIFIED:20250910T124324Z
UID:10007912-1799056800-1799064000@harveyruralcommunity.ca
SUMMARY:Recreational Bowling
DESCRIPTION:🎳 Monday Morning Bowling📍 Harvey Memorial Community Centre⏰ Every Monday at 10:00 a.m. \nLooking for some lighthearted fun to start your week? Join us for recreational bowling—no league\, no pressure\, just fun! \n\n\nWe bowl 2–3 strings\, depending on turnout. \n\n\nWrap-up between 11:00 a.m. and noon. \n\n\nOnly $3 per string ($6–$9 per morning). \n\n\nBowling shoes and balls provided at no cost. \n\n\nAll are welcome—no experience needed! \n\n\n👉 Come out\, get moving\, and have a ball!
URL:https://harveyruralcommunity.ca/event/recreational-bowling/2027-01-04/
END:VEVENT
BEGIN:VEVENT
DTSTART;TZID=America/Halifax:20270111T100000
DTEND;TZID=America/Halifax:20270111T120000
DTSTAMP:20260425T124031
CREATED:20250910T124324Z
LAST-MODIFIED:20250910T124324Z
UID:10007913-1799661600-1799668800@harveyruralcommunity.ca
SUMMARY:Recreational Bowling
DESCRIPTION:🎳 Monday Morning Bowling📍 Harvey Memorial Community Centre⏰ Every Monday at 10:00 a.m. \nLooking for some lighthearted fun to start your week? Join us for recreational bowling—no league\, no pressure\, just fun! \n\n\nWe bowl 2–3 strings\, depending on turnout. \n\n\nWrap-up between 11:00 a.m. and noon. \n\n\nOnly $3 per string ($6–$9 per morning). \n\n\nBowling shoes and balls provided at no cost. \n\n\nAll are welcome—no experience needed! \n\n\n👉 Come out\, get moving\, and have a ball!
URL:https://harveyruralcommunity.ca/event/recreational-bowling/2027-01-11/
END:VEVENT
BEGIN:VEVENT
DTSTART;TZID=America/Halifax:20270118T100000
DTEND;TZID=America/Halifax:20270118T120000
DTSTAMP:20260425T124031
CREATED:20250910T124324Z
LAST-MODIFIED:20250910T124324Z
UID:10007914-1800266400-1800273600@harveyruralcommunity.ca
SUMMARY:Recreational Bowling
DESCRIPTION:🎳 Monday Morning Bowling📍 Harvey Memorial Community Centre⏰ Every Monday at 10:00 a.m. \nLooking for some lighthearted fun to start your week? Join us for recreational bowling—no league\, no pressure\, just fun! \n\n\nWe bowl 2–3 strings\, depending on turnout. \n\n\nWrap-up between 11:00 a.m. and noon. \n\n\nOnly $3 per string ($6–$9 per morning). \n\n\nBowling shoes and balls provided at no cost. \n\n\nAll are welcome—no experience needed! \n\n\n👉 Come out\, get moving\, and have a ball!
URL:https://harveyruralcommunity.ca/event/recreational-bowling/2027-01-18/
END:VEVENT
BEGIN:VEVENT
DTSTART;TZID=America/Halifax:20270125T100000
DTEND;TZID=America/Halifax:20270125T120000
DTSTAMP:20260425T124031
CREATED:20250910T124324Z
LAST-MODIFIED:20250910T124324Z
UID:10007915-1800871200-1800878400@harveyruralcommunity.ca
SUMMARY:Recreational Bowling
DESCRIPTION:🎳 Monday Morning Bowling📍 Harvey Memorial Community Centre⏰ Every Monday at 10:00 a.m. \nLooking for some lighthearted fun to start your week? Join us for recreational bowling—no league\, no pressure\, just fun! \n\n\nWe bowl 2–3 strings\, depending on turnout. \n\n\nWrap-up between 11:00 a.m. and noon. \n\n\nOnly $3 per string ($6–$9 per morning). \n\n\nBowling shoes and balls provided at no cost. \n\n\nAll are welcome—no experience needed! \n\n\n👉 Come out\, get moving\, and have a ball!
URL:https://harveyruralcommunity.ca/event/recreational-bowling/2027-01-25/
END:VEVENT
BEGIN:VEVENT
DTSTART;TZID=America/Halifax:20270201T100000
DTEND;TZID=America/Halifax:20270201T120000
DTSTAMP:20260425T124031
CREATED:20250910T124324Z
LAST-MODIFIED:20250910T124324Z
UID:10007916-1801476000-1801483200@harveyruralcommunity.ca
SUMMARY:Recreational Bowling
DESCRIPTION:🎳 Monday Morning Bowling📍 Harvey Memorial Community Centre⏰ Every Monday at 10:00 a.m. \nLooking for some lighthearted fun to start your week? Join us for recreational bowling—no league\, no pressure\, just fun! \n\n\nWe bowl 2–3 strings\, depending on turnout. \n\n\nWrap-up between 11:00 a.m. and noon. \n\n\nOnly $3 per string ($6–$9 per morning). \n\n\nBowling shoes and balls provided at no cost. \n\n\nAll are welcome—no experience needed! \n\n\n👉 Come out\, get moving\, and have a ball!
URL:https://harveyruralcommunity.ca/event/recreational-bowling/2027-02-01/
END:VEVENT
BEGIN:VEVENT
DTSTART;TZID=America/Halifax:20270208T100000
DTEND;TZID=America/Halifax:20270208T120000
DTSTAMP:20260425T124031
CREATED:20250910T124324Z
LAST-MODIFIED:20250910T124324Z
UID:10007917-1802080800-1802088000@harveyruralcommunity.ca
SUMMARY:Recreational Bowling
DESCRIPTION:🎳 Monday Morning Bowling📍 Harvey Memorial Community Centre⏰ Every Monday at 10:00 a.m. \nLooking for some lighthearted fun to start your week? Join us for recreational bowling—no league\, no pressure\, just fun! \n\n\nWe bowl 2–3 strings\, depending on turnout. \n\n\nWrap-up between 11:00 a.m. and noon. \n\n\nOnly $3 per string ($6–$9 per morning). \n\n\nBowling shoes and balls provided at no cost. \n\n\nAll are welcome—no experience needed! \n\n\n👉 Come out\, get moving\, and have a ball!
URL:https://harveyruralcommunity.ca/event/recreational-bowling/2027-02-08/
END:VEVENT
END:VCALENDAR