BEGIN:VCALENDAR
VERSION:2.0
PRODID:-//Harvey Rural Community - ECPv6.6.1//NONSGML v1.0//EN
CALSCALE:GREGORIAN
METHOD:PUBLISH
X-WR-CALNAME:Harvey Rural Community
X-ORIGINAL-URL:https://harveyruralcommunity.ca
X-WR-CALDESC:Events for Harvey Rural Community
BEGIN:VTIMEZONE
TZID:America/Halifax
BEGIN:DAYLIGHT
TZOFFSETFROM:-0400
TZOFFSETTO:-0300
TZNAME:ADT
DTSTART:20280312T060000
END:DAYLIGHT
BEGIN:STANDARD
TZOFFSETFROM:-0300
TZOFFSETTO:-0400
TZNAME:AST
DTSTART:20281105T050000
END:STANDARD
END:VTIMEZONE
BEGIN:VEVENT
DTSTART;TZID=America/Halifax:20280811T100000
DTEND;TZID=America/Halifax:20280811T140000
DTSTAMP:20260423T222645
CREATED:20250902T121428Z
LAST-MODIFIED:20250902T121428Z
UID:10007268-1849600800-1849615200@harveyruralcommunity.ca
SUMMARY:The Gathering Place
DESCRIPTION:Open every Monday and Friday\, from 10am to 2pm – The Gathering Place is a welcoming space for you to: \n\nMeet up with friends and make new ones 👱‍♂️ 👩‍🦳.\nRelax with tea and coffee 🍵.\nEnjoy lively discussions and engaging activities ♟.\n\n  \nLocated at the Harvey Curling Club.
URL:https://harveyruralcommunity.ca/event/the-gathering-place/2028-08-11/
END:VEVENT
BEGIN:VEVENT
DTSTART;TZID=America/Halifax:20280814T100000
DTEND;TZID=America/Halifax:20280814T140000
DTSTAMP:20260423T222645
CREATED:20250902T121428Z
LAST-MODIFIED:20250902T121428Z
UID:10007269-1849860000-1849874400@harveyruralcommunity.ca
SUMMARY:The Gathering Place
DESCRIPTION:Open every Monday and Friday\, from 10am to 2pm – The Gathering Place is a welcoming space for you to: \n\nMeet up with friends and make new ones 👱‍♂️ 👩‍🦳.\nRelax with tea and coffee 🍵.\nEnjoy lively discussions and engaging activities ♟.\n\n  \nLocated at the Harvey Curling Club.
URL:https://harveyruralcommunity.ca/event/the-gathering-place/2028-08-14/
END:VEVENT
BEGIN:VEVENT
DTSTART;TZID=America/Halifax:20280818T100000
DTEND;TZID=America/Halifax:20280818T140000
DTSTAMP:20260423T222645
CREATED:20250902T121428Z
LAST-MODIFIED:20250902T121428Z
UID:10007270-1850205600-1850220000@harveyruralcommunity.ca
SUMMARY:The Gathering Place
DESCRIPTION:Open every Monday and Friday\, from 10am to 2pm – The Gathering Place is a welcoming space for you to: \n\nMeet up with friends and make new ones 👱‍♂️ 👩‍🦳.\nRelax with tea and coffee 🍵.\nEnjoy lively discussions and engaging activities ♟.\n\n  \nLocated at the Harvey Curling Club.
URL:https://harveyruralcommunity.ca/event/the-gathering-place/2028-08-18/
END:VEVENT
BEGIN:VEVENT
DTSTART;TZID=America/Halifax:20280821T100000
DTEND;TZID=America/Halifax:20280821T140000
DTSTAMP:20260423T222645
CREATED:20250902T121428Z
LAST-MODIFIED:20250902T121428Z
UID:10007271-1850464800-1850479200@harveyruralcommunity.ca
SUMMARY:The Gathering Place
DESCRIPTION:Open every Monday and Friday\, from 10am to 2pm – The Gathering Place is a welcoming space for you to: \n\nMeet up with friends and make new ones 👱‍♂️ 👩‍🦳.\nRelax with tea and coffee 🍵.\nEnjoy lively discussions and engaging activities ♟.\n\n  \nLocated at the Harvey Curling Club.
URL:https://harveyruralcommunity.ca/event/the-gathering-place/2028-08-21/
END:VEVENT
BEGIN:VEVENT
DTSTART;TZID=America/Halifax:20280825T100000
DTEND;TZID=America/Halifax:20280825T140000
DTSTAMP:20260423T222645
CREATED:20250902T121428Z
LAST-MODIFIED:20250902T121428Z
UID:10007272-1850810400-1850824800@harveyruralcommunity.ca
SUMMARY:The Gathering Place
DESCRIPTION:Open every Monday and Friday\, from 10am to 2pm – The Gathering Place is a welcoming space for you to: \n\nMeet up with friends and make new ones 👱‍♂️ 👩‍🦳.\nRelax with tea and coffee 🍵.\nEnjoy lively discussions and engaging activities ♟.\n\n  \nLocated at the Harvey Curling Club.
URL:https://harveyruralcommunity.ca/event/the-gathering-place/2028-08-25/
END:VEVENT
BEGIN:VEVENT
DTSTART;TZID=America/Halifax:20280828T100000
DTEND;TZID=America/Halifax:20280828T140000
DTSTAMP:20260423T222645
CREATED:20250902T121428Z
LAST-MODIFIED:20250902T121428Z
UID:10007273-1851069600-1851084000@harveyruralcommunity.ca
SUMMARY:The Gathering Place
DESCRIPTION:Open every Monday and Friday\, from 10am to 2pm – The Gathering Place is a welcoming space for you to: \n\nMeet up with friends and make new ones 👱‍♂️ 👩‍🦳.\nRelax with tea and coffee 🍵.\nEnjoy lively discussions and engaging activities ♟.\n\n  \nLocated at the Harvey Curling Club.
URL:https://harveyruralcommunity.ca/event/the-gathering-place/2028-08-28/
END:VEVENT
BEGIN:VEVENT
DTSTART;TZID=America/Halifax:20280901T100000
DTEND;TZID=America/Halifax:20280901T140000
DTSTAMP:20260423T222645
CREATED:20250902T121428Z
LAST-MODIFIED:20250902T121428Z
UID:10007274-1851415200-1851429600@harveyruralcommunity.ca
SUMMARY:The Gathering Place
DESCRIPTION:Open every Monday and Friday\, from 10am to 2pm – The Gathering Place is a welcoming space for you to: \n\nMeet up with friends and make new ones 👱‍♂️ 👩‍🦳.\nRelax with tea and coffee 🍵.\nEnjoy lively discussions and engaging activities ♟.\n\n  \nLocated at the Harvey Curling Club.
URL:https://harveyruralcommunity.ca/event/the-gathering-place/2028-09-01/
END:VEVENT
BEGIN:VEVENT
DTSTART;TZID=America/Halifax:20280904T100000
DTEND;TZID=America/Halifax:20280904T140000
DTSTAMP:20260423T222645
CREATED:20250902T121428Z
LAST-MODIFIED:20250902T121428Z
UID:10007275-1851674400-1851688800@harveyruralcommunity.ca
SUMMARY:The Gathering Place
DESCRIPTION:Open every Monday and Friday\, from 10am to 2pm – The Gathering Place is a welcoming space for you to: \n\nMeet up with friends and make new ones 👱‍♂️ 👩‍🦳.\nRelax with tea and coffee 🍵.\nEnjoy lively discussions and engaging activities ♟.\n\n  \nLocated at the Harvey Curling Club.
URL:https://harveyruralcommunity.ca/event/the-gathering-place/2028-09-04/
END:VEVENT
BEGIN:VEVENT
DTSTART;TZID=America/Halifax:20280908T100000
DTEND;TZID=America/Halifax:20280908T140000
DTSTAMP:20260423T222646
CREATED:20250902T121428Z
LAST-MODIFIED:20250902T121428Z
UID:10007276-1852020000-1852034400@harveyruralcommunity.ca
SUMMARY:The Gathering Place
DESCRIPTION:Open every Monday and Friday\, from 10am to 2pm – The Gathering Place is a welcoming space for you to: \n\nMeet up with friends and make new ones 👱‍♂️ 👩‍🦳.\nRelax with tea and coffee 🍵.\nEnjoy lively discussions and engaging activities ♟.\n\n  \nLocated at the Harvey Curling Club.
URL:https://harveyruralcommunity.ca/event/the-gathering-place/2028-09-08/
END:VEVENT
BEGIN:VEVENT
DTSTART;TZID=America/Halifax:20280911T100000
DTEND;TZID=America/Halifax:20280911T140000
DTSTAMP:20260423T222646
CREATED:20250902T121428Z
LAST-MODIFIED:20250902T121428Z
UID:10007277-1852279200-1852293600@harveyruralcommunity.ca
SUMMARY:The Gathering Place
DESCRIPTION:Open every Monday and Friday\, from 10am to 2pm – The Gathering Place is a welcoming space for you to: \n\nMeet up with friends and make new ones 👱‍♂️ 👩‍🦳.\nRelax with tea and coffee 🍵.\nEnjoy lively discussions and engaging activities ♟.\n\n  \nLocated at the Harvey Curling Club.
URL:https://harveyruralcommunity.ca/event/the-gathering-place/2028-09-11/
END:VEVENT
BEGIN:VEVENT
DTSTART;TZID=America/Halifax:20280915T100000
DTEND;TZID=America/Halifax:20280915T140000
DTSTAMP:20260423T222646
CREATED:20250902T121428Z
LAST-MODIFIED:20250902T121428Z
UID:10007278-1852624800-1852639200@harveyruralcommunity.ca
SUMMARY:The Gathering Place
DESCRIPTION:Open every Monday and Friday\, from 10am to 2pm – The Gathering Place is a welcoming space for you to: \n\nMeet up with friends and make new ones 👱‍♂️ 👩‍🦳.\nRelax with tea and coffee 🍵.\nEnjoy lively discussions and engaging activities ♟.\n\n  \nLocated at the Harvey Curling Club.
URL:https://harveyruralcommunity.ca/event/the-gathering-place/2028-09-15/
END:VEVENT
BEGIN:VEVENT
DTSTART;TZID=America/Halifax:20280918T100000
DTEND;TZID=America/Halifax:20280918T140000
DTSTAMP:20260423T222646
CREATED:20250902T121428Z
LAST-MODIFIED:20250902T121428Z
UID:10007279-1852884000-1852898400@harveyruralcommunity.ca
SUMMARY:The Gathering Place
DESCRIPTION:Open every Monday and Friday\, from 10am to 2pm – The Gathering Place is a welcoming space for you to: \n\nMeet up with friends and make new ones 👱‍♂️ 👩‍🦳.\nRelax with tea and coffee 🍵.\nEnjoy lively discussions and engaging activities ♟.\n\n  \nLocated at the Harvey Curling Club.
URL:https://harveyruralcommunity.ca/event/the-gathering-place/2028-09-18/
END:VEVENT
BEGIN:VEVENT
DTSTART;TZID=America/Halifax:20280922T100000
DTEND;TZID=America/Halifax:20280922T140000
DTSTAMP:20260423T222646
CREATED:20250902T121428Z
LAST-MODIFIED:20250902T121428Z
UID:10007280-1853229600-1853244000@harveyruralcommunity.ca
SUMMARY:The Gathering Place
DESCRIPTION:Open every Monday and Friday\, from 10am to 2pm – The Gathering Place is a welcoming space for you to: \n\nMeet up with friends and make new ones 👱‍♂️ 👩‍🦳.\nRelax with tea and coffee 🍵.\nEnjoy lively discussions and engaging activities ♟.\n\n  \nLocated at the Harvey Curling Club.
URL:https://harveyruralcommunity.ca/event/the-gathering-place/2028-09-22/
END:VEVENT
BEGIN:VEVENT
DTSTART;TZID=America/Halifax:20280925T100000
DTEND;TZID=America/Halifax:20280925T140000
DTSTAMP:20260423T222646
CREATED:20250902T121428Z
LAST-MODIFIED:20250902T121428Z
UID:10007281-1853488800-1853503200@harveyruralcommunity.ca
SUMMARY:The Gathering Place
DESCRIPTION:Open every Monday and Friday\, from 10am to 2pm – The Gathering Place is a welcoming space for you to: \n\nMeet up with friends and make new ones 👱‍♂️ 👩‍🦳.\nRelax with tea and coffee 🍵.\nEnjoy lively discussions and engaging activities ♟.\n\n  \nLocated at the Harvey Curling Club.
URL:https://harveyruralcommunity.ca/event/the-gathering-place/2028-09-25/
END:VEVENT
BEGIN:VEVENT
DTSTART;TZID=America/Halifax:20280929T100000
DTEND;TZID=America/Halifax:20280929T140000
DTSTAMP:20260423T222646
CREATED:20250902T121428Z
LAST-MODIFIED:20250902T121428Z
UID:10007282-1853834400-1853848800@harveyruralcommunity.ca
SUMMARY:The Gathering Place
DESCRIPTION:Open every Monday and Friday\, from 10am to 2pm – The Gathering Place is a welcoming space for you to: \n\nMeet up with friends and make new ones 👱‍♂️ 👩‍🦳.\nRelax with tea and coffee 🍵.\nEnjoy lively discussions and engaging activities ♟.\n\n  \nLocated at the Harvey Curling Club.
URL:https://harveyruralcommunity.ca/event/the-gathering-place/2028-09-29/
END:VEVENT
BEGIN:VEVENT
DTSTART;TZID=America/Halifax:20281002T100000
DTEND;TZID=America/Halifax:20281002T140000
DTSTAMP:20260423T222646
CREATED:20250902T121428Z
LAST-MODIFIED:20250902T121428Z
UID:10007283-1854093600-1854108000@harveyruralcommunity.ca
SUMMARY:The Gathering Place
DESCRIPTION:Open every Monday and Friday\, from 10am to 2pm – The Gathering Place is a welcoming space for you to: \n\nMeet up with friends and make new ones 👱‍♂️ 👩‍🦳.\nRelax with tea and coffee 🍵.\nEnjoy lively discussions and engaging activities ♟.\n\n  \nLocated at the Harvey Curling Club.
URL:https://harveyruralcommunity.ca/event/the-gathering-place/2028-10-02/
END:VEVENT
BEGIN:VEVENT
DTSTART;TZID=America/Halifax:20281006T100000
DTEND;TZID=America/Halifax:20281006T140000
DTSTAMP:20260423T222646
CREATED:20250902T121428Z
LAST-MODIFIED:20250902T121428Z
UID:10007284-1854439200-1854453600@harveyruralcommunity.ca
SUMMARY:The Gathering Place
DESCRIPTION:Open every Monday and Friday\, from 10am to 2pm – The Gathering Place is a welcoming space for you to: \n\nMeet up with friends and make new ones 👱‍♂️ 👩‍🦳.\nRelax with tea and coffee 🍵.\nEnjoy lively discussions and engaging activities ♟.\n\n  \nLocated at the Harvey Curling Club.
URL:https://harveyruralcommunity.ca/event/the-gathering-place/2028-10-06/
END:VEVENT
BEGIN:VEVENT
DTSTART;TZID=America/Halifax:20281009T100000
DTEND;TZID=America/Halifax:20281009T140000
DTSTAMP:20260423T222646
CREATED:20250902T121428Z
LAST-MODIFIED:20250902T121428Z
UID:10007285-1854698400-1854712800@harveyruralcommunity.ca
SUMMARY:The Gathering Place
DESCRIPTION:Open every Monday and Friday\, from 10am to 2pm – The Gathering Place is a welcoming space for you to: \n\nMeet up with friends and make new ones 👱‍♂️ 👩‍🦳.\nRelax with tea and coffee 🍵.\nEnjoy lively discussions and engaging activities ♟.\n\n  \nLocated at the Harvey Curling Club.
URL:https://harveyruralcommunity.ca/event/the-gathering-place/2028-10-09/
END:VEVENT
BEGIN:VEVENT
DTSTART;TZID=America/Halifax:20281013T100000
DTEND;TZID=America/Halifax:20281013T140000
DTSTAMP:20260423T222646
CREATED:20250902T121428Z
LAST-MODIFIED:20250902T121428Z
UID:10007286-1855044000-1855058400@harveyruralcommunity.ca
SUMMARY:The Gathering Place
DESCRIPTION:Open every Monday and Friday\, from 10am to 2pm – The Gathering Place is a welcoming space for you to: \n\nMeet up with friends and make new ones 👱‍♂️ 👩‍🦳.\nRelax with tea and coffee 🍵.\nEnjoy lively discussions and engaging activities ♟.\n\n  \nLocated at the Harvey Curling Club.
URL:https://harveyruralcommunity.ca/event/the-gathering-place/2028-10-13/
END:VEVENT
BEGIN:VEVENT
DTSTART;TZID=America/Halifax:20281016T100000
DTEND;TZID=America/Halifax:20281016T140000
DTSTAMP:20260423T222646
CREATED:20250902T121428Z
LAST-MODIFIED:20250902T121428Z
UID:10007287-1855303200-1855317600@harveyruralcommunity.ca
SUMMARY:The Gathering Place
DESCRIPTION:Open every Monday and Friday\, from 10am to 2pm – The Gathering Place is a welcoming space for you to: \n\nMeet up with friends and make new ones 👱‍♂️ 👩‍🦳.\nRelax with tea and coffee 🍵.\nEnjoy lively discussions and engaging activities ♟.\n\n  \nLocated at the Harvey Curling Club.
URL:https://harveyruralcommunity.ca/event/the-gathering-place/2028-10-16/
END:VEVENT
BEGIN:VEVENT
DTSTART;TZID=America/Halifax:20281020T100000
DTEND;TZID=America/Halifax:20281020T140000
DTSTAMP:20260423T222646
CREATED:20250902T121428Z
LAST-MODIFIED:20250902T121428Z
UID:10007288-1855648800-1855663200@harveyruralcommunity.ca
SUMMARY:The Gathering Place
DESCRIPTION:Open every Monday and Friday\, from 10am to 2pm – The Gathering Place is a welcoming space for you to: \n\nMeet up with friends and make new ones 👱‍♂️ 👩‍🦳.\nRelax with tea and coffee 🍵.\nEnjoy lively discussions and engaging activities ♟.\n\n  \nLocated at the Harvey Curling Club.
URL:https://harveyruralcommunity.ca/event/the-gathering-place/2028-10-20/
END:VEVENT
BEGIN:VEVENT
DTSTART;TZID=America/Halifax:20281023T100000
DTEND;TZID=America/Halifax:20281023T140000
DTSTAMP:20260423T222646
CREATED:20250902T121428Z
LAST-MODIFIED:20250902T121428Z
UID:10007289-1855908000-1855922400@harveyruralcommunity.ca
SUMMARY:The Gathering Place
DESCRIPTION:Open every Monday and Friday\, from 10am to 2pm – The Gathering Place is a welcoming space for you to: \n\nMeet up with friends and make new ones 👱‍♂️ 👩‍🦳.\nRelax with tea and coffee 🍵.\nEnjoy lively discussions and engaging activities ♟.\n\n  \nLocated at the Harvey Curling Club.
URL:https://harveyruralcommunity.ca/event/the-gathering-place/2028-10-23/
END:VEVENT
BEGIN:VEVENT
DTSTART;TZID=America/Halifax:20281027T100000
DTEND;TZID=America/Halifax:20281027T140000
DTSTAMP:20260423T222646
CREATED:20250902T121428Z
LAST-MODIFIED:20250902T121428Z
UID:10007290-1856253600-1856268000@harveyruralcommunity.ca
SUMMARY:The Gathering Place
DESCRIPTION:Open every Monday and Friday\, from 10am to 2pm – The Gathering Place is a welcoming space for you to: \n\nMeet up with friends and make new ones 👱‍♂️ 👩‍🦳.\nRelax with tea and coffee 🍵.\nEnjoy lively discussions and engaging activities ♟.\n\n  \nLocated at the Harvey Curling Club.
URL:https://harveyruralcommunity.ca/event/the-gathering-place/2028-10-27/
END:VEVENT
BEGIN:VEVENT
DTSTART;TZID=America/Halifax:20281030T100000
DTEND;TZID=America/Halifax:20281030T140000
DTSTAMP:20260423T222646
CREATED:20250902T121428Z
LAST-MODIFIED:20250902T121428Z
UID:10007291-1856512800-1856527200@harveyruralcommunity.ca
SUMMARY:The Gathering Place
DESCRIPTION:Open every Monday and Friday\, from 10am to 2pm – The Gathering Place is a welcoming space for you to: \n\nMeet up with friends and make new ones 👱‍♂️ 👩‍🦳.\nRelax with tea and coffee 🍵.\nEnjoy lively discussions and engaging activities ♟.\n\n  \nLocated at the Harvey Curling Club.
URL:https://harveyruralcommunity.ca/event/the-gathering-place/2028-10-30/
END:VEVENT
BEGIN:VEVENT
DTSTART;TZID=America/Halifax:20281103T100000
DTEND;TZID=America/Halifax:20281103T140000
DTSTAMP:20260423T222646
CREATED:20250902T121428Z
LAST-MODIFIED:20250902T121428Z
UID:10007292-1856858400-1856872800@harveyruralcommunity.ca
SUMMARY:The Gathering Place
DESCRIPTION:Open every Monday and Friday\, from 10am to 2pm – The Gathering Place is a welcoming space for you to: \n\nMeet up with friends and make new ones 👱‍♂️ 👩‍🦳.\nRelax with tea and coffee 🍵.\nEnjoy lively discussions and engaging activities ♟.\n\n  \nLocated at the Harvey Curling Club.
URL:https://harveyruralcommunity.ca/event/the-gathering-place/2028-11-03/
END:VEVENT
BEGIN:VEVENT
DTSTART;TZID=America/Halifax:20281106T100000
DTEND;TZID=America/Halifax:20281106T140000
DTSTAMP:20260423T222646
CREATED:20250902T121428Z
LAST-MODIFIED:20250902T121428Z
UID:10007293-1857117600-1857132000@harveyruralcommunity.ca
SUMMARY:The Gathering Place
DESCRIPTION:Open every Monday and Friday\, from 10am to 2pm – The Gathering Place is a welcoming space for you to: \n\nMeet up with friends and make new ones 👱‍♂️ 👩‍🦳.\nRelax with tea and coffee 🍵.\nEnjoy lively discussions and engaging activities ♟.\n\n  \nLocated at the Harvey Curling Club.
URL:https://harveyruralcommunity.ca/event/the-gathering-place/2028-11-06/
END:VEVENT
BEGIN:VEVENT
DTSTART;TZID=America/Halifax:20281110T100000
DTEND;TZID=America/Halifax:20281110T140000
DTSTAMP:20260423T222646
CREATED:20250902T121428Z
LAST-MODIFIED:20250902T121428Z
UID:10007294-1857463200-1857477600@harveyruralcommunity.ca
SUMMARY:The Gathering Place
DESCRIPTION:Open every Monday and Friday\, from 10am to 2pm – The Gathering Place is a welcoming space for you to: \n\nMeet up with friends and make new ones 👱‍♂️ 👩‍🦳.\nRelax with tea and coffee 🍵.\nEnjoy lively discussions and engaging activities ♟.\n\n  \nLocated at the Harvey Curling Club.
URL:https://harveyruralcommunity.ca/event/the-gathering-place/2028-11-10/
END:VEVENT
BEGIN:VEVENT
DTSTART;TZID=America/Halifax:20281113T100000
DTEND;TZID=America/Halifax:20281113T140000
DTSTAMP:20260423T222646
CREATED:20250902T121428Z
LAST-MODIFIED:20250902T121428Z
UID:10007295-1857722400-1857736800@harveyruralcommunity.ca
SUMMARY:The Gathering Place
DESCRIPTION:Open every Monday and Friday\, from 10am to 2pm – The Gathering Place is a welcoming space for you to: \n\nMeet up with friends and make new ones 👱‍♂️ 👩‍🦳.\nRelax with tea and coffee 🍵.\nEnjoy lively discussions and engaging activities ♟.\n\n  \nLocated at the Harvey Curling Club.
URL:https://harveyruralcommunity.ca/event/the-gathering-place/2028-11-13/
END:VEVENT
BEGIN:VEVENT
DTSTART;TZID=America/Halifax:20281117T100000
DTEND;TZID=America/Halifax:20281117T140000
DTSTAMP:20260423T222646
CREATED:20250902T121428Z
LAST-MODIFIED:20250902T121428Z
UID:10007296-1858068000-1858082400@harveyruralcommunity.ca
SUMMARY:The Gathering Place
DESCRIPTION:Open every Monday and Friday\, from 10am to 2pm – The Gathering Place is a welcoming space for you to: \n\nMeet up with friends and make new ones 👱‍♂️ 👩‍🦳.\nRelax with tea and coffee 🍵.\nEnjoy lively discussions and engaging activities ♟.\n\n  \nLocated at the Harvey Curling Club.
URL:https://harveyruralcommunity.ca/event/the-gathering-place/2028-11-17/
END:VEVENT
BEGIN:VEVENT
DTSTART;TZID=America/Halifax:20281120T100000
DTEND;TZID=America/Halifax:20281120T140000
DTSTAMP:20260423T222646
CREATED:20250902T121428Z
LAST-MODIFIED:20250902T121428Z
UID:10007297-1858327200-1858341600@harveyruralcommunity.ca
SUMMARY:The Gathering Place
DESCRIPTION:Open every Monday and Friday\, from 10am to 2pm – The Gathering Place is a welcoming space for you to: \n\nMeet up with friends and make new ones 👱‍♂️ 👩‍🦳.\nRelax with tea and coffee 🍵.\nEnjoy lively discussions and engaging activities ♟.\n\n  \nLocated at the Harvey Curling Club.
URL:https://harveyruralcommunity.ca/event/the-gathering-place/2028-11-20/
END:VEVENT
END:VCALENDAR