BEGIN:VCALENDAR
VERSION:2.0
PRODID:-//Harvey Rural Community - ECPv6.6.1//NONSGML v1.0//EN
CALSCALE:GREGORIAN
METHOD:PUBLISH
X-WR-CALNAME:Harvey Rural Community
X-ORIGINAL-URL:https://harveyruralcommunity.ca
X-WR-CALDESC:Events for Harvey Rural Community
BEGIN:VTIMEZONE
TZID:America/Halifax
BEGIN:DAYLIGHT
TZOFFSETFROM:-0400
TZOFFSETTO:-0300
TZNAME:ADT
DTSTART:20260308T060000
END:DAYLIGHT
BEGIN:STANDARD
TZOFFSETFROM:-0300
TZOFFSETTO:-0400
TZNAME:AST
DTSTART:20261101T050000
END:STANDARD
END:VTIMEZONE
BEGIN:VEVENT
DTSTART;TZID=America/Halifax:20260715T190000
DTEND;TZID=America/Halifax:20260715T200000
DTSTAMP:20260422T010041
CREATED:20240812T174216Z
LAST-MODIFIED:20240814T132356Z
UID:10006067-1784142000-1784145600@harveyruralcommunity.ca
SUMMARY:Harvey HIIT Class
DESCRIPTION:Join us for an invigorating high-intensity interval training (HIIT) class from 7-8PM at the HMCC.
URL:https://harveyruralcommunity.ca/event/harvey-hiit-class-2/2026-07-15/
LOCATION:Harvey Memorial Community Centre\, 58 Hanselpacker St\, Harvey Station\, NB E6K 1A3\, Canada
END:VEVENT
BEGIN:VEVENT
DTSTART;TZID=America/Halifax:20260720T190000
DTEND;TZID=America/Halifax:20260720T200000
DTSTAMP:20260422T010041
CREATED:20240812T174216Z
LAST-MODIFIED:20240814T132356Z
UID:10006068-1784574000-1784577600@harveyruralcommunity.ca
SUMMARY:Harvey HIIT Class
DESCRIPTION:Join us for an invigorating high-intensity interval training (HIIT) class from 7-8PM at the HMCC.
URL:https://harveyruralcommunity.ca/event/harvey-hiit-class-2/2026-07-20/
LOCATION:Harvey Memorial Community Centre\, 58 Hanselpacker St\, Harvey Station\, NB E6K 1A3\, Canada
END:VEVENT
BEGIN:VEVENT
DTSTART;TZID=America/Halifax:20260722T190000
DTEND;TZID=America/Halifax:20260722T200000
DTSTAMP:20260422T010041
CREATED:20240812T174216Z
LAST-MODIFIED:20240814T132356Z
UID:10006069-1784746800-1784750400@harveyruralcommunity.ca
SUMMARY:Harvey HIIT Class
DESCRIPTION:Join us for an invigorating high-intensity interval training (HIIT) class from 7-8PM at the HMCC.
URL:https://harveyruralcommunity.ca/event/harvey-hiit-class-2/2026-07-22/
LOCATION:Harvey Memorial Community Centre\, 58 Hanselpacker St\, Harvey Station\, NB E6K 1A3\, Canada
END:VEVENT
BEGIN:VEVENT
DTSTART;TZID=America/Halifax:20260727T190000
DTEND;TZID=America/Halifax:20260727T200000
DTSTAMP:20260422T010041
CREATED:20240812T174216Z
LAST-MODIFIED:20240814T132356Z
UID:10006070-1785178800-1785182400@harveyruralcommunity.ca
SUMMARY:Harvey HIIT Class
DESCRIPTION:Join us for an invigorating high-intensity interval training (HIIT) class from 7-8PM at the HMCC.
URL:https://harveyruralcommunity.ca/event/harvey-hiit-class-2/2026-07-27/
LOCATION:Harvey Memorial Community Centre\, 58 Hanselpacker St\, Harvey Station\, NB E6K 1A3\, Canada
END:VEVENT
BEGIN:VEVENT
DTSTART;TZID=America/Halifax:20260729T190000
DTEND;TZID=America/Halifax:20260729T200000
DTSTAMP:20260422T010041
CREATED:20240812T174216Z
LAST-MODIFIED:20240814T132356Z
UID:10006071-1785351600-1785355200@harveyruralcommunity.ca
SUMMARY:Harvey HIIT Class
DESCRIPTION:Join us for an invigorating high-intensity interval training (HIIT) class from 7-8PM at the HMCC.
URL:https://harveyruralcommunity.ca/event/harvey-hiit-class-2/2026-07-29/
LOCATION:Harvey Memorial Community Centre\, 58 Hanselpacker St\, Harvey Station\, NB E6K 1A3\, Canada
END:VEVENT
BEGIN:VEVENT
DTSTART;TZID=America/Halifax:20260803T190000
DTEND;TZID=America/Halifax:20260803T200000
DTSTAMP:20260422T010041
CREATED:20240812T174216Z
LAST-MODIFIED:20240814T132356Z
UID:10006072-1785783600-1785787200@harveyruralcommunity.ca
SUMMARY:Harvey HIIT Class
DESCRIPTION:Join us for an invigorating high-intensity interval training (HIIT) class from 7-8PM at the HMCC.
URL:https://harveyruralcommunity.ca/event/harvey-hiit-class-2/2026-08-03/
LOCATION:Harvey Memorial Community Centre\, 58 Hanselpacker St\, Harvey Station\, NB E6K 1A3\, Canada
END:VEVENT
BEGIN:VEVENT
DTSTART;TZID=America/Halifax:20260805T190000
DTEND;TZID=America/Halifax:20260805T200000
DTSTAMP:20260422T010041
CREATED:20240812T174216Z
LAST-MODIFIED:20240814T132356Z
UID:10006073-1785956400-1785960000@harveyruralcommunity.ca
SUMMARY:Harvey HIIT Class
DESCRIPTION:Join us for an invigorating high-intensity interval training (HIIT) class from 7-8PM at the HMCC.
URL:https://harveyruralcommunity.ca/event/harvey-hiit-class-2/2026-08-05/
LOCATION:Harvey Memorial Community Centre\, 58 Hanselpacker St\, Harvey Station\, NB E6K 1A3\, Canada
END:VEVENT
BEGIN:VEVENT
DTSTART;TZID=America/Halifax:20260810T190000
DTEND;TZID=America/Halifax:20260810T200000
DTSTAMP:20260422T010041
CREATED:20240812T174216Z
LAST-MODIFIED:20240814T132356Z
UID:10006074-1786388400-1786392000@harveyruralcommunity.ca
SUMMARY:Harvey HIIT Class
DESCRIPTION:Join us for an invigorating high-intensity interval training (HIIT) class from 7-8PM at the HMCC.
URL:https://harveyruralcommunity.ca/event/harvey-hiit-class-2/2026-08-10/
LOCATION:Harvey Memorial Community Centre\, 58 Hanselpacker St\, Harvey Station\, NB E6K 1A3\, Canada
END:VEVENT
BEGIN:VEVENT
DTSTART;TZID=America/Halifax:20260812T190000
DTEND;TZID=America/Halifax:20260812T200000
DTSTAMP:20260422T010041
CREATED:20240812T174216Z
LAST-MODIFIED:20240814T132356Z
UID:10006075-1786561200-1786564800@harveyruralcommunity.ca
SUMMARY:Harvey HIIT Class
DESCRIPTION:Join us for an invigorating high-intensity interval training (HIIT) class from 7-8PM at the HMCC.
URL:https://harveyruralcommunity.ca/event/harvey-hiit-class-2/2026-08-12/
LOCATION:Harvey Memorial Community Centre\, 58 Hanselpacker St\, Harvey Station\, NB E6K 1A3\, Canada
END:VEVENT
BEGIN:VEVENT
DTSTART;TZID=America/Halifax:20260817T190000
DTEND;TZID=America/Halifax:20260817T200000
DTSTAMP:20260422T010041
CREATED:20240812T174216Z
LAST-MODIFIED:20240814T132356Z
UID:10006076-1786993200-1786996800@harveyruralcommunity.ca
SUMMARY:Harvey HIIT Class
DESCRIPTION:Join us for an invigorating high-intensity interval training (HIIT) class from 7-8PM at the HMCC.
URL:https://harveyruralcommunity.ca/event/harvey-hiit-class-2/2026-08-17/
LOCATION:Harvey Memorial Community Centre\, 58 Hanselpacker St\, Harvey Station\, NB E6K 1A3\, Canada
END:VEVENT
BEGIN:VEVENT
DTSTART;TZID=America/Halifax:20260819T190000
DTEND;TZID=America/Halifax:20260819T200000
DTSTAMP:20260422T010041
CREATED:20240812T174216Z
LAST-MODIFIED:20240814T132356Z
UID:10006077-1787166000-1787169600@harveyruralcommunity.ca
SUMMARY:Harvey HIIT Class
DESCRIPTION:Join us for an invigorating high-intensity interval training (HIIT) class from 7-8PM at the HMCC.
URL:https://harveyruralcommunity.ca/event/harvey-hiit-class-2/2026-08-19/
LOCATION:Harvey Memorial Community Centre\, 58 Hanselpacker St\, Harvey Station\, NB E6K 1A3\, Canada
END:VEVENT
BEGIN:VEVENT
DTSTART;TZID=America/Halifax:20260824T190000
DTEND;TZID=America/Halifax:20260824T200000
DTSTAMP:20260422T010041
CREATED:20240812T174216Z
LAST-MODIFIED:20240814T132356Z
UID:10006078-1787598000-1787601600@harveyruralcommunity.ca
SUMMARY:Harvey HIIT Class
DESCRIPTION:Join us for an invigorating high-intensity interval training (HIIT) class from 7-8PM at the HMCC.
URL:https://harveyruralcommunity.ca/event/harvey-hiit-class-2/2026-08-24/
LOCATION:Harvey Memorial Community Centre\, 58 Hanselpacker St\, Harvey Station\, NB E6K 1A3\, Canada
END:VEVENT
BEGIN:VEVENT
DTSTART;TZID=America/Halifax:20260826T190000
DTEND;TZID=America/Halifax:20260826T200000
DTSTAMP:20260422T010042
CREATED:20240812T174216Z
LAST-MODIFIED:20240814T132356Z
UID:10006079-1787770800-1787774400@harveyruralcommunity.ca
SUMMARY:Harvey HIIT Class
DESCRIPTION:Join us for an invigorating high-intensity interval training (HIIT) class from 7-8PM at the HMCC.
URL:https://harveyruralcommunity.ca/event/harvey-hiit-class-2/2026-08-26/
LOCATION:Harvey Memorial Community Centre\, 58 Hanselpacker St\, Harvey Station\, NB E6K 1A3\, Canada
END:VEVENT
BEGIN:VEVENT
DTSTART;TZID=America/Halifax:20260831T190000
DTEND;TZID=America/Halifax:20260831T200000
DTSTAMP:20260422T010042
CREATED:20240812T174216Z
LAST-MODIFIED:20240814T132356Z
UID:10006080-1788202800-1788206400@harveyruralcommunity.ca
SUMMARY:Harvey HIIT Class
DESCRIPTION:Join us for an invigorating high-intensity interval training (HIIT) class from 7-8PM at the HMCC.
URL:https://harveyruralcommunity.ca/event/harvey-hiit-class-2/2026-08-31/
LOCATION:Harvey Memorial Community Centre\, 58 Hanselpacker St\, Harvey Station\, NB E6K 1A3\, Canada
END:VEVENT
BEGIN:VEVENT
DTSTART;TZID=America/Halifax:20260902T190000
DTEND;TZID=America/Halifax:20260902T200000
DTSTAMP:20260422T010042
CREATED:20240812T174216Z
LAST-MODIFIED:20240814T132356Z
UID:10006081-1788375600-1788379200@harveyruralcommunity.ca
SUMMARY:Harvey HIIT Class
DESCRIPTION:Join us for an invigorating high-intensity interval training (HIIT) class from 7-8PM at the HMCC.
URL:https://harveyruralcommunity.ca/event/harvey-hiit-class-2/2026-09-02/
LOCATION:Harvey Memorial Community Centre\, 58 Hanselpacker St\, Harvey Station\, NB E6K 1A3\, Canada
END:VEVENT
BEGIN:VEVENT
DTSTART;TZID=America/Halifax:20260907T190000
DTEND;TZID=America/Halifax:20260907T200000
DTSTAMP:20260422T010042
CREATED:20240812T174216Z
LAST-MODIFIED:20240814T132356Z
UID:10006082-1788807600-1788811200@harveyruralcommunity.ca
SUMMARY:Harvey HIIT Class
DESCRIPTION:Join us for an invigorating high-intensity interval training (HIIT) class from 7-8PM at the HMCC.
URL:https://harveyruralcommunity.ca/event/harvey-hiit-class-2/2026-09-07/
LOCATION:Harvey Memorial Community Centre\, 58 Hanselpacker St\, Harvey Station\, NB E6K 1A3\, Canada
END:VEVENT
BEGIN:VEVENT
DTSTART;TZID=America/Halifax:20260909T190000
DTEND;TZID=America/Halifax:20260909T200000
DTSTAMP:20260422T010042
CREATED:20240812T174216Z
LAST-MODIFIED:20240814T132356Z
UID:10006083-1788980400-1788984000@harveyruralcommunity.ca
SUMMARY:Harvey HIIT Class
DESCRIPTION:Join us for an invigorating high-intensity interval training (HIIT) class from 7-8PM at the HMCC.
URL:https://harveyruralcommunity.ca/event/harvey-hiit-class-2/2026-09-09/
LOCATION:Harvey Memorial Community Centre\, 58 Hanselpacker St\, Harvey Station\, NB E6K 1A3\, Canada
END:VEVENT
BEGIN:VEVENT
DTSTART;TZID=America/Halifax:20260914T190000
DTEND;TZID=America/Halifax:20260914T200000
DTSTAMP:20260422T010042
CREATED:20240812T174216Z
LAST-MODIFIED:20240814T132356Z
UID:10006084-1789412400-1789416000@harveyruralcommunity.ca
SUMMARY:Harvey HIIT Class
DESCRIPTION:Join us for an invigorating high-intensity interval training (HIIT) class from 7-8PM at the HMCC.
URL:https://harveyruralcommunity.ca/event/harvey-hiit-class-2/2026-09-14/
LOCATION:Harvey Memorial Community Centre\, 58 Hanselpacker St\, Harvey Station\, NB E6K 1A3\, Canada
END:VEVENT
BEGIN:VEVENT
DTSTART;TZID=America/Halifax:20260916T190000
DTEND;TZID=America/Halifax:20260916T200000
DTSTAMP:20260422T010042
CREATED:20240812T174216Z
LAST-MODIFIED:20240814T132356Z
UID:10006085-1789585200-1789588800@harveyruralcommunity.ca
SUMMARY:Harvey HIIT Class
DESCRIPTION:Join us for an invigorating high-intensity interval training (HIIT) class from 7-8PM at the HMCC.
URL:https://harveyruralcommunity.ca/event/harvey-hiit-class-2/2026-09-16/
LOCATION:Harvey Memorial Community Centre\, 58 Hanselpacker St\, Harvey Station\, NB E6K 1A3\, Canada
END:VEVENT
BEGIN:VEVENT
DTSTART;TZID=America/Halifax:20260921T190000
DTEND;TZID=America/Halifax:20260921T200000
DTSTAMP:20260422T010042
CREATED:20240812T174216Z
LAST-MODIFIED:20240814T132356Z
UID:10006086-1790017200-1790020800@harveyruralcommunity.ca
SUMMARY:Harvey HIIT Class
DESCRIPTION:Join us for an invigorating high-intensity interval training (HIIT) class from 7-8PM at the HMCC.
URL:https://harveyruralcommunity.ca/event/harvey-hiit-class-2/2026-09-21/
LOCATION:Harvey Memorial Community Centre\, 58 Hanselpacker St\, Harvey Station\, NB E6K 1A3\, Canada
END:VEVENT
BEGIN:VEVENT
DTSTART;TZID=America/Halifax:20260923T190000
DTEND;TZID=America/Halifax:20260923T200000
DTSTAMP:20260422T010042
CREATED:20240812T174216Z
LAST-MODIFIED:20240814T132356Z
UID:10006087-1790190000-1790193600@harveyruralcommunity.ca
SUMMARY:Harvey HIIT Class
DESCRIPTION:Join us for an invigorating high-intensity interval training (HIIT) class from 7-8PM at the HMCC.
URL:https://harveyruralcommunity.ca/event/harvey-hiit-class-2/2026-09-23/
LOCATION:Harvey Memorial Community Centre\, 58 Hanselpacker St\, Harvey Station\, NB E6K 1A3\, Canada
END:VEVENT
BEGIN:VEVENT
DTSTART;TZID=America/Halifax:20260928T190000
DTEND;TZID=America/Halifax:20260928T200000
DTSTAMP:20260422T010042
CREATED:20240812T174216Z
LAST-MODIFIED:20240814T132356Z
UID:10006088-1790622000-1790625600@harveyruralcommunity.ca
SUMMARY:Harvey HIIT Class
DESCRIPTION:Join us for an invigorating high-intensity interval training (HIIT) class from 7-8PM at the HMCC.
URL:https://harveyruralcommunity.ca/event/harvey-hiit-class-2/2026-09-28/
LOCATION:Harvey Memorial Community Centre\, 58 Hanselpacker St\, Harvey Station\, NB E6K 1A3\, Canada
END:VEVENT
BEGIN:VEVENT
DTSTART;TZID=America/Halifax:20260930T190000
DTEND;TZID=America/Halifax:20260930T200000
DTSTAMP:20260422T010042
CREATED:20240812T174216Z
LAST-MODIFIED:20240814T132356Z
UID:10006089-1790794800-1790798400@harveyruralcommunity.ca
SUMMARY:Harvey HIIT Class
DESCRIPTION:Join us for an invigorating high-intensity interval training (HIIT) class from 7-8PM at the HMCC.
URL:https://harveyruralcommunity.ca/event/harvey-hiit-class-2/2026-09-30/
LOCATION:Harvey Memorial Community Centre\, 58 Hanselpacker St\, Harvey Station\, NB E6K 1A3\, Canada
END:VEVENT
BEGIN:VEVENT
DTSTART;TZID=America/Halifax:20261005T190000
DTEND;TZID=America/Halifax:20261005T200000
DTSTAMP:20260422T010042
CREATED:20240812T174216Z
LAST-MODIFIED:20240814T132356Z
UID:10006090-1791226800-1791230400@harveyruralcommunity.ca
SUMMARY:Harvey HIIT Class
DESCRIPTION:Join us for an invigorating high-intensity interval training (HIIT) class from 7-8PM at the HMCC.
URL:https://harveyruralcommunity.ca/event/harvey-hiit-class-2/2026-10-05/
LOCATION:Harvey Memorial Community Centre\, 58 Hanselpacker St\, Harvey Station\, NB E6K 1A3\, Canada
END:VEVENT
BEGIN:VEVENT
DTSTART;TZID=America/Halifax:20261007T190000
DTEND;TZID=America/Halifax:20261007T200000
DTSTAMP:20260422T010042
CREATED:20240812T174216Z
LAST-MODIFIED:20240814T132356Z
UID:10006091-1791399600-1791403200@harveyruralcommunity.ca
SUMMARY:Harvey HIIT Class
DESCRIPTION:Join us for an invigorating high-intensity interval training (HIIT) class from 7-8PM at the HMCC.
URL:https://harveyruralcommunity.ca/event/harvey-hiit-class-2/2026-10-07/
LOCATION:Harvey Memorial Community Centre\, 58 Hanselpacker St\, Harvey Station\, NB E6K 1A3\, Canada
END:VEVENT
BEGIN:VEVENT
DTSTART;TZID=America/Halifax:20261012T190000
DTEND;TZID=America/Halifax:20261012T200000
DTSTAMP:20260422T010042
CREATED:20240812T174216Z
LAST-MODIFIED:20240814T132356Z
UID:10006092-1791831600-1791835200@harveyruralcommunity.ca
SUMMARY:Harvey HIIT Class
DESCRIPTION:Join us for an invigorating high-intensity interval training (HIIT) class from 7-8PM at the HMCC.
URL:https://harveyruralcommunity.ca/event/harvey-hiit-class-2/2026-10-12/
LOCATION:Harvey Memorial Community Centre\, 58 Hanselpacker St\, Harvey Station\, NB E6K 1A3\, Canada
END:VEVENT
BEGIN:VEVENT
DTSTART;TZID=America/Halifax:20261014T190000
DTEND;TZID=America/Halifax:20261014T200000
DTSTAMP:20260422T010042
CREATED:20240812T174216Z
LAST-MODIFIED:20240814T132356Z
UID:10006093-1792004400-1792008000@harveyruralcommunity.ca
SUMMARY:Harvey HIIT Class
DESCRIPTION:Join us for an invigorating high-intensity interval training (HIIT) class from 7-8PM at the HMCC.
URL:https://harveyruralcommunity.ca/event/harvey-hiit-class-2/2026-10-14/
LOCATION:Harvey Memorial Community Centre\, 58 Hanselpacker St\, Harvey Station\, NB E6K 1A3\, Canada
END:VEVENT
BEGIN:VEVENT
DTSTART;TZID=America/Halifax:20261019T190000
DTEND;TZID=America/Halifax:20261019T200000
DTSTAMP:20260422T010042
CREATED:20240812T174216Z
LAST-MODIFIED:20240814T132356Z
UID:10006094-1792436400-1792440000@harveyruralcommunity.ca
SUMMARY:Harvey HIIT Class
DESCRIPTION:Join us for an invigorating high-intensity interval training (HIIT) class from 7-8PM at the HMCC.
URL:https://harveyruralcommunity.ca/event/harvey-hiit-class-2/2026-10-19/
LOCATION:Harvey Memorial Community Centre\, 58 Hanselpacker St\, Harvey Station\, NB E6K 1A3\, Canada
END:VEVENT
BEGIN:VEVENT
DTSTART;TZID=America/Halifax:20261021T190000
DTEND;TZID=America/Halifax:20261021T200000
DTSTAMP:20260422T010042
CREATED:20240812T174216Z
LAST-MODIFIED:20240814T132356Z
UID:10006095-1792609200-1792612800@harveyruralcommunity.ca
SUMMARY:Harvey HIIT Class
DESCRIPTION:Join us for an invigorating high-intensity interval training (HIIT) class from 7-8PM at the HMCC.
URL:https://harveyruralcommunity.ca/event/harvey-hiit-class-2/2026-10-21/
LOCATION:Harvey Memorial Community Centre\, 58 Hanselpacker St\, Harvey Station\, NB E6K 1A3\, Canada
END:VEVENT
BEGIN:VEVENT
DTSTART;TZID=America/Halifax:20261026T190000
DTEND;TZID=America/Halifax:20261026T200000
DTSTAMP:20260422T010042
CREATED:20240812T174216Z
LAST-MODIFIED:20240814T132356Z
UID:10006096-1793041200-1793044800@harveyruralcommunity.ca
SUMMARY:Harvey HIIT Class
DESCRIPTION:Join us for an invigorating high-intensity interval training (HIIT) class from 7-8PM at the HMCC.
URL:https://harveyruralcommunity.ca/event/harvey-hiit-class-2/2026-10-26/
LOCATION:Harvey Memorial Community Centre\, 58 Hanselpacker St\, Harvey Station\, NB E6K 1A3\, Canada
END:VEVENT
END:VCALENDAR