BEGIN:VCALENDAR
VERSION:2.0
PRODID:-//Harvey Rural Community - ECPv6.6.1//NONSGML v1.0//EN
CALSCALE:GREGORIAN
METHOD:PUBLISH
X-WR-CALNAME:Harvey Rural Community
X-ORIGINAL-URL:https://harveyruralcommunity.ca
X-WR-CALDESC:Events for Harvey Rural Community
BEGIN:VTIMEZONE
TZID:America/Halifax
BEGIN:DAYLIGHT
TZOFFSETFROM:-0400
TZOFFSETTO:-0300
TZNAME:ADT
DTSTART:20270314T060000
END:DAYLIGHT
BEGIN:STANDARD
TZOFFSETFROM:-0300
TZOFFSETTO:-0400
TZNAME:AST
DTSTART:20271107T050000
END:STANDARD
END:VTIMEZONE
BEGIN:VEVENT
DTSTART;TZID=America/Halifax:20270104T190000
DTEND;TZID=America/Halifax:20270104T220000
DTSTAMP:20260422T190125
CREATED:20230517T141949Z
LAST-MODIFIED:20240523T164954Z
UID:10003600-1799089200-1799100000@harveyruralcommunity.ca
SUMMARY:Lions Club Bingo
DESCRIPTION:Monday Nights at the Harvey Lions club. Visit their Facebook page for more information
URL:https://harveyruralcommunity.ca/event/lions-club-bingo/2027-01-04/
LOCATION:Harvey Lions Club\, 4722 NB-640\, Harvey\, NB E6K 3W9
CATEGORIES:Games
END:VEVENT
BEGIN:VEVENT
DTSTART;TZID=America/Halifax:20270111T190000
DTEND;TZID=America/Halifax:20270111T220000
DTSTAMP:20260422T190125
CREATED:20230517T141949Z
LAST-MODIFIED:20240523T164954Z
UID:10003601-1799694000-1799704800@harveyruralcommunity.ca
SUMMARY:Lions Club Bingo
DESCRIPTION:Monday Nights at the Harvey Lions club. Visit their Facebook page for more information
URL:https://harveyruralcommunity.ca/event/lions-club-bingo/2027-01-11/
LOCATION:Harvey Lions Club\, 4722 NB-640\, Harvey\, NB E6K 3W9
CATEGORIES:Games
END:VEVENT
BEGIN:VEVENT
DTSTART;TZID=America/Halifax:20270118T190000
DTEND;TZID=America/Halifax:20270118T220000
DTSTAMP:20260422T190125
CREATED:20230517T141949Z
LAST-MODIFIED:20240523T164954Z
UID:10003602-1800298800-1800309600@harveyruralcommunity.ca
SUMMARY:Lions Club Bingo
DESCRIPTION:Monday Nights at the Harvey Lions club. Visit their Facebook page for more information
URL:https://harveyruralcommunity.ca/event/lions-club-bingo/2027-01-18/
LOCATION:Harvey Lions Club\, 4722 NB-640\, Harvey\, NB E6K 3W9
CATEGORIES:Games
END:VEVENT
BEGIN:VEVENT
DTSTART;TZID=America/Halifax:20270125T190000
DTEND;TZID=America/Halifax:20270125T220000
DTSTAMP:20260422T190125
CREATED:20230517T141949Z
LAST-MODIFIED:20240523T164954Z
UID:10003603-1800903600-1800914400@harveyruralcommunity.ca
SUMMARY:Lions Club Bingo
DESCRIPTION:Monday Nights at the Harvey Lions club. Visit their Facebook page for more information
URL:https://harveyruralcommunity.ca/event/lions-club-bingo/2027-01-25/
LOCATION:Harvey Lions Club\, 4722 NB-640\, Harvey\, NB E6K 3W9
CATEGORIES:Games
END:VEVENT
BEGIN:VEVENT
DTSTART;TZID=America/Halifax:20270201T190000
DTEND;TZID=America/Halifax:20270201T220000
DTSTAMP:20260422T190125
CREATED:20230517T141949Z
LAST-MODIFIED:20240523T164954Z
UID:10003604-1801508400-1801519200@harveyruralcommunity.ca
SUMMARY:Lions Club Bingo
DESCRIPTION:Monday Nights at the Harvey Lions club. Visit their Facebook page for more information
URL:https://harveyruralcommunity.ca/event/lions-club-bingo/2027-02-01/
LOCATION:Harvey Lions Club\, 4722 NB-640\, Harvey\, NB E6K 3W9
CATEGORIES:Games
END:VEVENT
BEGIN:VEVENT
DTSTART;TZID=America/Halifax:20270208T190000
DTEND;TZID=America/Halifax:20270208T220000
DTSTAMP:20260422T190125
CREATED:20230517T141949Z
LAST-MODIFIED:20240523T164954Z
UID:10003605-1802113200-1802124000@harveyruralcommunity.ca
SUMMARY:Lions Club Bingo
DESCRIPTION:Monday Nights at the Harvey Lions club. Visit their Facebook page for more information
URL:https://harveyruralcommunity.ca/event/lions-club-bingo/2027-02-08/
LOCATION:Harvey Lions Club\, 4722 NB-640\, Harvey\, NB E6K 3W9
CATEGORIES:Games
END:VEVENT
BEGIN:VEVENT
DTSTART;TZID=America/Halifax:20270215T190000
DTEND;TZID=America/Halifax:20270215T220000
DTSTAMP:20260422T190125
CREATED:20230517T141949Z
LAST-MODIFIED:20240523T164954Z
UID:10003606-1802718000-1802728800@harveyruralcommunity.ca
SUMMARY:Lions Club Bingo
DESCRIPTION:Monday Nights at the Harvey Lions club. Visit their Facebook page for more information
URL:https://harveyruralcommunity.ca/event/lions-club-bingo/2027-02-15/
LOCATION:Harvey Lions Club\, 4722 NB-640\, Harvey\, NB E6K 3W9
CATEGORIES:Games
END:VEVENT
BEGIN:VEVENT
DTSTART;TZID=America/Halifax:20270222T190000
DTEND;TZID=America/Halifax:20270222T220000
DTSTAMP:20260422T190125
CREATED:20230517T141949Z
LAST-MODIFIED:20240523T164954Z
UID:10003607-1803322800-1803333600@harveyruralcommunity.ca
SUMMARY:Lions Club Bingo
DESCRIPTION:Monday Nights at the Harvey Lions club. Visit their Facebook page for more information
URL:https://harveyruralcommunity.ca/event/lions-club-bingo/2027-02-22/
LOCATION:Harvey Lions Club\, 4722 NB-640\, Harvey\, NB E6K 3W9
CATEGORIES:Games
END:VEVENT
BEGIN:VEVENT
DTSTART;TZID=America/Halifax:20270301T190000
DTEND;TZID=America/Halifax:20270301T220000
DTSTAMP:20260422T190125
CREATED:20230517T141949Z
LAST-MODIFIED:20240523T164954Z
UID:10003608-1803927600-1803938400@harveyruralcommunity.ca
SUMMARY:Lions Club Bingo
DESCRIPTION:Monday Nights at the Harvey Lions club. Visit their Facebook page for more information
URL:https://harveyruralcommunity.ca/event/lions-club-bingo/2027-03-01/
LOCATION:Harvey Lions Club\, 4722 NB-640\, Harvey\, NB E6K 3W9
CATEGORIES:Games
END:VEVENT
BEGIN:VEVENT
DTSTART;TZID=America/Halifax:20270308T190000
DTEND;TZID=America/Halifax:20270308T220000
DTSTAMP:20260422T190125
CREATED:20230517T141949Z
LAST-MODIFIED:20240523T164954Z
UID:10003609-1804532400-1804543200@harveyruralcommunity.ca
SUMMARY:Lions Club Bingo
DESCRIPTION:Monday Nights at the Harvey Lions club. Visit their Facebook page for more information
URL:https://harveyruralcommunity.ca/event/lions-club-bingo/2027-03-08/
LOCATION:Harvey Lions Club\, 4722 NB-640\, Harvey\, NB E6K 3W9
CATEGORIES:Games
END:VEVENT
BEGIN:VEVENT
DTSTART;TZID=America/Halifax:20270315T190000
DTEND;TZID=America/Halifax:20270315T220000
DTSTAMP:20260422T190125
CREATED:20230517T141949Z
LAST-MODIFIED:20240523T164954Z
UID:10003610-1805137200-1805148000@harveyruralcommunity.ca
SUMMARY:Lions Club Bingo
DESCRIPTION:Monday Nights at the Harvey Lions club. Visit their Facebook page for more information
URL:https://harveyruralcommunity.ca/event/lions-club-bingo/2027-03-15/
LOCATION:Harvey Lions Club\, 4722 NB-640\, Harvey\, NB E6K 3W9
CATEGORIES:Games
END:VEVENT
BEGIN:VEVENT
DTSTART;TZID=America/Halifax:20270322T190000
DTEND;TZID=America/Halifax:20270322T220000
DTSTAMP:20260422T190125
CREATED:20230517T141949Z
LAST-MODIFIED:20240523T164954Z
UID:10003611-1805742000-1805752800@harveyruralcommunity.ca
SUMMARY:Lions Club Bingo
DESCRIPTION:Monday Nights at the Harvey Lions club. Visit their Facebook page for more information
URL:https://harveyruralcommunity.ca/event/lions-club-bingo/2027-03-22/
LOCATION:Harvey Lions Club\, 4722 NB-640\, Harvey\, NB E6K 3W9
CATEGORIES:Games
END:VEVENT
BEGIN:VEVENT
DTSTART;TZID=America/Halifax:20270329T190000
DTEND;TZID=America/Halifax:20270329T220000
DTSTAMP:20260422T190125
CREATED:20230517T141949Z
LAST-MODIFIED:20240523T164954Z
UID:10003612-1806346800-1806357600@harveyruralcommunity.ca
SUMMARY:Lions Club Bingo
DESCRIPTION:Monday Nights at the Harvey Lions club. Visit their Facebook page for more information
URL:https://harveyruralcommunity.ca/event/lions-club-bingo/2027-03-29/
LOCATION:Harvey Lions Club\, 4722 NB-640\, Harvey\, NB E6K 3W9
CATEGORIES:Games
END:VEVENT
BEGIN:VEVENT
DTSTART;TZID=America/Halifax:20270405T190000
DTEND;TZID=America/Halifax:20270405T220000
DTSTAMP:20260422T190125
CREATED:20230517T141949Z
LAST-MODIFIED:20240523T164954Z
UID:10003613-1806951600-1806962400@harveyruralcommunity.ca
SUMMARY:Lions Club Bingo
DESCRIPTION:Monday Nights at the Harvey Lions club. Visit their Facebook page for more information
URL:https://harveyruralcommunity.ca/event/lions-club-bingo/2027-04-05/
LOCATION:Harvey Lions Club\, 4722 NB-640\, Harvey\, NB E6K 3W9
CATEGORIES:Games
END:VEVENT
BEGIN:VEVENT
DTSTART;TZID=America/Halifax:20270412T190000
DTEND;TZID=America/Halifax:20270412T220000
DTSTAMP:20260422T190125
CREATED:20230517T141949Z
LAST-MODIFIED:20240523T164954Z
UID:10003614-1807556400-1807567200@harveyruralcommunity.ca
SUMMARY:Lions Club Bingo
DESCRIPTION:Monday Nights at the Harvey Lions club. Visit their Facebook page for more information
URL:https://harveyruralcommunity.ca/event/lions-club-bingo/2027-04-12/
LOCATION:Harvey Lions Club\, 4722 NB-640\, Harvey\, NB E6K 3W9
CATEGORIES:Games
END:VEVENT
BEGIN:VEVENT
DTSTART;TZID=America/Halifax:20270419T190000
DTEND;TZID=America/Halifax:20270419T220000
DTSTAMP:20260422T190125
CREATED:20230517T141949Z
LAST-MODIFIED:20240523T164954Z
UID:10003615-1808161200-1808172000@harveyruralcommunity.ca
SUMMARY:Lions Club Bingo
DESCRIPTION:Monday Nights at the Harvey Lions club. Visit their Facebook page for more information
URL:https://harveyruralcommunity.ca/event/lions-club-bingo/2027-04-19/
LOCATION:Harvey Lions Club\, 4722 NB-640\, Harvey\, NB E6K 3W9
CATEGORIES:Games
END:VEVENT
BEGIN:VEVENT
DTSTART;TZID=America/Halifax:20270426T190000
DTEND;TZID=America/Halifax:20270426T220000
DTSTAMP:20260422T190125
CREATED:20230517T141949Z
LAST-MODIFIED:20240523T164954Z
UID:10003616-1808766000-1808776800@harveyruralcommunity.ca
SUMMARY:Lions Club Bingo
DESCRIPTION:Monday Nights at the Harvey Lions club. Visit their Facebook page for more information
URL:https://harveyruralcommunity.ca/event/lions-club-bingo/2027-04-26/
LOCATION:Harvey Lions Club\, 4722 NB-640\, Harvey\, NB E6K 3W9
CATEGORIES:Games
END:VEVENT
BEGIN:VEVENT
DTSTART;TZID=America/Halifax:20270503T190000
DTEND;TZID=America/Halifax:20270503T220000
DTSTAMP:20260422T190125
CREATED:20230517T141949Z
LAST-MODIFIED:20240523T164954Z
UID:10003617-1809370800-1809381600@harveyruralcommunity.ca
SUMMARY:Lions Club Bingo
DESCRIPTION:Monday Nights at the Harvey Lions club. Visit their Facebook page for more information
URL:https://harveyruralcommunity.ca/event/lions-club-bingo/2027-05-03/
LOCATION:Harvey Lions Club\, 4722 NB-640\, Harvey\, NB E6K 3W9
CATEGORIES:Games
END:VEVENT
BEGIN:VEVENT
DTSTART;TZID=America/Halifax:20270510T190000
DTEND;TZID=America/Halifax:20270510T220000
DTSTAMP:20260422T190125
CREATED:20230517T141949Z
LAST-MODIFIED:20240523T164954Z
UID:10003618-1809975600-1809986400@harveyruralcommunity.ca
SUMMARY:Lions Club Bingo
DESCRIPTION:Monday Nights at the Harvey Lions club. Visit their Facebook page for more information
URL:https://harveyruralcommunity.ca/event/lions-club-bingo/2027-05-10/
LOCATION:Harvey Lions Club\, 4722 NB-640\, Harvey\, NB E6K 3W9
CATEGORIES:Games
END:VEVENT
BEGIN:VEVENT
DTSTART;TZID=America/Halifax:20270517T190000
DTEND;TZID=America/Halifax:20270517T220000
DTSTAMP:20260422T190125
CREATED:20230517T141949Z
LAST-MODIFIED:20240523T164954Z
UID:10003619-1810580400-1810591200@harveyruralcommunity.ca
SUMMARY:Lions Club Bingo
DESCRIPTION:Monday Nights at the Harvey Lions club. Visit their Facebook page for more information
URL:https://harveyruralcommunity.ca/event/lions-club-bingo/2027-05-17/
LOCATION:Harvey Lions Club\, 4722 NB-640\, Harvey\, NB E6K 3W9
CATEGORIES:Games
END:VEVENT
BEGIN:VEVENT
DTSTART;TZID=America/Halifax:20270524T190000
DTEND;TZID=America/Halifax:20270524T220000
DTSTAMP:20260422T190125
CREATED:20230517T141949Z
LAST-MODIFIED:20240523T164954Z
UID:10003620-1811185200-1811196000@harveyruralcommunity.ca
SUMMARY:Lions Club Bingo
DESCRIPTION:Monday Nights at the Harvey Lions club. Visit their Facebook page for more information
URL:https://harveyruralcommunity.ca/event/lions-club-bingo/2027-05-24/
LOCATION:Harvey Lions Club\, 4722 NB-640\, Harvey\, NB E6K 3W9
CATEGORIES:Games
END:VEVENT
BEGIN:VEVENT
DTSTART;TZID=America/Halifax:20270531T190000
DTEND;TZID=America/Halifax:20270531T220000
DTSTAMP:20260422T190126
CREATED:20230517T141949Z
LAST-MODIFIED:20240523T164954Z
UID:10003621-1811790000-1811800800@harveyruralcommunity.ca
SUMMARY:Lions Club Bingo
DESCRIPTION:Monday Nights at the Harvey Lions club. Visit their Facebook page for more information
URL:https://harveyruralcommunity.ca/event/lions-club-bingo/2027-05-31/
LOCATION:Harvey Lions Club\, 4722 NB-640\, Harvey\, NB E6K 3W9
CATEGORIES:Games
END:VEVENT
BEGIN:VEVENT
DTSTART;TZID=America/Halifax:20270607T190000
DTEND;TZID=America/Halifax:20270607T220000
DTSTAMP:20260422T190126
CREATED:20230517T141949Z
LAST-MODIFIED:20240523T164954Z
UID:10003622-1812394800-1812405600@harveyruralcommunity.ca
SUMMARY:Lions Club Bingo
DESCRIPTION:Monday Nights at the Harvey Lions club. Visit their Facebook page for more information
URL:https://harveyruralcommunity.ca/event/lions-club-bingo/2027-06-07/
LOCATION:Harvey Lions Club\, 4722 NB-640\, Harvey\, NB E6K 3W9
CATEGORIES:Games
END:VEVENT
BEGIN:VEVENT
DTSTART;TZID=America/Halifax:20270614T190000
DTEND;TZID=America/Halifax:20270614T220000
DTSTAMP:20260422T190126
CREATED:20230517T141949Z
LAST-MODIFIED:20240523T164954Z
UID:10003623-1812999600-1813010400@harveyruralcommunity.ca
SUMMARY:Lions Club Bingo
DESCRIPTION:Monday Nights at the Harvey Lions club. Visit their Facebook page for more information
URL:https://harveyruralcommunity.ca/event/lions-club-bingo/2027-06-14/
LOCATION:Harvey Lions Club\, 4722 NB-640\, Harvey\, NB E6K 3W9
CATEGORIES:Games
END:VEVENT
BEGIN:VEVENT
DTSTART;TZID=America/Halifax:20270621T190000
DTEND;TZID=America/Halifax:20270621T220000
DTSTAMP:20260422T190126
CREATED:20230517T141949Z
LAST-MODIFIED:20240523T164954Z
UID:10003624-1813604400-1813615200@harveyruralcommunity.ca
SUMMARY:Lions Club Bingo
DESCRIPTION:Monday Nights at the Harvey Lions club. Visit their Facebook page for more information
URL:https://harveyruralcommunity.ca/event/lions-club-bingo/2027-06-21/
LOCATION:Harvey Lions Club\, 4722 NB-640\, Harvey\, NB E6K 3W9
CATEGORIES:Games
END:VEVENT
BEGIN:VEVENT
DTSTART;TZID=America/Halifax:20270628T190000
DTEND;TZID=America/Halifax:20270628T220000
DTSTAMP:20260422T190126
CREATED:20230517T141949Z
LAST-MODIFIED:20240523T164954Z
UID:10003625-1814209200-1814220000@harveyruralcommunity.ca
SUMMARY:Lions Club Bingo
DESCRIPTION:Monday Nights at the Harvey Lions club. Visit their Facebook page for more information
URL:https://harveyruralcommunity.ca/event/lions-club-bingo/2027-06-28/
LOCATION:Harvey Lions Club\, 4722 NB-640\, Harvey\, NB E6K 3W9
CATEGORIES:Games
END:VEVENT
BEGIN:VEVENT
DTSTART;TZID=America/Halifax:20270705T190000
DTEND;TZID=America/Halifax:20270705T220000
DTSTAMP:20260422T190126
CREATED:20230517T141949Z
LAST-MODIFIED:20240523T164954Z
UID:10003626-1814814000-1814824800@harveyruralcommunity.ca
SUMMARY:Lions Club Bingo
DESCRIPTION:Monday Nights at the Harvey Lions club. Visit their Facebook page for more information
URL:https://harveyruralcommunity.ca/event/lions-club-bingo/2027-07-05/
LOCATION:Harvey Lions Club\, 4722 NB-640\, Harvey\, NB E6K 3W9
CATEGORIES:Games
END:VEVENT
BEGIN:VEVENT
DTSTART;TZID=America/Halifax:20270712T190000
DTEND;TZID=America/Halifax:20270712T220000
DTSTAMP:20260422T190126
CREATED:20230517T141949Z
LAST-MODIFIED:20240523T164954Z
UID:10003627-1815418800-1815429600@harveyruralcommunity.ca
SUMMARY:Lions Club Bingo
DESCRIPTION:Monday Nights at the Harvey Lions club. Visit their Facebook page for more information
URL:https://harveyruralcommunity.ca/event/lions-club-bingo/2027-07-12/
LOCATION:Harvey Lions Club\, 4722 NB-640\, Harvey\, NB E6K 3W9
CATEGORIES:Games
END:VEVENT
BEGIN:VEVENT
DTSTART;TZID=America/Halifax:20270719T190000
DTEND;TZID=America/Halifax:20270719T220000
DTSTAMP:20260422T190126
CREATED:20230517T141949Z
LAST-MODIFIED:20240523T164954Z
UID:10003628-1816023600-1816034400@harveyruralcommunity.ca
SUMMARY:Lions Club Bingo
DESCRIPTION:Monday Nights at the Harvey Lions club. Visit their Facebook page for more information
URL:https://harveyruralcommunity.ca/event/lions-club-bingo/2027-07-19/
LOCATION:Harvey Lions Club\, 4722 NB-640\, Harvey\, NB E6K 3W9
CATEGORIES:Games
END:VEVENT
BEGIN:VEVENT
DTSTART;TZID=America/Halifax:20270726T190000
DTEND;TZID=America/Halifax:20270726T220000
DTSTAMP:20260422T190126
CREATED:20230517T141949Z
LAST-MODIFIED:20240523T164954Z
UID:10003629-1816628400-1816639200@harveyruralcommunity.ca
SUMMARY:Lions Club Bingo
DESCRIPTION:Monday Nights at the Harvey Lions club. Visit their Facebook page for more information
URL:https://harveyruralcommunity.ca/event/lions-club-bingo/2027-07-26/
LOCATION:Harvey Lions Club\, 4722 NB-640\, Harvey\, NB E6K 3W9
CATEGORIES:Games
END:VEVENT
END:VCALENDAR