BEGIN:VCALENDAR
VERSION:2.0
PRODID:-//Harvey Rural Community - ECPv6.6.1//NONSGML v1.0//EN
CALSCALE:GREGORIAN
METHOD:PUBLISH
X-WR-CALNAME:Harvey Rural Community
X-ORIGINAL-URL:https://harveyruralcommunity.ca
X-WR-CALDESC:Events for Harvey Rural Community
BEGIN:VTIMEZONE
TZID:America/Halifax
BEGIN:DAYLIGHT
TZOFFSETFROM:-0400
TZOFFSETTO:-0300
TZNAME:ADT
DTSTART:20270314T060000
END:DAYLIGHT
BEGIN:STANDARD
TZOFFSETFROM:-0300
TZOFFSETTO:-0400
TZNAME:AST
DTSTART:20271107T050000
END:STANDARD
END:VTIMEZONE
BEGIN:VEVENT
DTSTART;TZID=America/Halifax:20270101T103000
DTEND;TZID=America/Halifax:20270101T113000
DTSTAMP:20260423T002539
CREATED:20230517T142927Z
LAST-MODIFIED:20230614T172055Z
UID:10002098-1798799400-1798803000@harveyruralcommunity.ca
SUMMARY:Family Storytime at the Library
DESCRIPTION:Join us for a few stories\, songs and activities for children. Every Friday at 10:30am at the Library.
URL:https://harveyruralcommunity.ca/event/family-storytime-at-the-library/2027-01-01/
LOCATION:Harvey Community Library\, 2055 NB-3\, Harvey\, NB E6K 1L1
ATTACH;FMTTYPE=image/png:https://harveyruralcommunity.ca/wp-content/uploads/2023/05/Storytime.png
END:VEVENT
BEGIN:VEVENT
DTSTART;TZID=America/Halifax:20270108T103000
DTEND;TZID=America/Halifax:20270108T113000
DTSTAMP:20260423T002539
CREATED:20230517T142927Z
LAST-MODIFIED:20230614T172055Z
UID:10002099-1799404200-1799407800@harveyruralcommunity.ca
SUMMARY:Family Storytime at the Library
DESCRIPTION:Join us for a few stories\, songs and activities for children. Every Friday at 10:30am at the Library.
URL:https://harveyruralcommunity.ca/event/family-storytime-at-the-library/2027-01-08/
LOCATION:Harvey Community Library\, 2055 NB-3\, Harvey\, NB E6K 1L1
ATTACH;FMTTYPE=image/png:https://harveyruralcommunity.ca/wp-content/uploads/2023/05/Storytime.png
END:VEVENT
BEGIN:VEVENT
DTSTART;TZID=America/Halifax:20270115T103000
DTEND;TZID=America/Halifax:20270115T113000
DTSTAMP:20260423T002539
CREATED:20230517T142927Z
LAST-MODIFIED:20230614T172055Z
UID:10002100-1800009000-1800012600@harveyruralcommunity.ca
SUMMARY:Family Storytime at the Library
DESCRIPTION:Join us for a few stories\, songs and activities for children. Every Friday at 10:30am at the Library.
URL:https://harveyruralcommunity.ca/event/family-storytime-at-the-library/2027-01-15/
LOCATION:Harvey Community Library\, 2055 NB-3\, Harvey\, NB E6K 1L1
ATTACH;FMTTYPE=image/png:https://harveyruralcommunity.ca/wp-content/uploads/2023/05/Storytime.png
END:VEVENT
BEGIN:VEVENT
DTSTART;TZID=America/Halifax:20270122T103000
DTEND;TZID=America/Halifax:20270122T113000
DTSTAMP:20260423T002539
CREATED:20230517T142927Z
LAST-MODIFIED:20230614T172055Z
UID:10002101-1800613800-1800617400@harveyruralcommunity.ca
SUMMARY:Family Storytime at the Library
DESCRIPTION:Join us for a few stories\, songs and activities for children. Every Friday at 10:30am at the Library.
URL:https://harveyruralcommunity.ca/event/family-storytime-at-the-library/2027-01-22/
LOCATION:Harvey Community Library\, 2055 NB-3\, Harvey\, NB E6K 1L1
ATTACH;FMTTYPE=image/png:https://harveyruralcommunity.ca/wp-content/uploads/2023/05/Storytime.png
END:VEVENT
BEGIN:VEVENT
DTSTART;TZID=America/Halifax:20270129T103000
DTEND;TZID=America/Halifax:20270129T113000
DTSTAMP:20260423T002539
CREATED:20230517T142927Z
LAST-MODIFIED:20230614T172055Z
UID:10002102-1801218600-1801222200@harveyruralcommunity.ca
SUMMARY:Family Storytime at the Library
DESCRIPTION:Join us for a few stories\, songs and activities for children. Every Friday at 10:30am at the Library.
URL:https://harveyruralcommunity.ca/event/family-storytime-at-the-library/2027-01-29/
LOCATION:Harvey Community Library\, 2055 NB-3\, Harvey\, NB E6K 1L1
ATTACH;FMTTYPE=image/png:https://harveyruralcommunity.ca/wp-content/uploads/2023/05/Storytime.png
END:VEVENT
BEGIN:VEVENT
DTSTART;TZID=America/Halifax:20270205T103000
DTEND;TZID=America/Halifax:20270205T113000
DTSTAMP:20260423T002539
CREATED:20230517T142927Z
LAST-MODIFIED:20230614T172055Z
UID:10002103-1801823400-1801827000@harveyruralcommunity.ca
SUMMARY:Family Storytime at the Library
DESCRIPTION:Join us for a few stories\, songs and activities for children. Every Friday at 10:30am at the Library.
URL:https://harveyruralcommunity.ca/event/family-storytime-at-the-library/2027-02-05/
LOCATION:Harvey Community Library\, 2055 NB-3\, Harvey\, NB E6K 1L1
ATTACH;FMTTYPE=image/png:https://harveyruralcommunity.ca/wp-content/uploads/2023/05/Storytime.png
END:VEVENT
BEGIN:VEVENT
DTSTART;TZID=America/Halifax:20270212T103000
DTEND;TZID=America/Halifax:20270212T113000
DTSTAMP:20260423T002539
CREATED:20230517T142927Z
LAST-MODIFIED:20230614T172055Z
UID:10002104-1802428200-1802431800@harveyruralcommunity.ca
SUMMARY:Family Storytime at the Library
DESCRIPTION:Join us for a few stories\, songs and activities for children. Every Friday at 10:30am at the Library.
URL:https://harveyruralcommunity.ca/event/family-storytime-at-the-library/2027-02-12/
LOCATION:Harvey Community Library\, 2055 NB-3\, Harvey\, NB E6K 1L1
ATTACH;FMTTYPE=image/png:https://harveyruralcommunity.ca/wp-content/uploads/2023/05/Storytime.png
END:VEVENT
BEGIN:VEVENT
DTSTART;TZID=America/Halifax:20270219T103000
DTEND;TZID=America/Halifax:20270219T113000
DTSTAMP:20260423T002539
CREATED:20230517T142927Z
LAST-MODIFIED:20230614T172055Z
UID:10002105-1803033000-1803036600@harveyruralcommunity.ca
SUMMARY:Family Storytime at the Library
DESCRIPTION:Join us for a few stories\, songs and activities for children. Every Friday at 10:30am at the Library.
URL:https://harveyruralcommunity.ca/event/family-storytime-at-the-library/2027-02-19/
LOCATION:Harvey Community Library\, 2055 NB-3\, Harvey\, NB E6K 1L1
ATTACH;FMTTYPE=image/png:https://harveyruralcommunity.ca/wp-content/uploads/2023/05/Storytime.png
END:VEVENT
BEGIN:VEVENT
DTSTART;TZID=America/Halifax:20270226T103000
DTEND;TZID=America/Halifax:20270226T113000
DTSTAMP:20260423T002539
CREATED:20230517T142927Z
LAST-MODIFIED:20230614T172055Z
UID:10002106-1803637800-1803641400@harveyruralcommunity.ca
SUMMARY:Family Storytime at the Library
DESCRIPTION:Join us for a few stories\, songs and activities for children. Every Friday at 10:30am at the Library.
URL:https://harveyruralcommunity.ca/event/family-storytime-at-the-library/2027-02-26/
LOCATION:Harvey Community Library\, 2055 NB-3\, Harvey\, NB E6K 1L1
ATTACH;FMTTYPE=image/png:https://harveyruralcommunity.ca/wp-content/uploads/2023/05/Storytime.png
END:VEVENT
BEGIN:VEVENT
DTSTART;TZID=America/Halifax:20270305T103000
DTEND;TZID=America/Halifax:20270305T113000
DTSTAMP:20260423T002539
CREATED:20230517T142927Z
LAST-MODIFIED:20230614T172055Z
UID:10002107-1804242600-1804246200@harveyruralcommunity.ca
SUMMARY:Family Storytime at the Library
DESCRIPTION:Join us for a few stories\, songs and activities for children. Every Friday at 10:30am at the Library.
URL:https://harveyruralcommunity.ca/event/family-storytime-at-the-library/2027-03-05/
LOCATION:Harvey Community Library\, 2055 NB-3\, Harvey\, NB E6K 1L1
ATTACH;FMTTYPE=image/png:https://harveyruralcommunity.ca/wp-content/uploads/2023/05/Storytime.png
END:VEVENT
BEGIN:VEVENT
DTSTART;TZID=America/Halifax:20270312T103000
DTEND;TZID=America/Halifax:20270312T113000
DTSTAMP:20260423T002539
CREATED:20230517T142927Z
LAST-MODIFIED:20230614T172055Z
UID:10002108-1804847400-1804851000@harveyruralcommunity.ca
SUMMARY:Family Storytime at the Library
DESCRIPTION:Join us for a few stories\, songs and activities for children. Every Friday at 10:30am at the Library.
URL:https://harveyruralcommunity.ca/event/family-storytime-at-the-library/2027-03-12/
LOCATION:Harvey Community Library\, 2055 NB-3\, Harvey\, NB E6K 1L1
ATTACH;FMTTYPE=image/png:https://harveyruralcommunity.ca/wp-content/uploads/2023/05/Storytime.png
END:VEVENT
BEGIN:VEVENT
DTSTART;TZID=America/Halifax:20270319T103000
DTEND;TZID=America/Halifax:20270319T113000
DTSTAMP:20260423T002539
CREATED:20230517T142927Z
LAST-MODIFIED:20230614T172055Z
UID:10002109-1805452200-1805455800@harveyruralcommunity.ca
SUMMARY:Family Storytime at the Library
DESCRIPTION:Join us for a few stories\, songs and activities for children. Every Friday at 10:30am at the Library.
URL:https://harveyruralcommunity.ca/event/family-storytime-at-the-library/2027-03-19/
LOCATION:Harvey Community Library\, 2055 NB-3\, Harvey\, NB E6K 1L1
ATTACH;FMTTYPE=image/png:https://harveyruralcommunity.ca/wp-content/uploads/2023/05/Storytime.png
END:VEVENT
BEGIN:VEVENT
DTSTART;TZID=America/Halifax:20270326T103000
DTEND;TZID=America/Halifax:20270326T113000
DTSTAMP:20260423T002539
CREATED:20230517T142927Z
LAST-MODIFIED:20230614T172055Z
UID:10002110-1806057000-1806060600@harveyruralcommunity.ca
SUMMARY:Family Storytime at the Library
DESCRIPTION:Join us for a few stories\, songs and activities for children. Every Friday at 10:30am at the Library.
URL:https://harveyruralcommunity.ca/event/family-storytime-at-the-library/2027-03-26/
LOCATION:Harvey Community Library\, 2055 NB-3\, Harvey\, NB E6K 1L1
ATTACH;FMTTYPE=image/png:https://harveyruralcommunity.ca/wp-content/uploads/2023/05/Storytime.png
END:VEVENT
BEGIN:VEVENT
DTSTART;TZID=America/Halifax:20270402T103000
DTEND;TZID=America/Halifax:20270402T113000
DTSTAMP:20260423T002539
CREATED:20230517T142927Z
LAST-MODIFIED:20230614T172055Z
UID:10002111-1806661800-1806665400@harveyruralcommunity.ca
SUMMARY:Family Storytime at the Library
DESCRIPTION:Join us for a few stories\, songs and activities for children. Every Friday at 10:30am at the Library.
URL:https://harveyruralcommunity.ca/event/family-storytime-at-the-library/2027-04-02/
LOCATION:Harvey Community Library\, 2055 NB-3\, Harvey\, NB E6K 1L1
ATTACH;FMTTYPE=image/png:https://harveyruralcommunity.ca/wp-content/uploads/2023/05/Storytime.png
END:VEVENT
BEGIN:VEVENT
DTSTART;TZID=America/Halifax:20270409T103000
DTEND;TZID=America/Halifax:20270409T113000
DTSTAMP:20260423T002539
CREATED:20230517T142927Z
LAST-MODIFIED:20230614T172055Z
UID:10002112-1807266600-1807270200@harveyruralcommunity.ca
SUMMARY:Family Storytime at the Library
DESCRIPTION:Join us for a few stories\, songs and activities for children. Every Friday at 10:30am at the Library.
URL:https://harveyruralcommunity.ca/event/family-storytime-at-the-library/2027-04-09/
LOCATION:Harvey Community Library\, 2055 NB-3\, Harvey\, NB E6K 1L1
ATTACH;FMTTYPE=image/png:https://harveyruralcommunity.ca/wp-content/uploads/2023/05/Storytime.png
END:VEVENT
BEGIN:VEVENT
DTSTART;TZID=America/Halifax:20270416T103000
DTEND;TZID=America/Halifax:20270416T113000
DTSTAMP:20260423T002539
CREATED:20230517T142927Z
LAST-MODIFIED:20230614T172055Z
UID:10002113-1807871400-1807875000@harveyruralcommunity.ca
SUMMARY:Family Storytime at the Library
DESCRIPTION:Join us for a few stories\, songs and activities for children. Every Friday at 10:30am at the Library.
URL:https://harveyruralcommunity.ca/event/family-storytime-at-the-library/2027-04-16/
LOCATION:Harvey Community Library\, 2055 NB-3\, Harvey\, NB E6K 1L1
ATTACH;FMTTYPE=image/png:https://harveyruralcommunity.ca/wp-content/uploads/2023/05/Storytime.png
END:VEVENT
BEGIN:VEVENT
DTSTART;TZID=America/Halifax:20270423T103000
DTEND;TZID=America/Halifax:20270423T113000
DTSTAMP:20260423T002539
CREATED:20230517T142927Z
LAST-MODIFIED:20230614T172055Z
UID:10002114-1808476200-1808479800@harveyruralcommunity.ca
SUMMARY:Family Storytime at the Library
DESCRIPTION:Join us for a few stories\, songs and activities for children. Every Friday at 10:30am at the Library.
URL:https://harveyruralcommunity.ca/event/family-storytime-at-the-library/2027-04-23/
LOCATION:Harvey Community Library\, 2055 NB-3\, Harvey\, NB E6K 1L1
ATTACH;FMTTYPE=image/png:https://harveyruralcommunity.ca/wp-content/uploads/2023/05/Storytime.png
END:VEVENT
BEGIN:VEVENT
DTSTART;TZID=America/Halifax:20270430T103000
DTEND;TZID=America/Halifax:20270430T113000
DTSTAMP:20260423T002539
CREATED:20230517T142927Z
LAST-MODIFIED:20230614T172055Z
UID:10002115-1809081000-1809084600@harveyruralcommunity.ca
SUMMARY:Family Storytime at the Library
DESCRIPTION:Join us for a few stories\, songs and activities for children. Every Friday at 10:30am at the Library.
URL:https://harveyruralcommunity.ca/event/family-storytime-at-the-library/2027-04-30/
LOCATION:Harvey Community Library\, 2055 NB-3\, Harvey\, NB E6K 1L1
ATTACH;FMTTYPE=image/png:https://harveyruralcommunity.ca/wp-content/uploads/2023/05/Storytime.png
END:VEVENT
BEGIN:VEVENT
DTSTART;TZID=America/Halifax:20270507T103000
DTEND;TZID=America/Halifax:20270507T113000
DTSTAMP:20260423T002539
CREATED:20230517T142927Z
LAST-MODIFIED:20230614T172055Z
UID:10002116-1809685800-1809689400@harveyruralcommunity.ca
SUMMARY:Family Storytime at the Library
DESCRIPTION:Join us for a few stories\, songs and activities for children. Every Friday at 10:30am at the Library.
URL:https://harveyruralcommunity.ca/event/family-storytime-at-the-library/2027-05-07/
LOCATION:Harvey Community Library\, 2055 NB-3\, Harvey\, NB E6K 1L1
ATTACH;FMTTYPE=image/png:https://harveyruralcommunity.ca/wp-content/uploads/2023/05/Storytime.png
END:VEVENT
BEGIN:VEVENT
DTSTART;TZID=America/Halifax:20270514T103000
DTEND;TZID=America/Halifax:20270514T113000
DTSTAMP:20260423T002539
CREATED:20230517T142927Z
LAST-MODIFIED:20230614T172055Z
UID:10002117-1810290600-1810294200@harveyruralcommunity.ca
SUMMARY:Family Storytime at the Library
DESCRIPTION:Join us for a few stories\, songs and activities for children. Every Friday at 10:30am at the Library.
URL:https://harveyruralcommunity.ca/event/family-storytime-at-the-library/2027-05-14/
LOCATION:Harvey Community Library\, 2055 NB-3\, Harvey\, NB E6K 1L1
ATTACH;FMTTYPE=image/png:https://harveyruralcommunity.ca/wp-content/uploads/2023/05/Storytime.png
END:VEVENT
BEGIN:VEVENT
DTSTART;TZID=America/Halifax:20270521T103000
DTEND;TZID=America/Halifax:20270521T113000
DTSTAMP:20260423T002539
CREATED:20230517T142927Z
LAST-MODIFIED:20230614T172055Z
UID:10002118-1810895400-1810899000@harveyruralcommunity.ca
SUMMARY:Family Storytime at the Library
DESCRIPTION:Join us for a few stories\, songs and activities for children. Every Friday at 10:30am at the Library.
URL:https://harveyruralcommunity.ca/event/family-storytime-at-the-library/2027-05-21/
LOCATION:Harvey Community Library\, 2055 NB-3\, Harvey\, NB E6K 1L1
ATTACH;FMTTYPE=image/png:https://harveyruralcommunity.ca/wp-content/uploads/2023/05/Storytime.png
END:VEVENT
BEGIN:VEVENT
DTSTART;TZID=America/Halifax:20270528T103000
DTEND;TZID=America/Halifax:20270528T113000
DTSTAMP:20260423T002539
CREATED:20230517T142927Z
LAST-MODIFIED:20230614T172055Z
UID:10002119-1811500200-1811503800@harveyruralcommunity.ca
SUMMARY:Family Storytime at the Library
DESCRIPTION:Join us for a few stories\, songs and activities for children. Every Friday at 10:30am at the Library.
URL:https://harveyruralcommunity.ca/event/family-storytime-at-the-library/2027-05-28/
LOCATION:Harvey Community Library\, 2055 NB-3\, Harvey\, NB E6K 1L1
ATTACH;FMTTYPE=image/png:https://harveyruralcommunity.ca/wp-content/uploads/2023/05/Storytime.png
END:VEVENT
BEGIN:VEVENT
DTSTART;TZID=America/Halifax:20270604T103000
DTEND;TZID=America/Halifax:20270604T113000
DTSTAMP:20260423T002539
CREATED:20230517T142927Z
LAST-MODIFIED:20230614T172055Z
UID:10002120-1812105000-1812108600@harveyruralcommunity.ca
SUMMARY:Family Storytime at the Library
DESCRIPTION:Join us for a few stories\, songs and activities for children. Every Friday at 10:30am at the Library.
URL:https://harveyruralcommunity.ca/event/family-storytime-at-the-library/2027-06-04/
LOCATION:Harvey Community Library\, 2055 NB-3\, Harvey\, NB E6K 1L1
ATTACH;FMTTYPE=image/png:https://harveyruralcommunity.ca/wp-content/uploads/2023/05/Storytime.png
END:VEVENT
BEGIN:VEVENT
DTSTART;TZID=America/Halifax:20270611T103000
DTEND;TZID=America/Halifax:20270611T113000
DTSTAMP:20260423T002539
CREATED:20230517T142927Z
LAST-MODIFIED:20230614T172055Z
UID:10002121-1812709800-1812713400@harveyruralcommunity.ca
SUMMARY:Family Storytime at the Library
DESCRIPTION:Join us for a few stories\, songs and activities for children. Every Friday at 10:30am at the Library.
URL:https://harveyruralcommunity.ca/event/family-storytime-at-the-library/2027-06-11/
LOCATION:Harvey Community Library\, 2055 NB-3\, Harvey\, NB E6K 1L1
ATTACH;FMTTYPE=image/png:https://harveyruralcommunity.ca/wp-content/uploads/2023/05/Storytime.png
END:VEVENT
BEGIN:VEVENT
DTSTART;TZID=America/Halifax:20270618T103000
DTEND;TZID=America/Halifax:20270618T113000
DTSTAMP:20260423T002539
CREATED:20230517T142927Z
LAST-MODIFIED:20230614T172055Z
UID:10002122-1813314600-1813318200@harveyruralcommunity.ca
SUMMARY:Family Storytime at the Library
DESCRIPTION:Join us for a few stories\, songs and activities for children. Every Friday at 10:30am at the Library.
URL:https://harveyruralcommunity.ca/event/family-storytime-at-the-library/2027-06-18/
LOCATION:Harvey Community Library\, 2055 NB-3\, Harvey\, NB E6K 1L1
ATTACH;FMTTYPE=image/png:https://harveyruralcommunity.ca/wp-content/uploads/2023/05/Storytime.png
END:VEVENT
BEGIN:VEVENT
DTSTART;TZID=America/Halifax:20270625T103000
DTEND;TZID=America/Halifax:20270625T113000
DTSTAMP:20260423T002539
CREATED:20230517T142927Z
LAST-MODIFIED:20230614T172055Z
UID:10002123-1813919400-1813923000@harveyruralcommunity.ca
SUMMARY:Family Storytime at the Library
DESCRIPTION:Join us for a few stories\, songs and activities for children. Every Friday at 10:30am at the Library.
URL:https://harveyruralcommunity.ca/event/family-storytime-at-the-library/2027-06-25/
LOCATION:Harvey Community Library\, 2055 NB-3\, Harvey\, NB E6K 1L1
ATTACH;FMTTYPE=image/png:https://harveyruralcommunity.ca/wp-content/uploads/2023/05/Storytime.png
END:VEVENT
BEGIN:VEVENT
DTSTART;TZID=America/Halifax:20270702T103000
DTEND;TZID=America/Halifax:20270702T113000
DTSTAMP:20260423T002539
CREATED:20230517T142927Z
LAST-MODIFIED:20230614T172055Z
UID:10002124-1814524200-1814527800@harveyruralcommunity.ca
SUMMARY:Family Storytime at the Library
DESCRIPTION:Join us for a few stories\, songs and activities for children. Every Friday at 10:30am at the Library.
URL:https://harveyruralcommunity.ca/event/family-storytime-at-the-library/2027-07-02/
LOCATION:Harvey Community Library\, 2055 NB-3\, Harvey\, NB E6K 1L1
ATTACH;FMTTYPE=image/png:https://harveyruralcommunity.ca/wp-content/uploads/2023/05/Storytime.png
END:VEVENT
BEGIN:VEVENT
DTSTART;TZID=America/Halifax:20270709T103000
DTEND;TZID=America/Halifax:20270709T113000
DTSTAMP:20260423T002539
CREATED:20230517T142927Z
LAST-MODIFIED:20230614T172055Z
UID:10002125-1815129000-1815132600@harveyruralcommunity.ca
SUMMARY:Family Storytime at the Library
DESCRIPTION:Join us for a few stories\, songs and activities for children. Every Friday at 10:30am at the Library.
URL:https://harveyruralcommunity.ca/event/family-storytime-at-the-library/2027-07-09/
LOCATION:Harvey Community Library\, 2055 NB-3\, Harvey\, NB E6K 1L1
ATTACH;FMTTYPE=image/png:https://harveyruralcommunity.ca/wp-content/uploads/2023/05/Storytime.png
END:VEVENT
BEGIN:VEVENT
DTSTART;TZID=America/Halifax:20270716T103000
DTEND;TZID=America/Halifax:20270716T113000
DTSTAMP:20260423T002539
CREATED:20230517T142927Z
LAST-MODIFIED:20230614T172055Z
UID:10002126-1815733800-1815737400@harveyruralcommunity.ca
SUMMARY:Family Storytime at the Library
DESCRIPTION:Join us for a few stories\, songs and activities for children. Every Friday at 10:30am at the Library.
URL:https://harveyruralcommunity.ca/event/family-storytime-at-the-library/2027-07-16/
LOCATION:Harvey Community Library\, 2055 NB-3\, Harvey\, NB E6K 1L1
ATTACH;FMTTYPE=image/png:https://harveyruralcommunity.ca/wp-content/uploads/2023/05/Storytime.png
END:VEVENT
BEGIN:VEVENT
DTSTART;TZID=America/Halifax:20270723T103000
DTEND;TZID=America/Halifax:20270723T113000
DTSTAMP:20260423T002539
CREATED:20230517T142927Z
LAST-MODIFIED:20230614T172055Z
UID:10002127-1816338600-1816342200@harveyruralcommunity.ca
SUMMARY:Family Storytime at the Library
DESCRIPTION:Join us for a few stories\, songs and activities for children. Every Friday at 10:30am at the Library.
URL:https://harveyruralcommunity.ca/event/family-storytime-at-the-library/2027-07-23/
LOCATION:Harvey Community Library\, 2055 NB-3\, Harvey\, NB E6K 1L1
ATTACH;FMTTYPE=image/png:https://harveyruralcommunity.ca/wp-content/uploads/2023/05/Storytime.png
END:VEVENT
END:VCALENDAR