BEGIN:VCALENDAR
VERSION:2.0
PRODID:-//Harvey Rural Community - ECPv6.6.1//NONSGML v1.0//EN
CALSCALE:GREGORIAN
METHOD:PUBLISH
X-WR-CALNAME:Harvey Rural Community
X-ORIGINAL-URL:https://harveyruralcommunity.ca
X-WR-CALDESC:Events for Harvey Rural Community
BEGIN:VTIMEZONE
TZID:America/Halifax
BEGIN:DAYLIGHT
TZOFFSETFROM:-0400
TZOFFSETTO:-0300
TZNAME:ADT
DTSTART:20270314T060000
END:DAYLIGHT
BEGIN:STANDARD
TZOFFSETFROM:-0300
TZOFFSETTO:-0400
TZNAME:AST
DTSTART:20271107T050000
END:STANDARD
END:VTIMEZONE
BEGIN:VEVENT
DTSTART;TZID=America/Halifax:20270104T143000
DTEND;TZID=America/Halifax:20270104T160000
DTSTAMP:20260425T155656
CREATED:20230517T143230Z
LAST-MODIFIED:20240812T173221Z
UID:10005730-1799073000-1799078400@harveyruralcommunity.ca
SUMMARY:Tech Afternoon
DESCRIPTION:Every Monday\, drop in anytime between 2:30PM and 4:00PM with your devices and technology questions. This would be a great time to come learn how to place holds on books through New Brunswick’s online catalogue or to ask questions about electronic book resources like Libby.
URL:https://harveyruralcommunity.ca/event/tech-morning/2027-01-04/
LOCATION:Harvey Community Library\, 2055 NB-3\, Harvey\, NB E6K 1L1
ATTACH;FMTTYPE=image/jpeg:https://harveyruralcommunity.ca/wp-content/uploads/2023/05/scaled_384.jpg
END:VEVENT
BEGIN:VEVENT
DTSTART;TZID=America/Halifax:20270111T143000
DTEND;TZID=America/Halifax:20270111T160000
DTSTAMP:20260425T155656
CREATED:20230517T143230Z
LAST-MODIFIED:20240812T173221Z
UID:10005731-1799677800-1799683200@harveyruralcommunity.ca
SUMMARY:Tech Afternoon
DESCRIPTION:Every Monday\, drop in anytime between 2:30PM and 4:00PM with your devices and technology questions. This would be a great time to come learn how to place holds on books through New Brunswick’s online catalogue or to ask questions about electronic book resources like Libby.
URL:https://harveyruralcommunity.ca/event/tech-morning/2027-01-11/
LOCATION:Harvey Community Library\, 2055 NB-3\, Harvey\, NB E6K 1L1
ATTACH;FMTTYPE=image/jpeg:https://harveyruralcommunity.ca/wp-content/uploads/2023/05/scaled_384.jpg
END:VEVENT
BEGIN:VEVENT
DTSTART;TZID=America/Halifax:20270118T143000
DTEND;TZID=America/Halifax:20270118T160000
DTSTAMP:20260425T155656
CREATED:20230517T143230Z
LAST-MODIFIED:20240812T173221Z
UID:10005732-1800282600-1800288000@harveyruralcommunity.ca
SUMMARY:Tech Afternoon
DESCRIPTION:Every Monday\, drop in anytime between 2:30PM and 4:00PM with your devices and technology questions. This would be a great time to come learn how to place holds on books through New Brunswick’s online catalogue or to ask questions about electronic book resources like Libby.
URL:https://harveyruralcommunity.ca/event/tech-morning/2027-01-18/
LOCATION:Harvey Community Library\, 2055 NB-3\, Harvey\, NB E6K 1L1
ATTACH;FMTTYPE=image/jpeg:https://harveyruralcommunity.ca/wp-content/uploads/2023/05/scaled_384.jpg
END:VEVENT
BEGIN:VEVENT
DTSTART;TZID=America/Halifax:20270125T143000
DTEND;TZID=America/Halifax:20270125T160000
DTSTAMP:20260425T155656
CREATED:20230517T143230Z
LAST-MODIFIED:20240812T173221Z
UID:10005733-1800887400-1800892800@harveyruralcommunity.ca
SUMMARY:Tech Afternoon
DESCRIPTION:Every Monday\, drop in anytime between 2:30PM and 4:00PM with your devices and technology questions. This would be a great time to come learn how to place holds on books through New Brunswick’s online catalogue or to ask questions about electronic book resources like Libby.
URL:https://harveyruralcommunity.ca/event/tech-morning/2027-01-25/
LOCATION:Harvey Community Library\, 2055 NB-3\, Harvey\, NB E6K 1L1
ATTACH;FMTTYPE=image/jpeg:https://harveyruralcommunity.ca/wp-content/uploads/2023/05/scaled_384.jpg
END:VEVENT
BEGIN:VEVENT
DTSTART;TZID=America/Halifax:20270201T143000
DTEND;TZID=America/Halifax:20270201T160000
DTSTAMP:20260425T155656
CREATED:20230517T143230Z
LAST-MODIFIED:20240812T173221Z
UID:10005734-1801492200-1801497600@harveyruralcommunity.ca
SUMMARY:Tech Afternoon
DESCRIPTION:Every Monday\, drop in anytime between 2:30PM and 4:00PM with your devices and technology questions. This would be a great time to come learn how to place holds on books through New Brunswick’s online catalogue or to ask questions about electronic book resources like Libby.
URL:https://harveyruralcommunity.ca/event/tech-morning/2027-02-01/
LOCATION:Harvey Community Library\, 2055 NB-3\, Harvey\, NB E6K 1L1
ATTACH;FMTTYPE=image/jpeg:https://harveyruralcommunity.ca/wp-content/uploads/2023/05/scaled_384.jpg
END:VEVENT
BEGIN:VEVENT
DTSTART;TZID=America/Halifax:20270208T143000
DTEND;TZID=America/Halifax:20270208T160000
DTSTAMP:20260425T155656
CREATED:20230517T143230Z
LAST-MODIFIED:20240812T173221Z
UID:10005735-1802097000-1802102400@harveyruralcommunity.ca
SUMMARY:Tech Afternoon
DESCRIPTION:Every Monday\, drop in anytime between 2:30PM and 4:00PM with your devices and technology questions. This would be a great time to come learn how to place holds on books through New Brunswick’s online catalogue or to ask questions about electronic book resources like Libby.
URL:https://harveyruralcommunity.ca/event/tech-morning/2027-02-08/
LOCATION:Harvey Community Library\, 2055 NB-3\, Harvey\, NB E6K 1L1
ATTACH;FMTTYPE=image/jpeg:https://harveyruralcommunity.ca/wp-content/uploads/2023/05/scaled_384.jpg
END:VEVENT
BEGIN:VEVENT
DTSTART;TZID=America/Halifax:20270215T143000
DTEND;TZID=America/Halifax:20270215T160000
DTSTAMP:20260425T155656
CREATED:20230517T143230Z
LAST-MODIFIED:20240812T173221Z
UID:10005736-1802701800-1802707200@harveyruralcommunity.ca
SUMMARY:Tech Afternoon
DESCRIPTION:Every Monday\, drop in anytime between 2:30PM and 4:00PM with your devices and technology questions. This would be a great time to come learn how to place holds on books through New Brunswick’s online catalogue or to ask questions about electronic book resources like Libby.
URL:https://harveyruralcommunity.ca/event/tech-morning/2027-02-15/
LOCATION:Harvey Community Library\, 2055 NB-3\, Harvey\, NB E6K 1L1
ATTACH;FMTTYPE=image/jpeg:https://harveyruralcommunity.ca/wp-content/uploads/2023/05/scaled_384.jpg
END:VEVENT
BEGIN:VEVENT
DTSTART;TZID=America/Halifax:20270222T143000
DTEND;TZID=America/Halifax:20270222T160000
DTSTAMP:20260425T155656
CREATED:20230517T143230Z
LAST-MODIFIED:20240812T173221Z
UID:10005737-1803306600-1803312000@harveyruralcommunity.ca
SUMMARY:Tech Afternoon
DESCRIPTION:Every Monday\, drop in anytime between 2:30PM and 4:00PM with your devices and technology questions. This would be a great time to come learn how to place holds on books through New Brunswick’s online catalogue or to ask questions about electronic book resources like Libby.
URL:https://harveyruralcommunity.ca/event/tech-morning/2027-02-22/
LOCATION:Harvey Community Library\, 2055 NB-3\, Harvey\, NB E6K 1L1
ATTACH;FMTTYPE=image/jpeg:https://harveyruralcommunity.ca/wp-content/uploads/2023/05/scaled_384.jpg
END:VEVENT
BEGIN:VEVENT
DTSTART;TZID=America/Halifax:20270301T143000
DTEND;TZID=America/Halifax:20270301T160000
DTSTAMP:20260425T155656
CREATED:20230517T143230Z
LAST-MODIFIED:20240812T173221Z
UID:10005738-1803911400-1803916800@harveyruralcommunity.ca
SUMMARY:Tech Afternoon
DESCRIPTION:Every Monday\, drop in anytime between 2:30PM and 4:00PM with your devices and technology questions. This would be a great time to come learn how to place holds on books through New Brunswick’s online catalogue or to ask questions about electronic book resources like Libby.
URL:https://harveyruralcommunity.ca/event/tech-morning/2027-03-01/
LOCATION:Harvey Community Library\, 2055 NB-3\, Harvey\, NB E6K 1L1
ATTACH;FMTTYPE=image/jpeg:https://harveyruralcommunity.ca/wp-content/uploads/2023/05/scaled_384.jpg
END:VEVENT
BEGIN:VEVENT
DTSTART;TZID=America/Halifax:20270308T143000
DTEND;TZID=America/Halifax:20270308T160000
DTSTAMP:20260425T155656
CREATED:20230517T143230Z
LAST-MODIFIED:20240812T173221Z
UID:10005739-1804516200-1804521600@harveyruralcommunity.ca
SUMMARY:Tech Afternoon
DESCRIPTION:Every Monday\, drop in anytime between 2:30PM and 4:00PM with your devices and technology questions. This would be a great time to come learn how to place holds on books through New Brunswick’s online catalogue or to ask questions about electronic book resources like Libby.
URL:https://harveyruralcommunity.ca/event/tech-morning/2027-03-08/
LOCATION:Harvey Community Library\, 2055 NB-3\, Harvey\, NB E6K 1L1
ATTACH;FMTTYPE=image/jpeg:https://harveyruralcommunity.ca/wp-content/uploads/2023/05/scaled_384.jpg
END:VEVENT
BEGIN:VEVENT
DTSTART;TZID=America/Halifax:20270315T143000
DTEND;TZID=America/Halifax:20270315T160000
DTSTAMP:20260425T155656
CREATED:20230517T143230Z
LAST-MODIFIED:20240812T173221Z
UID:10005740-1805121000-1805126400@harveyruralcommunity.ca
SUMMARY:Tech Afternoon
DESCRIPTION:Every Monday\, drop in anytime between 2:30PM and 4:00PM with your devices and technology questions. This would be a great time to come learn how to place holds on books through New Brunswick’s online catalogue or to ask questions about electronic book resources like Libby.
URL:https://harveyruralcommunity.ca/event/tech-morning/2027-03-15/
LOCATION:Harvey Community Library\, 2055 NB-3\, Harvey\, NB E6K 1L1
ATTACH;FMTTYPE=image/jpeg:https://harveyruralcommunity.ca/wp-content/uploads/2023/05/scaled_384.jpg
END:VEVENT
BEGIN:VEVENT
DTSTART;TZID=America/Halifax:20270322T143000
DTEND;TZID=America/Halifax:20270322T160000
DTSTAMP:20260425T155656
CREATED:20230517T143230Z
LAST-MODIFIED:20240812T173221Z
UID:10005741-1805725800-1805731200@harveyruralcommunity.ca
SUMMARY:Tech Afternoon
DESCRIPTION:Every Monday\, drop in anytime between 2:30PM and 4:00PM with your devices and technology questions. This would be a great time to come learn how to place holds on books through New Brunswick’s online catalogue or to ask questions about electronic book resources like Libby.
URL:https://harveyruralcommunity.ca/event/tech-morning/2027-03-22/
LOCATION:Harvey Community Library\, 2055 NB-3\, Harvey\, NB E6K 1L1
ATTACH;FMTTYPE=image/jpeg:https://harveyruralcommunity.ca/wp-content/uploads/2023/05/scaled_384.jpg
END:VEVENT
BEGIN:VEVENT
DTSTART;TZID=America/Halifax:20270329T143000
DTEND;TZID=America/Halifax:20270329T160000
DTSTAMP:20260425T155656
CREATED:20230517T143230Z
LAST-MODIFIED:20240812T173221Z
UID:10005742-1806330600-1806336000@harveyruralcommunity.ca
SUMMARY:Tech Afternoon
DESCRIPTION:Every Monday\, drop in anytime between 2:30PM and 4:00PM with your devices and technology questions. This would be a great time to come learn how to place holds on books through New Brunswick’s online catalogue or to ask questions about electronic book resources like Libby.
URL:https://harveyruralcommunity.ca/event/tech-morning/2027-03-29/
LOCATION:Harvey Community Library\, 2055 NB-3\, Harvey\, NB E6K 1L1
ATTACH;FMTTYPE=image/jpeg:https://harveyruralcommunity.ca/wp-content/uploads/2023/05/scaled_384.jpg
END:VEVENT
BEGIN:VEVENT
DTSTART;TZID=America/Halifax:20270405T143000
DTEND;TZID=America/Halifax:20270405T160000
DTSTAMP:20260425T155656
CREATED:20230517T143230Z
LAST-MODIFIED:20240812T173221Z
UID:10005743-1806935400-1806940800@harveyruralcommunity.ca
SUMMARY:Tech Afternoon
DESCRIPTION:Every Monday\, drop in anytime between 2:30PM and 4:00PM with your devices and technology questions. This would be a great time to come learn how to place holds on books through New Brunswick’s online catalogue or to ask questions about electronic book resources like Libby.
URL:https://harveyruralcommunity.ca/event/tech-morning/2027-04-05/
LOCATION:Harvey Community Library\, 2055 NB-3\, Harvey\, NB E6K 1L1
ATTACH;FMTTYPE=image/jpeg:https://harveyruralcommunity.ca/wp-content/uploads/2023/05/scaled_384.jpg
END:VEVENT
BEGIN:VEVENT
DTSTART;TZID=America/Halifax:20270412T143000
DTEND;TZID=America/Halifax:20270412T160000
DTSTAMP:20260425T155656
CREATED:20230517T143230Z
LAST-MODIFIED:20240812T173221Z
UID:10005744-1807540200-1807545600@harveyruralcommunity.ca
SUMMARY:Tech Afternoon
DESCRIPTION:Every Monday\, drop in anytime between 2:30PM and 4:00PM with your devices and technology questions. This would be a great time to come learn how to place holds on books through New Brunswick’s online catalogue or to ask questions about electronic book resources like Libby.
URL:https://harveyruralcommunity.ca/event/tech-morning/2027-04-12/
LOCATION:Harvey Community Library\, 2055 NB-3\, Harvey\, NB E6K 1L1
ATTACH;FMTTYPE=image/jpeg:https://harveyruralcommunity.ca/wp-content/uploads/2023/05/scaled_384.jpg
END:VEVENT
BEGIN:VEVENT
DTSTART;TZID=America/Halifax:20270419T143000
DTEND;TZID=America/Halifax:20270419T160000
DTSTAMP:20260425T155656
CREATED:20230517T143230Z
LAST-MODIFIED:20240812T173221Z
UID:10005745-1808145000-1808150400@harveyruralcommunity.ca
SUMMARY:Tech Afternoon
DESCRIPTION:Every Monday\, drop in anytime between 2:30PM and 4:00PM with your devices and technology questions. This would be a great time to come learn how to place holds on books through New Brunswick’s online catalogue or to ask questions about electronic book resources like Libby.
URL:https://harveyruralcommunity.ca/event/tech-morning/2027-04-19/
LOCATION:Harvey Community Library\, 2055 NB-3\, Harvey\, NB E6K 1L1
ATTACH;FMTTYPE=image/jpeg:https://harveyruralcommunity.ca/wp-content/uploads/2023/05/scaled_384.jpg
END:VEVENT
BEGIN:VEVENT
DTSTART;TZID=America/Halifax:20270426T143000
DTEND;TZID=America/Halifax:20270426T160000
DTSTAMP:20260425T155656
CREATED:20230517T143230Z
LAST-MODIFIED:20240812T173221Z
UID:10005746-1808749800-1808755200@harveyruralcommunity.ca
SUMMARY:Tech Afternoon
DESCRIPTION:Every Monday\, drop in anytime between 2:30PM and 4:00PM with your devices and technology questions. This would be a great time to come learn how to place holds on books through New Brunswick’s online catalogue or to ask questions about electronic book resources like Libby.
URL:https://harveyruralcommunity.ca/event/tech-morning/2027-04-26/
LOCATION:Harvey Community Library\, 2055 NB-3\, Harvey\, NB E6K 1L1
ATTACH;FMTTYPE=image/jpeg:https://harveyruralcommunity.ca/wp-content/uploads/2023/05/scaled_384.jpg
END:VEVENT
BEGIN:VEVENT
DTSTART;TZID=America/Halifax:20270503T143000
DTEND;TZID=America/Halifax:20270503T160000
DTSTAMP:20260425T155656
CREATED:20230517T143230Z
LAST-MODIFIED:20240812T173221Z
UID:10005747-1809354600-1809360000@harveyruralcommunity.ca
SUMMARY:Tech Afternoon
DESCRIPTION:Every Monday\, drop in anytime between 2:30PM and 4:00PM with your devices and technology questions. This would be a great time to come learn how to place holds on books through New Brunswick’s online catalogue or to ask questions about electronic book resources like Libby.
URL:https://harveyruralcommunity.ca/event/tech-morning/2027-05-03/
LOCATION:Harvey Community Library\, 2055 NB-3\, Harvey\, NB E6K 1L1
ATTACH;FMTTYPE=image/jpeg:https://harveyruralcommunity.ca/wp-content/uploads/2023/05/scaled_384.jpg
END:VEVENT
BEGIN:VEVENT
DTSTART;TZID=America/Halifax:20270510T143000
DTEND;TZID=America/Halifax:20270510T160000
DTSTAMP:20260425T155656
CREATED:20230517T143230Z
LAST-MODIFIED:20240812T173221Z
UID:10005748-1809959400-1809964800@harveyruralcommunity.ca
SUMMARY:Tech Afternoon
DESCRIPTION:Every Monday\, drop in anytime between 2:30PM and 4:00PM with your devices and technology questions. This would be a great time to come learn how to place holds on books through New Brunswick’s online catalogue or to ask questions about electronic book resources like Libby.
URL:https://harveyruralcommunity.ca/event/tech-morning/2027-05-10/
LOCATION:Harvey Community Library\, 2055 NB-3\, Harvey\, NB E6K 1L1
ATTACH;FMTTYPE=image/jpeg:https://harveyruralcommunity.ca/wp-content/uploads/2023/05/scaled_384.jpg
END:VEVENT
BEGIN:VEVENT
DTSTART;TZID=America/Halifax:20270517T143000
DTEND;TZID=America/Halifax:20270517T160000
DTSTAMP:20260425T155656
CREATED:20230517T143230Z
LAST-MODIFIED:20240812T173221Z
UID:10005749-1810564200-1810569600@harveyruralcommunity.ca
SUMMARY:Tech Afternoon
DESCRIPTION:Every Monday\, drop in anytime between 2:30PM and 4:00PM with your devices and technology questions. This would be a great time to come learn how to place holds on books through New Brunswick’s online catalogue or to ask questions about electronic book resources like Libby.
URL:https://harveyruralcommunity.ca/event/tech-morning/2027-05-17/
LOCATION:Harvey Community Library\, 2055 NB-3\, Harvey\, NB E6K 1L1
ATTACH;FMTTYPE=image/jpeg:https://harveyruralcommunity.ca/wp-content/uploads/2023/05/scaled_384.jpg
END:VEVENT
BEGIN:VEVENT
DTSTART;TZID=America/Halifax:20270524T143000
DTEND;TZID=America/Halifax:20270524T160000
DTSTAMP:20260425T155656
CREATED:20230517T143230Z
LAST-MODIFIED:20240812T173221Z
UID:10005750-1811169000-1811174400@harveyruralcommunity.ca
SUMMARY:Tech Afternoon
DESCRIPTION:Every Monday\, drop in anytime between 2:30PM and 4:00PM with your devices and technology questions. This would be a great time to come learn how to place holds on books through New Brunswick’s online catalogue or to ask questions about electronic book resources like Libby.
URL:https://harveyruralcommunity.ca/event/tech-morning/2027-05-24/
LOCATION:Harvey Community Library\, 2055 NB-3\, Harvey\, NB E6K 1L1
ATTACH;FMTTYPE=image/jpeg:https://harveyruralcommunity.ca/wp-content/uploads/2023/05/scaled_384.jpg
END:VEVENT
BEGIN:VEVENT
DTSTART;TZID=America/Halifax:20270531T143000
DTEND;TZID=America/Halifax:20270531T160000
DTSTAMP:20260425T155656
CREATED:20230517T143230Z
LAST-MODIFIED:20240812T173221Z
UID:10005751-1811773800-1811779200@harveyruralcommunity.ca
SUMMARY:Tech Afternoon
DESCRIPTION:Every Monday\, drop in anytime between 2:30PM and 4:00PM with your devices and technology questions. This would be a great time to come learn how to place holds on books through New Brunswick’s online catalogue or to ask questions about electronic book resources like Libby.
URL:https://harveyruralcommunity.ca/event/tech-morning/2027-05-31/
LOCATION:Harvey Community Library\, 2055 NB-3\, Harvey\, NB E6K 1L1
ATTACH;FMTTYPE=image/jpeg:https://harveyruralcommunity.ca/wp-content/uploads/2023/05/scaled_384.jpg
END:VEVENT
BEGIN:VEVENT
DTSTART;TZID=America/Halifax:20270607T143000
DTEND;TZID=America/Halifax:20270607T160000
DTSTAMP:20260425T155656
CREATED:20230517T143230Z
LAST-MODIFIED:20240812T173221Z
UID:10005752-1812378600-1812384000@harveyruralcommunity.ca
SUMMARY:Tech Afternoon
DESCRIPTION:Every Monday\, drop in anytime between 2:30PM and 4:00PM with your devices and technology questions. This would be a great time to come learn how to place holds on books through New Brunswick’s online catalogue or to ask questions about electronic book resources like Libby.
URL:https://harveyruralcommunity.ca/event/tech-morning/2027-06-07/
LOCATION:Harvey Community Library\, 2055 NB-3\, Harvey\, NB E6K 1L1
ATTACH;FMTTYPE=image/jpeg:https://harveyruralcommunity.ca/wp-content/uploads/2023/05/scaled_384.jpg
END:VEVENT
BEGIN:VEVENT
DTSTART;TZID=America/Halifax:20270614T143000
DTEND;TZID=America/Halifax:20270614T160000
DTSTAMP:20260425T155656
CREATED:20230517T143230Z
LAST-MODIFIED:20240812T173221Z
UID:10005753-1812983400-1812988800@harveyruralcommunity.ca
SUMMARY:Tech Afternoon
DESCRIPTION:Every Monday\, drop in anytime between 2:30PM and 4:00PM with your devices and technology questions. This would be a great time to come learn how to place holds on books through New Brunswick’s online catalogue or to ask questions about electronic book resources like Libby.
URL:https://harveyruralcommunity.ca/event/tech-morning/2027-06-14/
LOCATION:Harvey Community Library\, 2055 NB-3\, Harvey\, NB E6K 1L1
ATTACH;FMTTYPE=image/jpeg:https://harveyruralcommunity.ca/wp-content/uploads/2023/05/scaled_384.jpg
END:VEVENT
BEGIN:VEVENT
DTSTART;TZID=America/Halifax:20270621T143000
DTEND;TZID=America/Halifax:20270621T160000
DTSTAMP:20260425T155656
CREATED:20230517T143230Z
LAST-MODIFIED:20240812T173221Z
UID:10005754-1813588200-1813593600@harveyruralcommunity.ca
SUMMARY:Tech Afternoon
DESCRIPTION:Every Monday\, drop in anytime between 2:30PM and 4:00PM with your devices and technology questions. This would be a great time to come learn how to place holds on books through New Brunswick’s online catalogue or to ask questions about electronic book resources like Libby.
URL:https://harveyruralcommunity.ca/event/tech-morning/2027-06-21/
LOCATION:Harvey Community Library\, 2055 NB-3\, Harvey\, NB E6K 1L1
ATTACH;FMTTYPE=image/jpeg:https://harveyruralcommunity.ca/wp-content/uploads/2023/05/scaled_384.jpg
END:VEVENT
BEGIN:VEVENT
DTSTART;TZID=America/Halifax:20270628T143000
DTEND;TZID=America/Halifax:20270628T160000
DTSTAMP:20260425T155656
CREATED:20230517T143230Z
LAST-MODIFIED:20240812T173221Z
UID:10005755-1814193000-1814198400@harveyruralcommunity.ca
SUMMARY:Tech Afternoon
DESCRIPTION:Every Monday\, drop in anytime between 2:30PM and 4:00PM with your devices and technology questions. This would be a great time to come learn how to place holds on books through New Brunswick’s online catalogue or to ask questions about electronic book resources like Libby.
URL:https://harveyruralcommunity.ca/event/tech-morning/2027-06-28/
LOCATION:Harvey Community Library\, 2055 NB-3\, Harvey\, NB E6K 1L1
ATTACH;FMTTYPE=image/jpeg:https://harveyruralcommunity.ca/wp-content/uploads/2023/05/scaled_384.jpg
END:VEVENT
BEGIN:VEVENT
DTSTART;TZID=America/Halifax:20270705T143000
DTEND;TZID=America/Halifax:20270705T160000
DTSTAMP:20260425T155656
CREATED:20230517T143230Z
LAST-MODIFIED:20240812T173221Z
UID:10005756-1814797800-1814803200@harveyruralcommunity.ca
SUMMARY:Tech Afternoon
DESCRIPTION:Every Monday\, drop in anytime between 2:30PM and 4:00PM with your devices and technology questions. This would be a great time to come learn how to place holds on books through New Brunswick’s online catalogue or to ask questions about electronic book resources like Libby.
URL:https://harveyruralcommunity.ca/event/tech-morning/2027-07-05/
LOCATION:Harvey Community Library\, 2055 NB-3\, Harvey\, NB E6K 1L1
ATTACH;FMTTYPE=image/jpeg:https://harveyruralcommunity.ca/wp-content/uploads/2023/05/scaled_384.jpg
END:VEVENT
BEGIN:VEVENT
DTSTART;TZID=America/Halifax:20270712T143000
DTEND;TZID=America/Halifax:20270712T160000
DTSTAMP:20260425T155656
CREATED:20230517T143230Z
LAST-MODIFIED:20240812T173221Z
UID:10005757-1815402600-1815408000@harveyruralcommunity.ca
SUMMARY:Tech Afternoon
DESCRIPTION:Every Monday\, drop in anytime between 2:30PM and 4:00PM with your devices and technology questions. This would be a great time to come learn how to place holds on books through New Brunswick’s online catalogue or to ask questions about electronic book resources like Libby.
URL:https://harveyruralcommunity.ca/event/tech-morning/2027-07-12/
LOCATION:Harvey Community Library\, 2055 NB-3\, Harvey\, NB E6K 1L1
ATTACH;FMTTYPE=image/jpeg:https://harveyruralcommunity.ca/wp-content/uploads/2023/05/scaled_384.jpg
END:VEVENT
BEGIN:VEVENT
DTSTART;TZID=America/Halifax:20270719T143000
DTEND;TZID=America/Halifax:20270719T160000
DTSTAMP:20260425T155656
CREATED:20230517T143230Z
LAST-MODIFIED:20240812T173221Z
UID:10005758-1816007400-1816012800@harveyruralcommunity.ca
SUMMARY:Tech Afternoon
DESCRIPTION:Every Monday\, drop in anytime between 2:30PM and 4:00PM with your devices and technology questions. This would be a great time to come learn how to place holds on books through New Brunswick’s online catalogue or to ask questions about electronic book resources like Libby.
URL:https://harveyruralcommunity.ca/event/tech-morning/2027-07-19/
LOCATION:Harvey Community Library\, 2055 NB-3\, Harvey\, NB E6K 1L1
ATTACH;FMTTYPE=image/jpeg:https://harveyruralcommunity.ca/wp-content/uploads/2023/05/scaled_384.jpg
END:VEVENT
BEGIN:VEVENT
DTSTART;TZID=America/Halifax:20270726T143000
DTEND;TZID=America/Halifax:20270726T160000
DTSTAMP:20260425T155656
CREATED:20230517T143230Z
LAST-MODIFIED:20240812T173221Z
UID:10005759-1816612200-1816617600@harveyruralcommunity.ca
SUMMARY:Tech Afternoon
DESCRIPTION:Every Monday\, drop in anytime between 2:30PM and 4:00PM with your devices and technology questions. This would be a great time to come learn how to place holds on books through New Brunswick’s online catalogue or to ask questions about electronic book resources like Libby.
URL:https://harveyruralcommunity.ca/event/tech-morning/2027-07-26/
LOCATION:Harvey Community Library\, 2055 NB-3\, Harvey\, NB E6K 1L1
ATTACH;FMTTYPE=image/jpeg:https://harveyruralcommunity.ca/wp-content/uploads/2023/05/scaled_384.jpg
END:VEVENT
END:VCALENDAR