BEGIN:VCALENDAR
VERSION:2.0
PRODID:-//Harvey Rural Community - ECPv6.6.1//NONSGML v1.0//EN
CALSCALE:GREGORIAN
METHOD:PUBLISH
X-WR-CALNAME:Harvey Rural Community
X-ORIGINAL-URL:https://harveyruralcommunity.ca
X-WR-CALDESC:Events for Harvey Rural Community
BEGIN:VTIMEZONE
TZID:America/Halifax
BEGIN:DAYLIGHT
TZOFFSETFROM:-0400
TZOFFSETTO:-0300
TZNAME:ADT
DTSTART:20270314T060000
END:DAYLIGHT
BEGIN:STANDARD
TZOFFSETFROM:-0300
TZOFFSETTO:-0400
TZNAME:AST
DTSTART:20271107T050000
END:STANDARD
END:VTIMEZONE
BEGIN:VEVENT
DTSTART;TZID=America/Halifax:20270104T100000
DTEND;TZID=America/Halifax:20270104T120000
DTSTAMP:20260425T154014
CREATED:20250910T124324Z
LAST-MODIFIED:20250910T124324Z
UID:10007912-1799056800-1799064000@harveyruralcommunity.ca
SUMMARY:Recreational Bowling
DESCRIPTION:🎳 Monday Morning Bowling📍 Harvey Memorial Community Centre⏰ Every Monday at 10:00 a.m. \nLooking for some lighthearted fun to start your week? Join us for recreational bowling—no league\, no pressure\, just fun! \n\n\nWe bowl 2–3 strings\, depending on turnout. \n\n\nWrap-up between 11:00 a.m. and noon. \n\n\nOnly $3 per string ($6–$9 per morning). \n\n\nBowling shoes and balls provided at no cost. \n\n\nAll are welcome—no experience needed! \n\n\n👉 Come out\, get moving\, and have a ball!
URL:https://harveyruralcommunity.ca/event/recreational-bowling/2027-01-04/
END:VEVENT
BEGIN:VEVENT
DTSTART;TZID=America/Halifax:20270111T100000
DTEND;TZID=America/Halifax:20270111T120000
DTSTAMP:20260425T154014
CREATED:20250910T124324Z
LAST-MODIFIED:20250910T124324Z
UID:10007913-1799661600-1799668800@harveyruralcommunity.ca
SUMMARY:Recreational Bowling
DESCRIPTION:🎳 Monday Morning Bowling📍 Harvey Memorial Community Centre⏰ Every Monday at 10:00 a.m. \nLooking for some lighthearted fun to start your week? Join us for recreational bowling—no league\, no pressure\, just fun! \n\n\nWe bowl 2–3 strings\, depending on turnout. \n\n\nWrap-up between 11:00 a.m. and noon. \n\n\nOnly $3 per string ($6–$9 per morning). \n\n\nBowling shoes and balls provided at no cost. \n\n\nAll are welcome—no experience needed! \n\n\n👉 Come out\, get moving\, and have a ball!
URL:https://harveyruralcommunity.ca/event/recreational-bowling/2027-01-11/
END:VEVENT
BEGIN:VEVENT
DTSTART;TZID=America/Halifax:20270118T100000
DTEND;TZID=America/Halifax:20270118T120000
DTSTAMP:20260425T154014
CREATED:20250910T124324Z
LAST-MODIFIED:20250910T124324Z
UID:10007914-1800266400-1800273600@harveyruralcommunity.ca
SUMMARY:Recreational Bowling
DESCRIPTION:🎳 Monday Morning Bowling📍 Harvey Memorial Community Centre⏰ Every Monday at 10:00 a.m. \nLooking for some lighthearted fun to start your week? Join us for recreational bowling—no league\, no pressure\, just fun! \n\n\nWe bowl 2–3 strings\, depending on turnout. \n\n\nWrap-up between 11:00 a.m. and noon. \n\n\nOnly $3 per string ($6–$9 per morning). \n\n\nBowling shoes and balls provided at no cost. \n\n\nAll are welcome—no experience needed! \n\n\n👉 Come out\, get moving\, and have a ball!
URL:https://harveyruralcommunity.ca/event/recreational-bowling/2027-01-18/
END:VEVENT
BEGIN:VEVENT
DTSTART;TZID=America/Halifax:20270125T100000
DTEND;TZID=America/Halifax:20270125T120000
DTSTAMP:20260425T154014
CREATED:20250910T124324Z
LAST-MODIFIED:20250910T124324Z
UID:10007915-1800871200-1800878400@harveyruralcommunity.ca
SUMMARY:Recreational Bowling
DESCRIPTION:🎳 Monday Morning Bowling📍 Harvey Memorial Community Centre⏰ Every Monday at 10:00 a.m. \nLooking for some lighthearted fun to start your week? Join us for recreational bowling—no league\, no pressure\, just fun! \n\n\nWe bowl 2–3 strings\, depending on turnout. \n\n\nWrap-up between 11:00 a.m. and noon. \n\n\nOnly $3 per string ($6–$9 per morning). \n\n\nBowling shoes and balls provided at no cost. \n\n\nAll are welcome—no experience needed! \n\n\n👉 Come out\, get moving\, and have a ball!
URL:https://harveyruralcommunity.ca/event/recreational-bowling/2027-01-25/
END:VEVENT
BEGIN:VEVENT
DTSTART;TZID=America/Halifax:20270201T100000
DTEND;TZID=America/Halifax:20270201T120000
DTSTAMP:20260425T154014
CREATED:20250910T124324Z
LAST-MODIFIED:20250910T124324Z
UID:10007916-1801476000-1801483200@harveyruralcommunity.ca
SUMMARY:Recreational Bowling
DESCRIPTION:🎳 Monday Morning Bowling📍 Harvey Memorial Community Centre⏰ Every Monday at 10:00 a.m. \nLooking for some lighthearted fun to start your week? Join us for recreational bowling—no league\, no pressure\, just fun! \n\n\nWe bowl 2–3 strings\, depending on turnout. \n\n\nWrap-up between 11:00 a.m. and noon. \n\n\nOnly $3 per string ($6–$9 per morning). \n\n\nBowling shoes and balls provided at no cost. \n\n\nAll are welcome—no experience needed! \n\n\n👉 Come out\, get moving\, and have a ball!
URL:https://harveyruralcommunity.ca/event/recreational-bowling/2027-02-01/
END:VEVENT
BEGIN:VEVENT
DTSTART;TZID=America/Halifax:20270208T100000
DTEND;TZID=America/Halifax:20270208T120000
DTSTAMP:20260425T154014
CREATED:20250910T124324Z
LAST-MODIFIED:20250910T124324Z
UID:10007917-1802080800-1802088000@harveyruralcommunity.ca
SUMMARY:Recreational Bowling
DESCRIPTION:🎳 Monday Morning Bowling📍 Harvey Memorial Community Centre⏰ Every Monday at 10:00 a.m. \nLooking for some lighthearted fun to start your week? Join us for recreational bowling—no league\, no pressure\, just fun! \n\n\nWe bowl 2–3 strings\, depending on turnout. \n\n\nWrap-up between 11:00 a.m. and noon. \n\n\nOnly $3 per string ($6–$9 per morning). \n\n\nBowling shoes and balls provided at no cost. \n\n\nAll are welcome—no experience needed! \n\n\n👉 Come out\, get moving\, and have a ball!
URL:https://harveyruralcommunity.ca/event/recreational-bowling/2027-02-08/
END:VEVENT
BEGIN:VEVENT
DTSTART;TZID=America/Halifax:20270215T100000
DTEND;TZID=America/Halifax:20270215T120000
DTSTAMP:20260425T154014
CREATED:20250910T124324Z
LAST-MODIFIED:20250910T124324Z
UID:10007918-1802685600-1802692800@harveyruralcommunity.ca
SUMMARY:Recreational Bowling
DESCRIPTION:🎳 Monday Morning Bowling📍 Harvey Memorial Community Centre⏰ Every Monday at 10:00 a.m. \nLooking for some lighthearted fun to start your week? Join us for recreational bowling—no league\, no pressure\, just fun! \n\n\nWe bowl 2–3 strings\, depending on turnout. \n\n\nWrap-up between 11:00 a.m. and noon. \n\n\nOnly $3 per string ($6–$9 per morning). \n\n\nBowling shoes and balls provided at no cost. \n\n\nAll are welcome—no experience needed! \n\n\n👉 Come out\, get moving\, and have a ball!
URL:https://harveyruralcommunity.ca/event/recreational-bowling/2027-02-15/
END:VEVENT
BEGIN:VEVENT
DTSTART;TZID=America/Halifax:20270222T100000
DTEND;TZID=America/Halifax:20270222T120000
DTSTAMP:20260425T154014
CREATED:20250910T124324Z
LAST-MODIFIED:20250910T124324Z
UID:10007919-1803290400-1803297600@harveyruralcommunity.ca
SUMMARY:Recreational Bowling
DESCRIPTION:🎳 Monday Morning Bowling📍 Harvey Memorial Community Centre⏰ Every Monday at 10:00 a.m. \nLooking for some lighthearted fun to start your week? Join us for recreational bowling—no league\, no pressure\, just fun! \n\n\nWe bowl 2–3 strings\, depending on turnout. \n\n\nWrap-up between 11:00 a.m. and noon. \n\n\nOnly $3 per string ($6–$9 per morning). \n\n\nBowling shoes and balls provided at no cost. \n\n\nAll are welcome—no experience needed! \n\n\n👉 Come out\, get moving\, and have a ball!
URL:https://harveyruralcommunity.ca/event/recreational-bowling/2027-02-22/
END:VEVENT
BEGIN:VEVENT
DTSTART;TZID=America/Halifax:20270301T100000
DTEND;TZID=America/Halifax:20270301T120000
DTSTAMP:20260425T154014
CREATED:20250910T124324Z
LAST-MODIFIED:20250910T124324Z
UID:10007920-1803895200-1803902400@harveyruralcommunity.ca
SUMMARY:Recreational Bowling
DESCRIPTION:🎳 Monday Morning Bowling📍 Harvey Memorial Community Centre⏰ Every Monday at 10:00 a.m. \nLooking for some lighthearted fun to start your week? Join us for recreational bowling—no league\, no pressure\, just fun! \n\n\nWe bowl 2–3 strings\, depending on turnout. \n\n\nWrap-up between 11:00 a.m. and noon. \n\n\nOnly $3 per string ($6–$9 per morning). \n\n\nBowling shoes and balls provided at no cost. \n\n\nAll are welcome—no experience needed! \n\n\n👉 Come out\, get moving\, and have a ball!
URL:https://harveyruralcommunity.ca/event/recreational-bowling/2027-03-01/
END:VEVENT
BEGIN:VEVENT
DTSTART;TZID=America/Halifax:20270308T100000
DTEND;TZID=America/Halifax:20270308T120000
DTSTAMP:20260425T154014
CREATED:20250910T124324Z
LAST-MODIFIED:20250910T124324Z
UID:10007921-1804500000-1804507200@harveyruralcommunity.ca
SUMMARY:Recreational Bowling
DESCRIPTION:🎳 Monday Morning Bowling📍 Harvey Memorial Community Centre⏰ Every Monday at 10:00 a.m. \nLooking for some lighthearted fun to start your week? Join us for recreational bowling—no league\, no pressure\, just fun! \n\n\nWe bowl 2–3 strings\, depending on turnout. \n\n\nWrap-up between 11:00 a.m. and noon. \n\n\nOnly $3 per string ($6–$9 per morning). \n\n\nBowling shoes and balls provided at no cost. \n\n\nAll are welcome—no experience needed! \n\n\n👉 Come out\, get moving\, and have a ball!
URL:https://harveyruralcommunity.ca/event/recreational-bowling/2027-03-08/
END:VEVENT
BEGIN:VEVENT
DTSTART;TZID=America/Halifax:20270315T100000
DTEND;TZID=America/Halifax:20270315T120000
DTSTAMP:20260425T154014
CREATED:20250910T124324Z
LAST-MODIFIED:20250910T124324Z
UID:10007922-1805104800-1805112000@harveyruralcommunity.ca
SUMMARY:Recreational Bowling
DESCRIPTION:🎳 Monday Morning Bowling📍 Harvey Memorial Community Centre⏰ Every Monday at 10:00 a.m. \nLooking for some lighthearted fun to start your week? Join us for recreational bowling—no league\, no pressure\, just fun! \n\n\nWe bowl 2–3 strings\, depending on turnout. \n\n\nWrap-up between 11:00 a.m. and noon. \n\n\nOnly $3 per string ($6–$9 per morning). \n\n\nBowling shoes and balls provided at no cost. \n\n\nAll are welcome—no experience needed! \n\n\n👉 Come out\, get moving\, and have a ball!
URL:https://harveyruralcommunity.ca/event/recreational-bowling/2027-03-15/
END:VEVENT
BEGIN:VEVENT
DTSTART;TZID=America/Halifax:20270322T100000
DTEND;TZID=America/Halifax:20270322T120000
DTSTAMP:20260425T154014
CREATED:20250910T124324Z
LAST-MODIFIED:20250910T124324Z
UID:10007923-1805709600-1805716800@harveyruralcommunity.ca
SUMMARY:Recreational Bowling
DESCRIPTION:🎳 Monday Morning Bowling📍 Harvey Memorial Community Centre⏰ Every Monday at 10:00 a.m. \nLooking for some lighthearted fun to start your week? Join us for recreational bowling—no league\, no pressure\, just fun! \n\n\nWe bowl 2–3 strings\, depending on turnout. \n\n\nWrap-up between 11:00 a.m. and noon. \n\n\nOnly $3 per string ($6–$9 per morning). \n\n\nBowling shoes and balls provided at no cost. \n\n\nAll are welcome—no experience needed! \n\n\n👉 Come out\, get moving\, and have a ball!
URL:https://harveyruralcommunity.ca/event/recreational-bowling/2027-03-22/
END:VEVENT
BEGIN:VEVENT
DTSTART;TZID=America/Halifax:20270329T100000
DTEND;TZID=America/Halifax:20270329T120000
DTSTAMP:20260425T154014
CREATED:20250910T124324Z
LAST-MODIFIED:20250910T124324Z
UID:10007924-1806314400-1806321600@harveyruralcommunity.ca
SUMMARY:Recreational Bowling
DESCRIPTION:🎳 Monday Morning Bowling📍 Harvey Memorial Community Centre⏰ Every Monday at 10:00 a.m. \nLooking for some lighthearted fun to start your week? Join us for recreational bowling—no league\, no pressure\, just fun! \n\n\nWe bowl 2–3 strings\, depending on turnout. \n\n\nWrap-up between 11:00 a.m. and noon. \n\n\nOnly $3 per string ($6–$9 per morning). \n\n\nBowling shoes and balls provided at no cost. \n\n\nAll are welcome—no experience needed! \n\n\n👉 Come out\, get moving\, and have a ball!
URL:https://harveyruralcommunity.ca/event/recreational-bowling/2027-03-29/
END:VEVENT
BEGIN:VEVENT
DTSTART;TZID=America/Halifax:20270405T100000
DTEND;TZID=America/Halifax:20270405T120000
DTSTAMP:20260425T154014
CREATED:20250910T124324Z
LAST-MODIFIED:20250910T124324Z
UID:10007925-1806919200-1806926400@harveyruralcommunity.ca
SUMMARY:Recreational Bowling
DESCRIPTION:🎳 Monday Morning Bowling📍 Harvey Memorial Community Centre⏰ Every Monday at 10:00 a.m. \nLooking for some lighthearted fun to start your week? Join us for recreational bowling—no league\, no pressure\, just fun! \n\n\nWe bowl 2–3 strings\, depending on turnout. \n\n\nWrap-up between 11:00 a.m. and noon. \n\n\nOnly $3 per string ($6–$9 per morning). \n\n\nBowling shoes and balls provided at no cost. \n\n\nAll are welcome—no experience needed! \n\n\n👉 Come out\, get moving\, and have a ball!
URL:https://harveyruralcommunity.ca/event/recreational-bowling/2027-04-05/
END:VEVENT
BEGIN:VEVENT
DTSTART;TZID=America/Halifax:20270412T100000
DTEND;TZID=America/Halifax:20270412T120000
DTSTAMP:20260425T154014
CREATED:20250910T124324Z
LAST-MODIFIED:20250910T124324Z
UID:10007926-1807524000-1807531200@harveyruralcommunity.ca
SUMMARY:Recreational Bowling
DESCRIPTION:🎳 Monday Morning Bowling📍 Harvey Memorial Community Centre⏰ Every Monday at 10:00 a.m. \nLooking for some lighthearted fun to start your week? Join us for recreational bowling—no league\, no pressure\, just fun! \n\n\nWe bowl 2–3 strings\, depending on turnout. \n\n\nWrap-up between 11:00 a.m. and noon. \n\n\nOnly $3 per string ($6–$9 per morning). \n\n\nBowling shoes and balls provided at no cost. \n\n\nAll are welcome—no experience needed! \n\n\n👉 Come out\, get moving\, and have a ball!
URL:https://harveyruralcommunity.ca/event/recreational-bowling/2027-04-12/
END:VEVENT
BEGIN:VEVENT
DTSTART;TZID=America/Halifax:20270419T100000
DTEND;TZID=America/Halifax:20270419T120000
DTSTAMP:20260425T154014
CREATED:20250910T124324Z
LAST-MODIFIED:20250910T124324Z
UID:10007927-1808128800-1808136000@harveyruralcommunity.ca
SUMMARY:Recreational Bowling
DESCRIPTION:🎳 Monday Morning Bowling📍 Harvey Memorial Community Centre⏰ Every Monday at 10:00 a.m. \nLooking for some lighthearted fun to start your week? Join us for recreational bowling—no league\, no pressure\, just fun! \n\n\nWe bowl 2–3 strings\, depending on turnout. \n\n\nWrap-up between 11:00 a.m. and noon. \n\n\nOnly $3 per string ($6–$9 per morning). \n\n\nBowling shoes and balls provided at no cost. \n\n\nAll are welcome—no experience needed! \n\n\n👉 Come out\, get moving\, and have a ball!
URL:https://harveyruralcommunity.ca/event/recreational-bowling/2027-04-19/
END:VEVENT
BEGIN:VEVENT
DTSTART;TZID=America/Halifax:20270426T100000
DTEND;TZID=America/Halifax:20270426T120000
DTSTAMP:20260425T154014
CREATED:20250910T124324Z
LAST-MODIFIED:20250910T124324Z
UID:10007928-1808733600-1808740800@harveyruralcommunity.ca
SUMMARY:Recreational Bowling
DESCRIPTION:🎳 Monday Morning Bowling📍 Harvey Memorial Community Centre⏰ Every Monday at 10:00 a.m. \nLooking for some lighthearted fun to start your week? Join us for recreational bowling—no league\, no pressure\, just fun! \n\n\nWe bowl 2–3 strings\, depending on turnout. \n\n\nWrap-up between 11:00 a.m. and noon. \n\n\nOnly $3 per string ($6–$9 per morning). \n\n\nBowling shoes and balls provided at no cost. \n\n\nAll are welcome—no experience needed! \n\n\n👉 Come out\, get moving\, and have a ball!
URL:https://harveyruralcommunity.ca/event/recreational-bowling/2027-04-26/
END:VEVENT
BEGIN:VEVENT
DTSTART;TZID=America/Halifax:20270503T100000
DTEND;TZID=America/Halifax:20270503T120000
DTSTAMP:20260425T154014
CREATED:20250910T124324Z
LAST-MODIFIED:20250910T124324Z
UID:10007929-1809338400-1809345600@harveyruralcommunity.ca
SUMMARY:Recreational Bowling
DESCRIPTION:🎳 Monday Morning Bowling📍 Harvey Memorial Community Centre⏰ Every Monday at 10:00 a.m. \nLooking for some lighthearted fun to start your week? Join us for recreational bowling—no league\, no pressure\, just fun! \n\n\nWe bowl 2–3 strings\, depending on turnout. \n\n\nWrap-up between 11:00 a.m. and noon. \n\n\nOnly $3 per string ($6–$9 per morning). \n\n\nBowling shoes and balls provided at no cost. \n\n\nAll are welcome—no experience needed! \n\n\n👉 Come out\, get moving\, and have a ball!
URL:https://harveyruralcommunity.ca/event/recreational-bowling/2027-05-03/
END:VEVENT
BEGIN:VEVENT
DTSTART;TZID=America/Halifax:20270510T100000
DTEND;TZID=America/Halifax:20270510T120000
DTSTAMP:20260425T154014
CREATED:20250910T124324Z
LAST-MODIFIED:20250910T124324Z
UID:10007930-1809943200-1809950400@harveyruralcommunity.ca
SUMMARY:Recreational Bowling
DESCRIPTION:🎳 Monday Morning Bowling📍 Harvey Memorial Community Centre⏰ Every Monday at 10:00 a.m. \nLooking for some lighthearted fun to start your week? Join us for recreational bowling—no league\, no pressure\, just fun! \n\n\nWe bowl 2–3 strings\, depending on turnout. \n\n\nWrap-up between 11:00 a.m. and noon. \n\n\nOnly $3 per string ($6–$9 per morning). \n\n\nBowling shoes and balls provided at no cost. \n\n\nAll are welcome—no experience needed! \n\n\n👉 Come out\, get moving\, and have a ball!
URL:https://harveyruralcommunity.ca/event/recreational-bowling/2027-05-10/
END:VEVENT
BEGIN:VEVENT
DTSTART;TZID=America/Halifax:20270517T100000
DTEND;TZID=America/Halifax:20270517T120000
DTSTAMP:20260425T154014
CREATED:20250910T124324Z
LAST-MODIFIED:20250910T124324Z
UID:10007931-1810548000-1810555200@harveyruralcommunity.ca
SUMMARY:Recreational Bowling
DESCRIPTION:🎳 Monday Morning Bowling📍 Harvey Memorial Community Centre⏰ Every Monday at 10:00 a.m. \nLooking for some lighthearted fun to start your week? Join us for recreational bowling—no league\, no pressure\, just fun! \n\n\nWe bowl 2–3 strings\, depending on turnout. \n\n\nWrap-up between 11:00 a.m. and noon. \n\n\nOnly $3 per string ($6–$9 per morning). \n\n\nBowling shoes and balls provided at no cost. \n\n\nAll are welcome—no experience needed! \n\n\n👉 Come out\, get moving\, and have a ball!
URL:https://harveyruralcommunity.ca/event/recreational-bowling/2027-05-17/
END:VEVENT
BEGIN:VEVENT
DTSTART;TZID=America/Halifax:20270524T100000
DTEND;TZID=America/Halifax:20270524T120000
DTSTAMP:20260425T154014
CREATED:20250910T124324Z
LAST-MODIFIED:20250910T124324Z
UID:10007932-1811152800-1811160000@harveyruralcommunity.ca
SUMMARY:Recreational Bowling
DESCRIPTION:🎳 Monday Morning Bowling📍 Harvey Memorial Community Centre⏰ Every Monday at 10:00 a.m. \nLooking for some lighthearted fun to start your week? Join us for recreational bowling—no league\, no pressure\, just fun! \n\n\nWe bowl 2–3 strings\, depending on turnout. \n\n\nWrap-up between 11:00 a.m. and noon. \n\n\nOnly $3 per string ($6–$9 per morning). \n\n\nBowling shoes and balls provided at no cost. \n\n\nAll are welcome—no experience needed! \n\n\n👉 Come out\, get moving\, and have a ball!
URL:https://harveyruralcommunity.ca/event/recreational-bowling/2027-05-24/
END:VEVENT
BEGIN:VEVENT
DTSTART;TZID=America/Halifax:20270531T100000
DTEND;TZID=America/Halifax:20270531T120000
DTSTAMP:20260425T154014
CREATED:20250910T124324Z
LAST-MODIFIED:20250910T124324Z
UID:10007933-1811757600-1811764800@harveyruralcommunity.ca
SUMMARY:Recreational Bowling
DESCRIPTION:🎳 Monday Morning Bowling📍 Harvey Memorial Community Centre⏰ Every Monday at 10:00 a.m. \nLooking for some lighthearted fun to start your week? Join us for recreational bowling—no league\, no pressure\, just fun! \n\n\nWe bowl 2–3 strings\, depending on turnout. \n\n\nWrap-up between 11:00 a.m. and noon. \n\n\nOnly $3 per string ($6–$9 per morning). \n\n\nBowling shoes and balls provided at no cost. \n\n\nAll are welcome—no experience needed! \n\n\n👉 Come out\, get moving\, and have a ball!
URL:https://harveyruralcommunity.ca/event/recreational-bowling/2027-05-31/
END:VEVENT
BEGIN:VEVENT
DTSTART;TZID=America/Halifax:20270607T100000
DTEND;TZID=America/Halifax:20270607T120000
DTSTAMP:20260425T154014
CREATED:20250910T124324Z
LAST-MODIFIED:20250910T124324Z
UID:10007934-1812362400-1812369600@harveyruralcommunity.ca
SUMMARY:Recreational Bowling
DESCRIPTION:🎳 Monday Morning Bowling📍 Harvey Memorial Community Centre⏰ Every Monday at 10:00 a.m. \nLooking for some lighthearted fun to start your week? Join us for recreational bowling—no league\, no pressure\, just fun! \n\n\nWe bowl 2–3 strings\, depending on turnout. \n\n\nWrap-up between 11:00 a.m. and noon. \n\n\nOnly $3 per string ($6–$9 per morning). \n\n\nBowling shoes and balls provided at no cost. \n\n\nAll are welcome—no experience needed! \n\n\n👉 Come out\, get moving\, and have a ball!
URL:https://harveyruralcommunity.ca/event/recreational-bowling/2027-06-07/
END:VEVENT
BEGIN:VEVENT
DTSTART;TZID=America/Halifax:20270614T100000
DTEND;TZID=America/Halifax:20270614T120000
DTSTAMP:20260425T154014
CREATED:20250910T124324Z
LAST-MODIFIED:20250910T124324Z
UID:10007935-1812967200-1812974400@harveyruralcommunity.ca
SUMMARY:Recreational Bowling
DESCRIPTION:🎳 Monday Morning Bowling📍 Harvey Memorial Community Centre⏰ Every Monday at 10:00 a.m. \nLooking for some lighthearted fun to start your week? Join us for recreational bowling—no league\, no pressure\, just fun! \n\n\nWe bowl 2–3 strings\, depending on turnout. \n\n\nWrap-up between 11:00 a.m. and noon. \n\n\nOnly $3 per string ($6–$9 per morning). \n\n\nBowling shoes and balls provided at no cost. \n\n\nAll are welcome—no experience needed! \n\n\n👉 Come out\, get moving\, and have a ball!
URL:https://harveyruralcommunity.ca/event/recreational-bowling/2027-06-14/
END:VEVENT
BEGIN:VEVENT
DTSTART;TZID=America/Halifax:20270621T100000
DTEND;TZID=America/Halifax:20270621T120000
DTSTAMP:20260425T154014
CREATED:20250910T124324Z
LAST-MODIFIED:20250910T124324Z
UID:10007936-1813572000-1813579200@harveyruralcommunity.ca
SUMMARY:Recreational Bowling
DESCRIPTION:🎳 Monday Morning Bowling📍 Harvey Memorial Community Centre⏰ Every Monday at 10:00 a.m. \nLooking for some lighthearted fun to start your week? Join us for recreational bowling—no league\, no pressure\, just fun! \n\n\nWe bowl 2–3 strings\, depending on turnout. \n\n\nWrap-up between 11:00 a.m. and noon. \n\n\nOnly $3 per string ($6–$9 per morning). \n\n\nBowling shoes and balls provided at no cost. \n\n\nAll are welcome—no experience needed! \n\n\n👉 Come out\, get moving\, and have a ball!
URL:https://harveyruralcommunity.ca/event/recreational-bowling/2027-06-21/
END:VEVENT
END:VCALENDAR