BEGIN:VCALENDAR
VERSION:2.0
PRODID:-//Harvey Rural Community - ECPv6.6.1//NONSGML v1.0//EN
CALSCALE:GREGORIAN
METHOD:PUBLISH
X-WR-CALNAME:Harvey Rural Community
X-ORIGINAL-URL:https://harveyruralcommunity.ca
X-WR-CALDESC:Events for Harvey Rural Community
BEGIN:VTIMEZONE
TZID:America/Halifax
BEGIN:DAYLIGHT
TZOFFSETFROM:-0400
TZOFFSETTO:-0300
TZNAME:ADT
DTSTART:20270314T060000
END:DAYLIGHT
BEGIN:STANDARD
TZOFFSETFROM:-0300
TZOFFSETTO:-0400
TZNAME:AST
DTSTART:20271107T050000
END:STANDARD
END:VTIMEZONE
BEGIN:VEVENT
DTSTART;TZID=America/Halifax:20270325T130000
DTEND;TZID=America/Halifax:20270325T130000
DTSTAMP:20260419T111315
CREATED:20230614T163857Z
LAST-MODIFIED:20230614T171232Z
UID:10002910-1805979600-1805979600@harveyruralcommunity.ca
SUMMARY:Cards at Prince William Hall
DESCRIPTION:Pop in to Prince William Hall at 1 pm on Thursdays for a game of 45s!
URL:https://harveyruralcommunity.ca/event/cards-at-prince-william-hall/2027-03-25/
LOCATION:Prince William Hall\, 6662 Route 102\, Prince William
CATEGORIES:Games
ATTACH;FMTTYPE=image/jpeg:https://harveyruralcommunity.ca/wp-content/uploads/2023/06/deck-of-cards.jpeg
END:VEVENT
BEGIN:VEVENT
DTSTART;TZID=America/Halifax:20270401T130000
DTEND;TZID=America/Halifax:20270401T130000
DTSTAMP:20260419T111315
CREATED:20230614T163857Z
LAST-MODIFIED:20230614T171232Z
UID:10002911-1806584400-1806584400@harveyruralcommunity.ca
SUMMARY:Cards at Prince William Hall
DESCRIPTION:Pop in to Prince William Hall at 1 pm on Thursdays for a game of 45s!
URL:https://harveyruralcommunity.ca/event/cards-at-prince-william-hall/2027-04-01/
LOCATION:Prince William Hall\, 6662 Route 102\, Prince William
CATEGORIES:Games
ATTACH;FMTTYPE=image/jpeg:https://harveyruralcommunity.ca/wp-content/uploads/2023/06/deck-of-cards.jpeg
END:VEVENT
BEGIN:VEVENT
DTSTART;TZID=America/Halifax:20270408T130000
DTEND;TZID=America/Halifax:20270408T130000
DTSTAMP:20260419T111315
CREATED:20230614T163857Z
LAST-MODIFIED:20230614T171232Z
UID:10002912-1807189200-1807189200@harveyruralcommunity.ca
SUMMARY:Cards at Prince William Hall
DESCRIPTION:Pop in to Prince William Hall at 1 pm on Thursdays for a game of 45s!
URL:https://harveyruralcommunity.ca/event/cards-at-prince-william-hall/2027-04-08/
LOCATION:Prince William Hall\, 6662 Route 102\, Prince William
CATEGORIES:Games
ATTACH;FMTTYPE=image/jpeg:https://harveyruralcommunity.ca/wp-content/uploads/2023/06/deck-of-cards.jpeg
END:VEVENT
BEGIN:VEVENT
DTSTART;TZID=America/Halifax:20270415T130000
DTEND;TZID=America/Halifax:20270415T130000
DTSTAMP:20260419T111315
CREATED:20230614T163857Z
LAST-MODIFIED:20230614T171232Z
UID:10002913-1807794000-1807794000@harveyruralcommunity.ca
SUMMARY:Cards at Prince William Hall
DESCRIPTION:Pop in to Prince William Hall at 1 pm on Thursdays for a game of 45s!
URL:https://harveyruralcommunity.ca/event/cards-at-prince-william-hall/2027-04-15/
LOCATION:Prince William Hall\, 6662 Route 102\, Prince William
CATEGORIES:Games
ATTACH;FMTTYPE=image/jpeg:https://harveyruralcommunity.ca/wp-content/uploads/2023/06/deck-of-cards.jpeg
END:VEVENT
BEGIN:VEVENT
DTSTART;TZID=America/Halifax:20270422T130000
DTEND;TZID=America/Halifax:20270422T130000
DTSTAMP:20260419T111315
CREATED:20230614T163857Z
LAST-MODIFIED:20230614T171232Z
UID:10002914-1808398800-1808398800@harveyruralcommunity.ca
SUMMARY:Cards at Prince William Hall
DESCRIPTION:Pop in to Prince William Hall at 1 pm on Thursdays for a game of 45s!
URL:https://harveyruralcommunity.ca/event/cards-at-prince-william-hall/2027-04-22/
LOCATION:Prince William Hall\, 6662 Route 102\, Prince William
CATEGORIES:Games
ATTACH;FMTTYPE=image/jpeg:https://harveyruralcommunity.ca/wp-content/uploads/2023/06/deck-of-cards.jpeg
END:VEVENT
BEGIN:VEVENT
DTSTART;TZID=America/Halifax:20270429T130000
DTEND;TZID=America/Halifax:20270429T130000
DTSTAMP:20260419T111315
CREATED:20230614T163857Z
LAST-MODIFIED:20230614T171232Z
UID:10002915-1809003600-1809003600@harveyruralcommunity.ca
SUMMARY:Cards at Prince William Hall
DESCRIPTION:Pop in to Prince William Hall at 1 pm on Thursdays for a game of 45s!
URL:https://harveyruralcommunity.ca/event/cards-at-prince-william-hall/2027-04-29/
LOCATION:Prince William Hall\, 6662 Route 102\, Prince William
CATEGORIES:Games
ATTACH;FMTTYPE=image/jpeg:https://harveyruralcommunity.ca/wp-content/uploads/2023/06/deck-of-cards.jpeg
END:VEVENT
BEGIN:VEVENT
DTSTART;TZID=America/Halifax:20270506T130000
DTEND;TZID=America/Halifax:20270506T130000
DTSTAMP:20260419T111315
CREATED:20230614T163857Z
LAST-MODIFIED:20230614T171232Z
UID:10002916-1809608400-1809608400@harveyruralcommunity.ca
SUMMARY:Cards at Prince William Hall
DESCRIPTION:Pop in to Prince William Hall at 1 pm on Thursdays for a game of 45s!
URL:https://harveyruralcommunity.ca/event/cards-at-prince-william-hall/2027-05-06/
LOCATION:Prince William Hall\, 6662 Route 102\, Prince William
CATEGORIES:Games
ATTACH;FMTTYPE=image/jpeg:https://harveyruralcommunity.ca/wp-content/uploads/2023/06/deck-of-cards.jpeg
END:VEVENT
BEGIN:VEVENT
DTSTART;TZID=America/Halifax:20270513T130000
DTEND;TZID=America/Halifax:20270513T130000
DTSTAMP:20260419T111315
CREATED:20230614T163857Z
LAST-MODIFIED:20230614T171232Z
UID:10002917-1810213200-1810213200@harveyruralcommunity.ca
SUMMARY:Cards at Prince William Hall
DESCRIPTION:Pop in to Prince William Hall at 1 pm on Thursdays for a game of 45s!
URL:https://harveyruralcommunity.ca/event/cards-at-prince-william-hall/2027-05-13/
LOCATION:Prince William Hall\, 6662 Route 102\, Prince William
CATEGORIES:Games
ATTACH;FMTTYPE=image/jpeg:https://harveyruralcommunity.ca/wp-content/uploads/2023/06/deck-of-cards.jpeg
END:VEVENT
BEGIN:VEVENT
DTSTART;TZID=America/Halifax:20270520T130000
DTEND;TZID=America/Halifax:20270520T130000
DTSTAMP:20260419T111315
CREATED:20230614T163857Z
LAST-MODIFIED:20230614T171232Z
UID:10002918-1810818000-1810818000@harveyruralcommunity.ca
SUMMARY:Cards at Prince William Hall
DESCRIPTION:Pop in to Prince William Hall at 1 pm on Thursdays for a game of 45s!
URL:https://harveyruralcommunity.ca/event/cards-at-prince-william-hall/2027-05-20/
LOCATION:Prince William Hall\, 6662 Route 102\, Prince William
CATEGORIES:Games
ATTACH;FMTTYPE=image/jpeg:https://harveyruralcommunity.ca/wp-content/uploads/2023/06/deck-of-cards.jpeg
END:VEVENT
BEGIN:VEVENT
DTSTART;TZID=America/Halifax:20270527T130000
DTEND;TZID=America/Halifax:20270527T130000
DTSTAMP:20260419T111315
CREATED:20230614T163857Z
LAST-MODIFIED:20230614T171232Z
UID:10002919-1811422800-1811422800@harveyruralcommunity.ca
SUMMARY:Cards at Prince William Hall
DESCRIPTION:Pop in to Prince William Hall at 1 pm on Thursdays for a game of 45s!
URL:https://harveyruralcommunity.ca/event/cards-at-prince-william-hall/2027-05-27/
LOCATION:Prince William Hall\, 6662 Route 102\, Prince William
CATEGORIES:Games
ATTACH;FMTTYPE=image/jpeg:https://harveyruralcommunity.ca/wp-content/uploads/2023/06/deck-of-cards.jpeg
END:VEVENT
BEGIN:VEVENT
DTSTART;TZID=America/Halifax:20270603T130000
DTEND;TZID=America/Halifax:20270603T130000
DTSTAMP:20260419T111315
CREATED:20230614T163857Z
LAST-MODIFIED:20230614T171232Z
UID:10002920-1812027600-1812027600@harveyruralcommunity.ca
SUMMARY:Cards at Prince William Hall
DESCRIPTION:Pop in to Prince William Hall at 1 pm on Thursdays for a game of 45s!
URL:https://harveyruralcommunity.ca/event/cards-at-prince-william-hall/2027-06-03/
LOCATION:Prince William Hall\, 6662 Route 102\, Prince William
CATEGORIES:Games
ATTACH;FMTTYPE=image/jpeg:https://harveyruralcommunity.ca/wp-content/uploads/2023/06/deck-of-cards.jpeg
END:VEVENT
BEGIN:VEVENT
DTSTART;TZID=America/Halifax:20270610T130000
DTEND;TZID=America/Halifax:20270610T130000
DTSTAMP:20260419T111315
CREATED:20230614T163857Z
LAST-MODIFIED:20230614T171232Z
UID:10002921-1812632400-1812632400@harveyruralcommunity.ca
SUMMARY:Cards at Prince William Hall
DESCRIPTION:Pop in to Prince William Hall at 1 pm on Thursdays for a game of 45s!
URL:https://harveyruralcommunity.ca/event/cards-at-prince-william-hall/2027-06-10/
LOCATION:Prince William Hall\, 6662 Route 102\, Prince William
CATEGORIES:Games
ATTACH;FMTTYPE=image/jpeg:https://harveyruralcommunity.ca/wp-content/uploads/2023/06/deck-of-cards.jpeg
END:VEVENT
BEGIN:VEVENT
DTSTART;TZID=America/Halifax:20270617T130000
DTEND;TZID=America/Halifax:20270617T130000
DTSTAMP:20260419T111315
CREATED:20230614T163857Z
LAST-MODIFIED:20230614T171232Z
UID:10002922-1813237200-1813237200@harveyruralcommunity.ca
SUMMARY:Cards at Prince William Hall
DESCRIPTION:Pop in to Prince William Hall at 1 pm on Thursdays for a game of 45s!
URL:https://harveyruralcommunity.ca/event/cards-at-prince-william-hall/2027-06-17/
LOCATION:Prince William Hall\, 6662 Route 102\, Prince William
CATEGORIES:Games
ATTACH;FMTTYPE=image/jpeg:https://harveyruralcommunity.ca/wp-content/uploads/2023/06/deck-of-cards.jpeg
END:VEVENT
BEGIN:VEVENT
DTSTART;TZID=America/Halifax:20270624T130000
DTEND;TZID=America/Halifax:20270624T130000
DTSTAMP:20260419T111315
CREATED:20230614T163857Z
LAST-MODIFIED:20230614T171232Z
UID:10002923-1813842000-1813842000@harveyruralcommunity.ca
SUMMARY:Cards at Prince William Hall
DESCRIPTION:Pop in to Prince William Hall at 1 pm on Thursdays for a game of 45s!
URL:https://harveyruralcommunity.ca/event/cards-at-prince-william-hall/2027-06-24/
LOCATION:Prince William Hall\, 6662 Route 102\, Prince William
CATEGORIES:Games
ATTACH;FMTTYPE=image/jpeg:https://harveyruralcommunity.ca/wp-content/uploads/2023/06/deck-of-cards.jpeg
END:VEVENT
BEGIN:VEVENT
DTSTART;TZID=America/Halifax:20270701T130000
DTEND;TZID=America/Halifax:20270701T130000
DTSTAMP:20260419T111315
CREATED:20230614T163857Z
LAST-MODIFIED:20230614T171232Z
UID:10002924-1814446800-1814446800@harveyruralcommunity.ca
SUMMARY:Cards at Prince William Hall
DESCRIPTION:Pop in to Prince William Hall at 1 pm on Thursdays for a game of 45s!
URL:https://harveyruralcommunity.ca/event/cards-at-prince-william-hall/2027-07-01/
LOCATION:Prince William Hall\, 6662 Route 102\, Prince William
CATEGORIES:Games
ATTACH;FMTTYPE=image/jpeg:https://harveyruralcommunity.ca/wp-content/uploads/2023/06/deck-of-cards.jpeg
END:VEVENT
BEGIN:VEVENT
DTSTART;TZID=America/Halifax:20270708T130000
DTEND;TZID=America/Halifax:20270708T130000
DTSTAMP:20260419T111315
CREATED:20230614T163857Z
LAST-MODIFIED:20230614T171232Z
UID:10002925-1815051600-1815051600@harveyruralcommunity.ca
SUMMARY:Cards at Prince William Hall
DESCRIPTION:Pop in to Prince William Hall at 1 pm on Thursdays for a game of 45s!
URL:https://harveyruralcommunity.ca/event/cards-at-prince-william-hall/2027-07-08/
LOCATION:Prince William Hall\, 6662 Route 102\, Prince William
CATEGORIES:Games
ATTACH;FMTTYPE=image/jpeg:https://harveyruralcommunity.ca/wp-content/uploads/2023/06/deck-of-cards.jpeg
END:VEVENT
BEGIN:VEVENT
DTSTART;TZID=America/Halifax:20270715T130000
DTEND;TZID=America/Halifax:20270715T130000
DTSTAMP:20260419T111315
CREATED:20230614T163857Z
LAST-MODIFIED:20230614T171232Z
UID:10002926-1815656400-1815656400@harveyruralcommunity.ca
SUMMARY:Cards at Prince William Hall
DESCRIPTION:Pop in to Prince William Hall at 1 pm on Thursdays for a game of 45s!
URL:https://harveyruralcommunity.ca/event/cards-at-prince-william-hall/2027-07-15/
LOCATION:Prince William Hall\, 6662 Route 102\, Prince William
CATEGORIES:Games
ATTACH;FMTTYPE=image/jpeg:https://harveyruralcommunity.ca/wp-content/uploads/2023/06/deck-of-cards.jpeg
END:VEVENT
BEGIN:VEVENT
DTSTART;TZID=America/Halifax:20270722T130000
DTEND;TZID=America/Halifax:20270722T130000
DTSTAMP:20260419T111315
CREATED:20230614T163857Z
LAST-MODIFIED:20230614T171232Z
UID:10002927-1816261200-1816261200@harveyruralcommunity.ca
SUMMARY:Cards at Prince William Hall
DESCRIPTION:Pop in to Prince William Hall at 1 pm on Thursdays for a game of 45s!
URL:https://harveyruralcommunity.ca/event/cards-at-prince-william-hall/2027-07-22/
LOCATION:Prince William Hall\, 6662 Route 102\, Prince William
CATEGORIES:Games
ATTACH;FMTTYPE=image/jpeg:https://harveyruralcommunity.ca/wp-content/uploads/2023/06/deck-of-cards.jpeg
END:VEVENT
BEGIN:VEVENT
DTSTART;TZID=America/Halifax:20270729T130000
DTEND;TZID=America/Halifax:20270729T130000
DTSTAMP:20260419T111315
CREATED:20230614T163857Z
LAST-MODIFIED:20230614T171232Z
UID:10002928-1816866000-1816866000@harveyruralcommunity.ca
SUMMARY:Cards at Prince William Hall
DESCRIPTION:Pop in to Prince William Hall at 1 pm on Thursdays for a game of 45s!
URL:https://harveyruralcommunity.ca/event/cards-at-prince-william-hall/2027-07-29/
LOCATION:Prince William Hall\, 6662 Route 102\, Prince William
CATEGORIES:Games
ATTACH;FMTTYPE=image/jpeg:https://harveyruralcommunity.ca/wp-content/uploads/2023/06/deck-of-cards.jpeg
END:VEVENT
BEGIN:VEVENT
DTSTART;TZID=America/Halifax:20270805T130000
DTEND;TZID=America/Halifax:20270805T130000
DTSTAMP:20260419T111315
CREATED:20230614T163857Z
LAST-MODIFIED:20230614T171232Z
UID:10002929-1817470800-1817470800@harveyruralcommunity.ca
SUMMARY:Cards at Prince William Hall
DESCRIPTION:Pop in to Prince William Hall at 1 pm on Thursdays for a game of 45s!
URL:https://harveyruralcommunity.ca/event/cards-at-prince-william-hall/2027-08-05/
LOCATION:Prince William Hall\, 6662 Route 102\, Prince William
CATEGORIES:Games
ATTACH;FMTTYPE=image/jpeg:https://harveyruralcommunity.ca/wp-content/uploads/2023/06/deck-of-cards.jpeg
END:VEVENT
BEGIN:VEVENT
DTSTART;TZID=America/Halifax:20270812T130000
DTEND;TZID=America/Halifax:20270812T130000
DTSTAMP:20260419T111315
CREATED:20230614T163857Z
LAST-MODIFIED:20230614T171232Z
UID:10002930-1818075600-1818075600@harveyruralcommunity.ca
SUMMARY:Cards at Prince William Hall
DESCRIPTION:Pop in to Prince William Hall at 1 pm on Thursdays for a game of 45s!
URL:https://harveyruralcommunity.ca/event/cards-at-prince-william-hall/2027-08-12/
LOCATION:Prince William Hall\, 6662 Route 102\, Prince William
CATEGORIES:Games
ATTACH;FMTTYPE=image/jpeg:https://harveyruralcommunity.ca/wp-content/uploads/2023/06/deck-of-cards.jpeg
END:VEVENT
BEGIN:VEVENT
DTSTART;TZID=America/Halifax:20270819T130000
DTEND;TZID=America/Halifax:20270819T130000
DTSTAMP:20260419T111315
CREATED:20230614T163857Z
LAST-MODIFIED:20230614T171232Z
UID:10002931-1818680400-1818680400@harveyruralcommunity.ca
SUMMARY:Cards at Prince William Hall
DESCRIPTION:Pop in to Prince William Hall at 1 pm on Thursdays for a game of 45s!
URL:https://harveyruralcommunity.ca/event/cards-at-prince-william-hall/2027-08-19/
LOCATION:Prince William Hall\, 6662 Route 102\, Prince William
CATEGORIES:Games
ATTACH;FMTTYPE=image/jpeg:https://harveyruralcommunity.ca/wp-content/uploads/2023/06/deck-of-cards.jpeg
END:VEVENT
BEGIN:VEVENT
DTSTART;TZID=America/Halifax:20270826T130000
DTEND;TZID=America/Halifax:20270826T130000
DTSTAMP:20260419T111315
CREATED:20230614T163857Z
LAST-MODIFIED:20230614T171232Z
UID:10002932-1819285200-1819285200@harveyruralcommunity.ca
SUMMARY:Cards at Prince William Hall
DESCRIPTION:Pop in to Prince William Hall at 1 pm on Thursdays for a game of 45s!
URL:https://harveyruralcommunity.ca/event/cards-at-prince-william-hall/2027-08-26/
LOCATION:Prince William Hall\, 6662 Route 102\, Prince William
CATEGORIES:Games
ATTACH;FMTTYPE=image/jpeg:https://harveyruralcommunity.ca/wp-content/uploads/2023/06/deck-of-cards.jpeg
END:VEVENT
BEGIN:VEVENT
DTSTART;TZID=America/Halifax:20270902T130000
DTEND;TZID=America/Halifax:20270902T130000
DTSTAMP:20260419T111315
CREATED:20230614T163857Z
LAST-MODIFIED:20230614T171232Z
UID:10002933-1819890000-1819890000@harveyruralcommunity.ca
SUMMARY:Cards at Prince William Hall
DESCRIPTION:Pop in to Prince William Hall at 1 pm on Thursdays for a game of 45s!
URL:https://harveyruralcommunity.ca/event/cards-at-prince-william-hall/2027-09-02/
LOCATION:Prince William Hall\, 6662 Route 102\, Prince William
CATEGORIES:Games
ATTACH;FMTTYPE=image/jpeg:https://harveyruralcommunity.ca/wp-content/uploads/2023/06/deck-of-cards.jpeg
END:VEVENT
BEGIN:VEVENT
DTSTART;TZID=America/Halifax:20270909T130000
DTEND;TZID=America/Halifax:20270909T130000
DTSTAMP:20260419T111315
CREATED:20230614T163857Z
LAST-MODIFIED:20230614T171232Z
UID:10002934-1820494800-1820494800@harveyruralcommunity.ca
SUMMARY:Cards at Prince William Hall
DESCRIPTION:Pop in to Prince William Hall at 1 pm on Thursdays for a game of 45s!
URL:https://harveyruralcommunity.ca/event/cards-at-prince-william-hall/2027-09-09/
LOCATION:Prince William Hall\, 6662 Route 102\, Prince William
CATEGORIES:Games
ATTACH;FMTTYPE=image/jpeg:https://harveyruralcommunity.ca/wp-content/uploads/2023/06/deck-of-cards.jpeg
END:VEVENT
BEGIN:VEVENT
DTSTART;TZID=America/Halifax:20270916T130000
DTEND;TZID=America/Halifax:20270916T130000
DTSTAMP:20260419T111315
CREATED:20230614T163857Z
LAST-MODIFIED:20230614T171232Z
UID:10002935-1821099600-1821099600@harveyruralcommunity.ca
SUMMARY:Cards at Prince William Hall
DESCRIPTION:Pop in to Prince William Hall at 1 pm on Thursdays for a game of 45s!
URL:https://harveyruralcommunity.ca/event/cards-at-prince-william-hall/2027-09-16/
LOCATION:Prince William Hall\, 6662 Route 102\, Prince William
CATEGORIES:Games
ATTACH;FMTTYPE=image/jpeg:https://harveyruralcommunity.ca/wp-content/uploads/2023/06/deck-of-cards.jpeg
END:VEVENT
BEGIN:VEVENT
DTSTART;TZID=America/Halifax:20270923T130000
DTEND;TZID=America/Halifax:20270923T130000
DTSTAMP:20260419T111315
CREATED:20230614T163857Z
LAST-MODIFIED:20230614T171232Z
UID:10002936-1821704400-1821704400@harveyruralcommunity.ca
SUMMARY:Cards at Prince William Hall
DESCRIPTION:Pop in to Prince William Hall at 1 pm on Thursdays for a game of 45s!
URL:https://harveyruralcommunity.ca/event/cards-at-prince-william-hall/2027-09-23/
LOCATION:Prince William Hall\, 6662 Route 102\, Prince William
CATEGORIES:Games
ATTACH;FMTTYPE=image/jpeg:https://harveyruralcommunity.ca/wp-content/uploads/2023/06/deck-of-cards.jpeg
END:VEVENT
BEGIN:VEVENT
DTSTART;TZID=America/Halifax:20270930T130000
DTEND;TZID=America/Halifax:20270930T130000
DTSTAMP:20260419T111315
CREATED:20230614T163857Z
LAST-MODIFIED:20230614T171232Z
UID:10002937-1822309200-1822309200@harveyruralcommunity.ca
SUMMARY:Cards at Prince William Hall
DESCRIPTION:Pop in to Prince William Hall at 1 pm on Thursdays for a game of 45s!
URL:https://harveyruralcommunity.ca/event/cards-at-prince-william-hall/2027-09-30/
LOCATION:Prince William Hall\, 6662 Route 102\, Prince William
CATEGORIES:Games
ATTACH;FMTTYPE=image/jpeg:https://harveyruralcommunity.ca/wp-content/uploads/2023/06/deck-of-cards.jpeg
END:VEVENT
BEGIN:VEVENT
DTSTART;TZID=America/Halifax:20271007T130000
DTEND;TZID=America/Halifax:20271007T130000
DTSTAMP:20260419T111315
CREATED:20230614T163857Z
LAST-MODIFIED:20230614T171232Z
UID:10002938-1822914000-1822914000@harveyruralcommunity.ca
SUMMARY:Cards at Prince William Hall
DESCRIPTION:Pop in to Prince William Hall at 1 pm on Thursdays for a game of 45s!
URL:https://harveyruralcommunity.ca/event/cards-at-prince-william-hall/2027-10-07/
LOCATION:Prince William Hall\, 6662 Route 102\, Prince William
CATEGORIES:Games
ATTACH;FMTTYPE=image/jpeg:https://harveyruralcommunity.ca/wp-content/uploads/2023/06/deck-of-cards.jpeg
END:VEVENT
BEGIN:VEVENT
DTSTART;TZID=America/Halifax:20271014T130000
DTEND;TZID=America/Halifax:20271014T130000
DTSTAMP:20260419T111315
CREATED:20230614T163857Z
LAST-MODIFIED:20230614T171232Z
UID:10002939-1823518800-1823518800@harveyruralcommunity.ca
SUMMARY:Cards at Prince William Hall
DESCRIPTION:Pop in to Prince William Hall at 1 pm on Thursdays for a game of 45s!
URL:https://harveyruralcommunity.ca/event/cards-at-prince-william-hall/2027-10-14/
LOCATION:Prince William Hall\, 6662 Route 102\, Prince William
CATEGORIES:Games
ATTACH;FMTTYPE=image/jpeg:https://harveyruralcommunity.ca/wp-content/uploads/2023/06/deck-of-cards.jpeg
END:VEVENT
END:VCALENDAR