BEGIN:VCALENDAR
VERSION:2.0
PRODID:-//Harvey Rural Community - ECPv6.6.1//NONSGML v1.0//EN
CALSCALE:GREGORIAN
METHOD:PUBLISH
X-WR-CALNAME:Harvey Rural Community
X-ORIGINAL-URL:https://harveyruralcommunity.ca
X-WR-CALDESC:Events for Harvey Rural Community
BEGIN:VTIMEZONE
TZID:America/Halifax
BEGIN:DAYLIGHT
TZOFFSETFROM:-0400
TZOFFSETTO:-0300
TZNAME:ADT
DTSTART:20260308T060000
END:DAYLIGHT
BEGIN:STANDARD
TZOFFSETFROM:-0300
TZOFFSETTO:-0400
TZNAME:AST
DTSTART:20261101T050000
END:STANDARD
BEGIN:DAYLIGHT
TZOFFSETFROM:-0400
TZOFFSETTO:-0300
TZNAME:ADT
DTSTART:20270314T060000
END:DAYLIGHT
BEGIN:STANDARD
TZOFFSETFROM:-0300
TZOFFSETTO:-0400
TZNAME:AST
DTSTART:20271107T050000
END:STANDARD
END:VTIMEZONE
BEGIN:VEVENT
DTSTART;TZID=America/Halifax:20261007T190000
DTEND;TZID=America/Halifax:20261007T200000
DTSTAMP:20260422T035510
CREATED:20240812T174216Z
LAST-MODIFIED:20240814T132356Z
UID:10006091-1791399600-1791403200@harveyruralcommunity.ca
SUMMARY:Harvey HIIT Class
DESCRIPTION:Join us for an invigorating high-intensity interval training (HIIT) class from 7-8PM at the HMCC.
URL:https://harveyruralcommunity.ca/event/harvey-hiit-class-2/2026-10-07/
LOCATION:Harvey Memorial Community Centre\, 58 Hanselpacker St\, Harvey Station\, NB E6K 1A3\, Canada
END:VEVENT
BEGIN:VEVENT
DTSTART;TZID=America/Halifax:20261012T190000
DTEND;TZID=America/Halifax:20261012T200000
DTSTAMP:20260422T035510
CREATED:20240812T174216Z
LAST-MODIFIED:20240814T132356Z
UID:10006092-1791831600-1791835200@harveyruralcommunity.ca
SUMMARY:Harvey HIIT Class
DESCRIPTION:Join us for an invigorating high-intensity interval training (HIIT) class from 7-8PM at the HMCC.
URL:https://harveyruralcommunity.ca/event/harvey-hiit-class-2/2026-10-12/
LOCATION:Harvey Memorial Community Centre\, 58 Hanselpacker St\, Harvey Station\, NB E6K 1A3\, Canada
END:VEVENT
BEGIN:VEVENT
DTSTART;TZID=America/Halifax:20261014T190000
DTEND;TZID=America/Halifax:20261014T200000
DTSTAMP:20260422T035510
CREATED:20240812T174216Z
LAST-MODIFIED:20240814T132356Z
UID:10006093-1792004400-1792008000@harveyruralcommunity.ca
SUMMARY:Harvey HIIT Class
DESCRIPTION:Join us for an invigorating high-intensity interval training (HIIT) class from 7-8PM at the HMCC.
URL:https://harveyruralcommunity.ca/event/harvey-hiit-class-2/2026-10-14/
LOCATION:Harvey Memorial Community Centre\, 58 Hanselpacker St\, Harvey Station\, NB E6K 1A3\, Canada
END:VEVENT
BEGIN:VEVENT
DTSTART;TZID=America/Halifax:20261019T190000
DTEND;TZID=America/Halifax:20261019T200000
DTSTAMP:20260422T035510
CREATED:20240812T174216Z
LAST-MODIFIED:20240814T132356Z
UID:10006094-1792436400-1792440000@harveyruralcommunity.ca
SUMMARY:Harvey HIIT Class
DESCRIPTION:Join us for an invigorating high-intensity interval training (HIIT) class from 7-8PM at the HMCC.
URL:https://harveyruralcommunity.ca/event/harvey-hiit-class-2/2026-10-19/
LOCATION:Harvey Memorial Community Centre\, 58 Hanselpacker St\, Harvey Station\, NB E6K 1A3\, Canada
END:VEVENT
BEGIN:VEVENT
DTSTART;TZID=America/Halifax:20261021T190000
DTEND;TZID=America/Halifax:20261021T200000
DTSTAMP:20260422T035510
CREATED:20240812T174216Z
LAST-MODIFIED:20240814T132356Z
UID:10006095-1792609200-1792612800@harveyruralcommunity.ca
SUMMARY:Harvey HIIT Class
DESCRIPTION:Join us for an invigorating high-intensity interval training (HIIT) class from 7-8PM at the HMCC.
URL:https://harveyruralcommunity.ca/event/harvey-hiit-class-2/2026-10-21/
LOCATION:Harvey Memorial Community Centre\, 58 Hanselpacker St\, Harvey Station\, NB E6K 1A3\, Canada
END:VEVENT
BEGIN:VEVENT
DTSTART;TZID=America/Halifax:20261026T190000
DTEND;TZID=America/Halifax:20261026T200000
DTSTAMP:20260422T035510
CREATED:20240812T174216Z
LAST-MODIFIED:20240814T132356Z
UID:10006096-1793041200-1793044800@harveyruralcommunity.ca
SUMMARY:Harvey HIIT Class
DESCRIPTION:Join us for an invigorating high-intensity interval training (HIIT) class from 7-8PM at the HMCC.
URL:https://harveyruralcommunity.ca/event/harvey-hiit-class-2/2026-10-26/
LOCATION:Harvey Memorial Community Centre\, 58 Hanselpacker St\, Harvey Station\, NB E6K 1A3\, Canada
END:VEVENT
BEGIN:VEVENT
DTSTART;TZID=America/Halifax:20261028T190000
DTEND;TZID=America/Halifax:20261028T200000
DTSTAMP:20260422T035510
CREATED:20240812T174216Z
LAST-MODIFIED:20240814T132356Z
UID:10006097-1793214000-1793217600@harveyruralcommunity.ca
SUMMARY:Harvey HIIT Class
DESCRIPTION:Join us for an invigorating high-intensity interval training (HIIT) class from 7-8PM at the HMCC.
URL:https://harveyruralcommunity.ca/event/harvey-hiit-class-2/2026-10-28/
LOCATION:Harvey Memorial Community Centre\, 58 Hanselpacker St\, Harvey Station\, NB E6K 1A3\, Canada
END:VEVENT
BEGIN:VEVENT
DTSTART;TZID=America/Halifax:20261102T190000
DTEND;TZID=America/Halifax:20261102T200000
DTSTAMP:20260422T035510
CREATED:20240812T174216Z
LAST-MODIFIED:20240814T132356Z
UID:10006098-1793646000-1793649600@harveyruralcommunity.ca
SUMMARY:Harvey HIIT Class
DESCRIPTION:Join us for an invigorating high-intensity interval training (HIIT) class from 7-8PM at the HMCC.
URL:https://harveyruralcommunity.ca/event/harvey-hiit-class-2/2026-11-02/
LOCATION:Harvey Memorial Community Centre\, 58 Hanselpacker St\, Harvey Station\, NB E6K 1A3\, Canada
END:VEVENT
BEGIN:VEVENT
DTSTART;TZID=America/Halifax:20261104T190000
DTEND;TZID=America/Halifax:20261104T200000
DTSTAMP:20260422T035510
CREATED:20240812T174216Z
LAST-MODIFIED:20240814T132356Z
UID:10006099-1793818800-1793822400@harveyruralcommunity.ca
SUMMARY:Harvey HIIT Class
DESCRIPTION:Join us for an invigorating high-intensity interval training (HIIT) class from 7-8PM at the HMCC.
URL:https://harveyruralcommunity.ca/event/harvey-hiit-class-2/2026-11-04/
LOCATION:Harvey Memorial Community Centre\, 58 Hanselpacker St\, Harvey Station\, NB E6K 1A3\, Canada
END:VEVENT
BEGIN:VEVENT
DTSTART;TZID=America/Halifax:20261109T190000
DTEND;TZID=America/Halifax:20261109T200000
DTSTAMP:20260422T035510
CREATED:20240812T174216Z
LAST-MODIFIED:20240814T132356Z
UID:10006100-1794250800-1794254400@harveyruralcommunity.ca
SUMMARY:Harvey HIIT Class
DESCRIPTION:Join us for an invigorating high-intensity interval training (HIIT) class from 7-8PM at the HMCC.
URL:https://harveyruralcommunity.ca/event/harvey-hiit-class-2/2026-11-09/
LOCATION:Harvey Memorial Community Centre\, 58 Hanselpacker St\, Harvey Station\, NB E6K 1A3\, Canada
END:VEVENT
BEGIN:VEVENT
DTSTART;TZID=America/Halifax:20261111T190000
DTEND;TZID=America/Halifax:20261111T200000
DTSTAMP:20260422T035510
CREATED:20240812T174216Z
LAST-MODIFIED:20240814T132356Z
UID:10006101-1794423600-1794427200@harveyruralcommunity.ca
SUMMARY:Harvey HIIT Class
DESCRIPTION:Join us for an invigorating high-intensity interval training (HIIT) class from 7-8PM at the HMCC.
URL:https://harveyruralcommunity.ca/event/harvey-hiit-class-2/2026-11-11/
LOCATION:Harvey Memorial Community Centre\, 58 Hanselpacker St\, Harvey Station\, NB E6K 1A3\, Canada
END:VEVENT
BEGIN:VEVENT
DTSTART;TZID=America/Halifax:20261116T190000
DTEND;TZID=America/Halifax:20261116T200000
DTSTAMP:20260422T035510
CREATED:20240812T174216Z
LAST-MODIFIED:20240814T132356Z
UID:10006102-1794855600-1794859200@harveyruralcommunity.ca
SUMMARY:Harvey HIIT Class
DESCRIPTION:Join us for an invigorating high-intensity interval training (HIIT) class from 7-8PM at the HMCC.
URL:https://harveyruralcommunity.ca/event/harvey-hiit-class-2/2026-11-16/
LOCATION:Harvey Memorial Community Centre\, 58 Hanselpacker St\, Harvey Station\, NB E6K 1A3\, Canada
END:VEVENT
BEGIN:VEVENT
DTSTART;TZID=America/Halifax:20261118T190000
DTEND;TZID=America/Halifax:20261118T200000
DTSTAMP:20260422T035510
CREATED:20240812T174216Z
LAST-MODIFIED:20240814T132356Z
UID:10006103-1795028400-1795032000@harveyruralcommunity.ca
SUMMARY:Harvey HIIT Class
DESCRIPTION:Join us for an invigorating high-intensity interval training (HIIT) class from 7-8PM at the HMCC.
URL:https://harveyruralcommunity.ca/event/harvey-hiit-class-2/2026-11-18/
LOCATION:Harvey Memorial Community Centre\, 58 Hanselpacker St\, Harvey Station\, NB E6K 1A3\, Canada
END:VEVENT
BEGIN:VEVENT
DTSTART;TZID=America/Halifax:20261123T190000
DTEND;TZID=America/Halifax:20261123T200000
DTSTAMP:20260422T035510
CREATED:20240812T174216Z
LAST-MODIFIED:20240814T132356Z
UID:10006104-1795460400-1795464000@harveyruralcommunity.ca
SUMMARY:Harvey HIIT Class
DESCRIPTION:Join us for an invigorating high-intensity interval training (HIIT) class from 7-8PM at the HMCC.
URL:https://harveyruralcommunity.ca/event/harvey-hiit-class-2/2026-11-23/
LOCATION:Harvey Memorial Community Centre\, 58 Hanselpacker St\, Harvey Station\, NB E6K 1A3\, Canada
END:VEVENT
BEGIN:VEVENT
DTSTART;TZID=America/Halifax:20261125T190000
DTEND;TZID=America/Halifax:20261125T200000
DTSTAMP:20260422T035510
CREATED:20240812T174216Z
LAST-MODIFIED:20240814T132356Z
UID:10006105-1795633200-1795636800@harveyruralcommunity.ca
SUMMARY:Harvey HIIT Class
DESCRIPTION:Join us for an invigorating high-intensity interval training (HIIT) class from 7-8PM at the HMCC.
URL:https://harveyruralcommunity.ca/event/harvey-hiit-class-2/2026-11-25/
LOCATION:Harvey Memorial Community Centre\, 58 Hanselpacker St\, Harvey Station\, NB E6K 1A3\, Canada
END:VEVENT
BEGIN:VEVENT
DTSTART;TZID=America/Halifax:20261130T190000
DTEND;TZID=America/Halifax:20261130T200000
DTSTAMP:20260422T035510
CREATED:20240812T174216Z
LAST-MODIFIED:20240814T132356Z
UID:10006106-1796065200-1796068800@harveyruralcommunity.ca
SUMMARY:Harvey HIIT Class
DESCRIPTION:Join us for an invigorating high-intensity interval training (HIIT) class from 7-8PM at the HMCC.
URL:https://harveyruralcommunity.ca/event/harvey-hiit-class-2/2026-11-30/
LOCATION:Harvey Memorial Community Centre\, 58 Hanselpacker St\, Harvey Station\, NB E6K 1A3\, Canada
END:VEVENT
BEGIN:VEVENT
DTSTART;TZID=America/Halifax:20261202T190000
DTEND;TZID=America/Halifax:20261202T200000
DTSTAMP:20260422T035510
CREATED:20240812T174216Z
LAST-MODIFIED:20240814T132356Z
UID:10006107-1796238000-1796241600@harveyruralcommunity.ca
SUMMARY:Harvey HIIT Class
DESCRIPTION:Join us for an invigorating high-intensity interval training (HIIT) class from 7-8PM at the HMCC.
URL:https://harveyruralcommunity.ca/event/harvey-hiit-class-2/2026-12-02/
LOCATION:Harvey Memorial Community Centre\, 58 Hanselpacker St\, Harvey Station\, NB E6K 1A3\, Canada
END:VEVENT
BEGIN:VEVENT
DTSTART;TZID=America/Halifax:20261207T190000
DTEND;TZID=America/Halifax:20261207T200000
DTSTAMP:20260422T035510
CREATED:20240812T174216Z
LAST-MODIFIED:20240814T132356Z
UID:10006108-1796670000-1796673600@harveyruralcommunity.ca
SUMMARY:Harvey HIIT Class
DESCRIPTION:Join us for an invigorating high-intensity interval training (HIIT) class from 7-8PM at the HMCC.
URL:https://harveyruralcommunity.ca/event/harvey-hiit-class-2/2026-12-07/
LOCATION:Harvey Memorial Community Centre\, 58 Hanselpacker St\, Harvey Station\, NB E6K 1A3\, Canada
END:VEVENT
BEGIN:VEVENT
DTSTART;TZID=America/Halifax:20261209T190000
DTEND;TZID=America/Halifax:20261209T200000
DTSTAMP:20260422T035510
CREATED:20240812T174216Z
LAST-MODIFIED:20240814T132356Z
UID:10006109-1796842800-1796846400@harveyruralcommunity.ca
SUMMARY:Harvey HIIT Class
DESCRIPTION:Join us for an invigorating high-intensity interval training (HIIT) class from 7-8PM at the HMCC.
URL:https://harveyruralcommunity.ca/event/harvey-hiit-class-2/2026-12-09/
LOCATION:Harvey Memorial Community Centre\, 58 Hanselpacker St\, Harvey Station\, NB E6K 1A3\, Canada
END:VEVENT
BEGIN:VEVENT
DTSTART;TZID=America/Halifax:20261214T190000
DTEND;TZID=America/Halifax:20261214T200000
DTSTAMP:20260422T035510
CREATED:20240812T174216Z
LAST-MODIFIED:20240814T132356Z
UID:10006110-1797274800-1797278400@harveyruralcommunity.ca
SUMMARY:Harvey HIIT Class
DESCRIPTION:Join us for an invigorating high-intensity interval training (HIIT) class from 7-8PM at the HMCC.
URL:https://harveyruralcommunity.ca/event/harvey-hiit-class-2/2026-12-14/
LOCATION:Harvey Memorial Community Centre\, 58 Hanselpacker St\, Harvey Station\, NB E6K 1A3\, Canada
END:VEVENT
BEGIN:VEVENT
DTSTART;TZID=America/Halifax:20261216T190000
DTEND;TZID=America/Halifax:20261216T200000
DTSTAMP:20260422T035510
CREATED:20240812T174216Z
LAST-MODIFIED:20240814T132356Z
UID:10006111-1797447600-1797451200@harveyruralcommunity.ca
SUMMARY:Harvey HIIT Class
DESCRIPTION:Join us for an invigorating high-intensity interval training (HIIT) class from 7-8PM at the HMCC.
URL:https://harveyruralcommunity.ca/event/harvey-hiit-class-2/2026-12-16/
LOCATION:Harvey Memorial Community Centre\, 58 Hanselpacker St\, Harvey Station\, NB E6K 1A3\, Canada
END:VEVENT
BEGIN:VEVENT
DTSTART;TZID=America/Halifax:20261221T190000
DTEND;TZID=America/Halifax:20261221T200000
DTSTAMP:20260422T035510
CREATED:20240812T174216Z
LAST-MODIFIED:20240814T132356Z
UID:10006112-1797879600-1797883200@harveyruralcommunity.ca
SUMMARY:Harvey HIIT Class
DESCRIPTION:Join us for an invigorating high-intensity interval training (HIIT) class from 7-8PM at the HMCC.
URL:https://harveyruralcommunity.ca/event/harvey-hiit-class-2/2026-12-21/
LOCATION:Harvey Memorial Community Centre\, 58 Hanselpacker St\, Harvey Station\, NB E6K 1A3\, Canada
END:VEVENT
BEGIN:VEVENT
DTSTART;TZID=America/Halifax:20261223T190000
DTEND;TZID=America/Halifax:20261223T200000
DTSTAMP:20260422T035510
CREATED:20240812T174216Z
LAST-MODIFIED:20240814T132356Z
UID:10006113-1798052400-1798056000@harveyruralcommunity.ca
SUMMARY:Harvey HIIT Class
DESCRIPTION:Join us for an invigorating high-intensity interval training (HIIT) class from 7-8PM at the HMCC.
URL:https://harveyruralcommunity.ca/event/harvey-hiit-class-2/2026-12-23/
LOCATION:Harvey Memorial Community Centre\, 58 Hanselpacker St\, Harvey Station\, NB E6K 1A3\, Canada
END:VEVENT
BEGIN:VEVENT
DTSTART;TZID=America/Halifax:20261228T190000
DTEND;TZID=America/Halifax:20261228T200000
DTSTAMP:20260422T035510
CREATED:20240812T174216Z
LAST-MODIFIED:20240814T132356Z
UID:10006114-1798484400-1798488000@harveyruralcommunity.ca
SUMMARY:Harvey HIIT Class
DESCRIPTION:Join us for an invigorating high-intensity interval training (HIIT) class from 7-8PM at the HMCC.
URL:https://harveyruralcommunity.ca/event/harvey-hiit-class-2/2026-12-28/
LOCATION:Harvey Memorial Community Centre\, 58 Hanselpacker St\, Harvey Station\, NB E6K 1A3\, Canada
END:VEVENT
BEGIN:VEVENT
DTSTART;TZID=America/Halifax:20261230T190000
DTEND;TZID=America/Halifax:20261230T200000
DTSTAMP:20260422T035510
CREATED:20240812T174216Z
LAST-MODIFIED:20240814T132356Z
UID:10006115-1798657200-1798660800@harveyruralcommunity.ca
SUMMARY:Harvey HIIT Class
DESCRIPTION:Join us for an invigorating high-intensity interval training (HIIT) class from 7-8PM at the HMCC.
URL:https://harveyruralcommunity.ca/event/harvey-hiit-class-2/2026-12-30/
LOCATION:Harvey Memorial Community Centre\, 58 Hanselpacker St\, Harvey Station\, NB E6K 1A3\, Canada
END:VEVENT
BEGIN:VEVENT
DTSTART;TZID=America/Halifax:20270104T190000
DTEND;TZID=America/Halifax:20270104T200000
DTSTAMP:20260422T035510
CREATED:20240812T174216Z
LAST-MODIFIED:20240814T132356Z
UID:10006116-1799089200-1799092800@harveyruralcommunity.ca
SUMMARY:Harvey HIIT Class
DESCRIPTION:Join us for an invigorating high-intensity interval training (HIIT) class from 7-8PM at the HMCC.
URL:https://harveyruralcommunity.ca/event/harvey-hiit-class-2/2027-01-04/
LOCATION:Harvey Memorial Community Centre\, 58 Hanselpacker St\, Harvey Station\, NB E6K 1A3\, Canada
END:VEVENT
BEGIN:VEVENT
DTSTART;TZID=America/Halifax:20270106T190000
DTEND;TZID=America/Halifax:20270106T200000
DTSTAMP:20260422T035510
CREATED:20240812T174216Z
LAST-MODIFIED:20240814T132356Z
UID:10006117-1799262000-1799265600@harveyruralcommunity.ca
SUMMARY:Harvey HIIT Class
DESCRIPTION:Join us for an invigorating high-intensity interval training (HIIT) class from 7-8PM at the HMCC.
URL:https://harveyruralcommunity.ca/event/harvey-hiit-class-2/2027-01-06/
LOCATION:Harvey Memorial Community Centre\, 58 Hanselpacker St\, Harvey Station\, NB E6K 1A3\, Canada
END:VEVENT
BEGIN:VEVENT
DTSTART;TZID=America/Halifax:20270111T190000
DTEND;TZID=America/Halifax:20270111T200000
DTSTAMP:20260422T035510
CREATED:20240812T174216Z
LAST-MODIFIED:20240814T132356Z
UID:10006118-1799694000-1799697600@harveyruralcommunity.ca
SUMMARY:Harvey HIIT Class
DESCRIPTION:Join us for an invigorating high-intensity interval training (HIIT) class from 7-8PM at the HMCC.
URL:https://harveyruralcommunity.ca/event/harvey-hiit-class-2/2027-01-11/
LOCATION:Harvey Memorial Community Centre\, 58 Hanselpacker St\, Harvey Station\, NB E6K 1A3\, Canada
END:VEVENT
BEGIN:VEVENT
DTSTART;TZID=America/Halifax:20270113T190000
DTEND;TZID=America/Halifax:20270113T200000
DTSTAMP:20260422T035510
CREATED:20240812T174216Z
LAST-MODIFIED:20240814T132356Z
UID:10006119-1799866800-1799870400@harveyruralcommunity.ca
SUMMARY:Harvey HIIT Class
DESCRIPTION:Join us for an invigorating high-intensity interval training (HIIT) class from 7-8PM at the HMCC.
URL:https://harveyruralcommunity.ca/event/harvey-hiit-class-2/2027-01-13/
LOCATION:Harvey Memorial Community Centre\, 58 Hanselpacker St\, Harvey Station\, NB E6K 1A3\, Canada
END:VEVENT
BEGIN:VEVENT
DTSTART;TZID=America/Halifax:20270118T190000
DTEND;TZID=America/Halifax:20270118T200000
DTSTAMP:20260422T035510
CREATED:20240812T174216Z
LAST-MODIFIED:20240814T132356Z
UID:10006120-1800298800-1800302400@harveyruralcommunity.ca
SUMMARY:Harvey HIIT Class
DESCRIPTION:Join us for an invigorating high-intensity interval training (HIIT) class from 7-8PM at the HMCC.
URL:https://harveyruralcommunity.ca/event/harvey-hiit-class-2/2027-01-18/
LOCATION:Harvey Memorial Community Centre\, 58 Hanselpacker St\, Harvey Station\, NB E6K 1A3\, Canada
END:VEVENT
END:VCALENDAR