BEGIN:VCALENDAR
VERSION:2.0
PRODID:-//Harvey Rural Community - ECPv6.6.1//NONSGML v1.0//EN
CALSCALE:GREGORIAN
METHOD:PUBLISH
X-WR-CALNAME:Harvey Rural Community
X-ORIGINAL-URL:https://harveyruralcommunity.ca
X-WR-CALDESC:Events for Harvey Rural Community
BEGIN:VTIMEZONE
TZID:America/Halifax
BEGIN:DAYLIGHT
TZOFFSETFROM:-0400
TZOFFSETTO:-0300
TZNAME:ADT
DTSTART:20270314T060000
END:DAYLIGHT
BEGIN:STANDARD
TZOFFSETFROM:-0300
TZOFFSETTO:-0400
TZNAME:AST
DTSTART:20271107T050000
END:STANDARD
BEGIN:DAYLIGHT
TZOFFSETFROM:-0400
TZOFFSETTO:-0300
TZNAME:ADT
DTSTART:20280312T060000
END:DAYLIGHT
BEGIN:STANDARD
TZOFFSETFROM:-0300
TZOFFSETTO:-0400
TZNAME:AST
DTSTART:20281105T050000
END:STANDARD
END:VTIMEZONE
BEGIN:VEVENT
DTSTART;TZID=America/Halifax:20270621T190000
DTEND;TZID=America/Halifax:20270621T220000
DTSTAMP:20260422T222335
CREATED:20230517T141949Z
LAST-MODIFIED:20240523T164954Z
UID:10003624-1813604400-1813615200@harveyruralcommunity.ca
SUMMARY:Lions Club Bingo
DESCRIPTION:Monday Nights at the Harvey Lions club. Visit their Facebook page for more information
URL:https://harveyruralcommunity.ca/event/lions-club-bingo/2027-06-21/
LOCATION:Harvey Lions Club\, 4722 NB-640\, Harvey\, NB E6K 3W9
CATEGORIES:Games
END:VEVENT
BEGIN:VEVENT
DTSTART;TZID=America/Halifax:20270628T190000
DTEND;TZID=America/Halifax:20270628T220000
DTSTAMP:20260422T222335
CREATED:20230517T141949Z
LAST-MODIFIED:20240523T164954Z
UID:10003625-1814209200-1814220000@harveyruralcommunity.ca
SUMMARY:Lions Club Bingo
DESCRIPTION:Monday Nights at the Harvey Lions club. Visit their Facebook page for more information
URL:https://harveyruralcommunity.ca/event/lions-club-bingo/2027-06-28/
LOCATION:Harvey Lions Club\, 4722 NB-640\, Harvey\, NB E6K 3W9
CATEGORIES:Games
END:VEVENT
BEGIN:VEVENT
DTSTART;TZID=America/Halifax:20270705T190000
DTEND;TZID=America/Halifax:20270705T220000
DTSTAMP:20260422T222335
CREATED:20230517T141949Z
LAST-MODIFIED:20240523T164954Z
UID:10003626-1814814000-1814824800@harveyruralcommunity.ca
SUMMARY:Lions Club Bingo
DESCRIPTION:Monday Nights at the Harvey Lions club. Visit their Facebook page for more information
URL:https://harveyruralcommunity.ca/event/lions-club-bingo/2027-07-05/
LOCATION:Harvey Lions Club\, 4722 NB-640\, Harvey\, NB E6K 3W9
CATEGORIES:Games
END:VEVENT
BEGIN:VEVENT
DTSTART;TZID=America/Halifax:20270712T190000
DTEND;TZID=America/Halifax:20270712T220000
DTSTAMP:20260422T222335
CREATED:20230517T141949Z
LAST-MODIFIED:20240523T164954Z
UID:10003627-1815418800-1815429600@harveyruralcommunity.ca
SUMMARY:Lions Club Bingo
DESCRIPTION:Monday Nights at the Harvey Lions club. Visit their Facebook page for more information
URL:https://harveyruralcommunity.ca/event/lions-club-bingo/2027-07-12/
LOCATION:Harvey Lions Club\, 4722 NB-640\, Harvey\, NB E6K 3W9
CATEGORIES:Games
END:VEVENT
BEGIN:VEVENT
DTSTART;TZID=America/Halifax:20270719T190000
DTEND;TZID=America/Halifax:20270719T220000
DTSTAMP:20260422T222335
CREATED:20230517T141949Z
LAST-MODIFIED:20240523T164954Z
UID:10003628-1816023600-1816034400@harveyruralcommunity.ca
SUMMARY:Lions Club Bingo
DESCRIPTION:Monday Nights at the Harvey Lions club. Visit their Facebook page for more information
URL:https://harveyruralcommunity.ca/event/lions-club-bingo/2027-07-19/
LOCATION:Harvey Lions Club\, 4722 NB-640\, Harvey\, NB E6K 3W9
CATEGORIES:Games
END:VEVENT
BEGIN:VEVENT
DTSTART;TZID=America/Halifax:20270726T190000
DTEND;TZID=America/Halifax:20270726T220000
DTSTAMP:20260422T222335
CREATED:20230517T141949Z
LAST-MODIFIED:20240523T164954Z
UID:10003629-1816628400-1816639200@harveyruralcommunity.ca
SUMMARY:Lions Club Bingo
DESCRIPTION:Monday Nights at the Harvey Lions club. Visit their Facebook page for more information
URL:https://harveyruralcommunity.ca/event/lions-club-bingo/2027-07-26/
LOCATION:Harvey Lions Club\, 4722 NB-640\, Harvey\, NB E6K 3W9
CATEGORIES:Games
END:VEVENT
BEGIN:VEVENT
DTSTART;TZID=America/Halifax:20270802T190000
DTEND;TZID=America/Halifax:20270802T220000
DTSTAMP:20260422T222335
CREATED:20230517T141949Z
LAST-MODIFIED:20240523T164954Z
UID:10003630-1817233200-1817244000@harveyruralcommunity.ca
SUMMARY:Lions Club Bingo
DESCRIPTION:Monday Nights at the Harvey Lions club. Visit their Facebook page for more information
URL:https://harveyruralcommunity.ca/event/lions-club-bingo/2027-08-02/
LOCATION:Harvey Lions Club\, 4722 NB-640\, Harvey\, NB E6K 3W9
CATEGORIES:Games
END:VEVENT
BEGIN:VEVENT
DTSTART;TZID=America/Halifax:20270809T190000
DTEND;TZID=America/Halifax:20270809T220000
DTSTAMP:20260422T222335
CREATED:20230517T141949Z
LAST-MODIFIED:20240523T164954Z
UID:10003631-1817838000-1817848800@harveyruralcommunity.ca
SUMMARY:Lions Club Bingo
DESCRIPTION:Monday Nights at the Harvey Lions club. Visit their Facebook page for more information
URL:https://harveyruralcommunity.ca/event/lions-club-bingo/2027-08-09/
LOCATION:Harvey Lions Club\, 4722 NB-640\, Harvey\, NB E6K 3W9
CATEGORIES:Games
END:VEVENT
BEGIN:VEVENT
DTSTART;TZID=America/Halifax:20270816T190000
DTEND;TZID=America/Halifax:20270816T220000
DTSTAMP:20260422T222335
CREATED:20230517T141949Z
LAST-MODIFIED:20240523T164954Z
UID:10003632-1818442800-1818453600@harveyruralcommunity.ca
SUMMARY:Lions Club Bingo
DESCRIPTION:Monday Nights at the Harvey Lions club. Visit their Facebook page for more information
URL:https://harveyruralcommunity.ca/event/lions-club-bingo/2027-08-16/
LOCATION:Harvey Lions Club\, 4722 NB-640\, Harvey\, NB E6K 3W9
CATEGORIES:Games
END:VEVENT
BEGIN:VEVENT
DTSTART;TZID=America/Halifax:20270823T190000
DTEND;TZID=America/Halifax:20270823T220000
DTSTAMP:20260422T222335
CREATED:20230517T141949Z
LAST-MODIFIED:20240523T164954Z
UID:10003633-1819047600-1819058400@harveyruralcommunity.ca
SUMMARY:Lions Club Bingo
DESCRIPTION:Monday Nights at the Harvey Lions club. Visit their Facebook page for more information
URL:https://harveyruralcommunity.ca/event/lions-club-bingo/2027-08-23/
LOCATION:Harvey Lions Club\, 4722 NB-640\, Harvey\, NB E6K 3W9
CATEGORIES:Games
END:VEVENT
BEGIN:VEVENT
DTSTART;TZID=America/Halifax:20270830T190000
DTEND;TZID=America/Halifax:20270830T220000
DTSTAMP:20260422T222335
CREATED:20230517T141949Z
LAST-MODIFIED:20240523T164954Z
UID:10003634-1819652400-1819663200@harveyruralcommunity.ca
SUMMARY:Lions Club Bingo
DESCRIPTION:Monday Nights at the Harvey Lions club. Visit their Facebook page for more information
URL:https://harveyruralcommunity.ca/event/lions-club-bingo/2027-08-30/
LOCATION:Harvey Lions Club\, 4722 NB-640\, Harvey\, NB E6K 3W9
CATEGORIES:Games
END:VEVENT
BEGIN:VEVENT
DTSTART;TZID=America/Halifax:20270906T190000
DTEND;TZID=America/Halifax:20270906T220000
DTSTAMP:20260422T222335
CREATED:20230517T141949Z
LAST-MODIFIED:20240523T164954Z
UID:10003635-1820257200-1820268000@harveyruralcommunity.ca
SUMMARY:Lions Club Bingo
DESCRIPTION:Monday Nights at the Harvey Lions club. Visit their Facebook page for more information
URL:https://harveyruralcommunity.ca/event/lions-club-bingo/2027-09-06/
LOCATION:Harvey Lions Club\, 4722 NB-640\, Harvey\, NB E6K 3W9
CATEGORIES:Games
END:VEVENT
BEGIN:VEVENT
DTSTART;TZID=America/Halifax:20270913T190000
DTEND;TZID=America/Halifax:20270913T220000
DTSTAMP:20260422T222335
CREATED:20230517T141949Z
LAST-MODIFIED:20240523T164954Z
UID:10003636-1820862000-1820872800@harveyruralcommunity.ca
SUMMARY:Lions Club Bingo
DESCRIPTION:Monday Nights at the Harvey Lions club. Visit their Facebook page for more information
URL:https://harveyruralcommunity.ca/event/lions-club-bingo/2027-09-13/
LOCATION:Harvey Lions Club\, 4722 NB-640\, Harvey\, NB E6K 3W9
CATEGORIES:Games
END:VEVENT
BEGIN:VEVENT
DTSTART;TZID=America/Halifax:20270920T190000
DTEND;TZID=America/Halifax:20270920T220000
DTSTAMP:20260422T222335
CREATED:20230517T141949Z
LAST-MODIFIED:20240523T164954Z
UID:10003637-1821466800-1821477600@harveyruralcommunity.ca
SUMMARY:Lions Club Bingo
DESCRIPTION:Monday Nights at the Harvey Lions club. Visit their Facebook page for more information
URL:https://harveyruralcommunity.ca/event/lions-club-bingo/2027-09-20/
LOCATION:Harvey Lions Club\, 4722 NB-640\, Harvey\, NB E6K 3W9
CATEGORIES:Games
END:VEVENT
BEGIN:VEVENT
DTSTART;TZID=America/Halifax:20270927T190000
DTEND;TZID=America/Halifax:20270927T220000
DTSTAMP:20260422T222335
CREATED:20230517T141949Z
LAST-MODIFIED:20240523T164954Z
UID:10003638-1822071600-1822082400@harveyruralcommunity.ca
SUMMARY:Lions Club Bingo
DESCRIPTION:Monday Nights at the Harvey Lions club. Visit their Facebook page for more information
URL:https://harveyruralcommunity.ca/event/lions-club-bingo/2027-09-27/
LOCATION:Harvey Lions Club\, 4722 NB-640\, Harvey\, NB E6K 3W9
CATEGORIES:Games
END:VEVENT
BEGIN:VEVENT
DTSTART;TZID=America/Halifax:20271004T190000
DTEND;TZID=America/Halifax:20271004T220000
DTSTAMP:20260422T222335
CREATED:20230517T141949Z
LAST-MODIFIED:20240523T164954Z
UID:10003639-1822676400-1822687200@harveyruralcommunity.ca
SUMMARY:Lions Club Bingo
DESCRIPTION:Monday Nights at the Harvey Lions club. Visit their Facebook page for more information
URL:https://harveyruralcommunity.ca/event/lions-club-bingo/2027-10-04/
LOCATION:Harvey Lions Club\, 4722 NB-640\, Harvey\, NB E6K 3W9
CATEGORIES:Games
END:VEVENT
BEGIN:VEVENT
DTSTART;TZID=America/Halifax:20271011T190000
DTEND;TZID=America/Halifax:20271011T220000
DTSTAMP:20260422T222335
CREATED:20230517T141949Z
LAST-MODIFIED:20240523T164954Z
UID:10003640-1823281200-1823292000@harveyruralcommunity.ca
SUMMARY:Lions Club Bingo
DESCRIPTION:Monday Nights at the Harvey Lions club. Visit their Facebook page for more information
URL:https://harveyruralcommunity.ca/event/lions-club-bingo/2027-10-11/
LOCATION:Harvey Lions Club\, 4722 NB-640\, Harvey\, NB E6K 3W9
CATEGORIES:Games
END:VEVENT
BEGIN:VEVENT
DTSTART;TZID=America/Halifax:20271018T190000
DTEND;TZID=America/Halifax:20271018T220000
DTSTAMP:20260422T222335
CREATED:20230517T141949Z
LAST-MODIFIED:20240523T164954Z
UID:10003641-1823886000-1823896800@harveyruralcommunity.ca
SUMMARY:Lions Club Bingo
DESCRIPTION:Monday Nights at the Harvey Lions club. Visit their Facebook page for more information
URL:https://harveyruralcommunity.ca/event/lions-club-bingo/2027-10-18/
LOCATION:Harvey Lions Club\, 4722 NB-640\, Harvey\, NB E6K 3W9
CATEGORIES:Games
END:VEVENT
BEGIN:VEVENT
DTSTART;TZID=America/Halifax:20271025T190000
DTEND;TZID=America/Halifax:20271025T220000
DTSTAMP:20260422T222335
CREATED:20230517T141949Z
LAST-MODIFIED:20240523T164954Z
UID:10003642-1824490800-1824501600@harveyruralcommunity.ca
SUMMARY:Lions Club Bingo
DESCRIPTION:Monday Nights at the Harvey Lions club. Visit their Facebook page for more information
URL:https://harveyruralcommunity.ca/event/lions-club-bingo/2027-10-25/
LOCATION:Harvey Lions Club\, 4722 NB-640\, Harvey\, NB E6K 3W9
CATEGORIES:Games
END:VEVENT
BEGIN:VEVENT
DTSTART;TZID=America/Halifax:20271101T190000
DTEND;TZID=America/Halifax:20271101T220000
DTSTAMP:20260422T222335
CREATED:20230517T141949Z
LAST-MODIFIED:20240523T164954Z
UID:10003643-1825095600-1825106400@harveyruralcommunity.ca
SUMMARY:Lions Club Bingo
DESCRIPTION:Monday Nights at the Harvey Lions club. Visit their Facebook page for more information
URL:https://harveyruralcommunity.ca/event/lions-club-bingo/2027-11-01/
LOCATION:Harvey Lions Club\, 4722 NB-640\, Harvey\, NB E6K 3W9
CATEGORIES:Games
END:VEVENT
BEGIN:VEVENT
DTSTART;TZID=America/Halifax:20271108T190000
DTEND;TZID=America/Halifax:20271108T220000
DTSTAMP:20260422T222335
CREATED:20230517T141949Z
LAST-MODIFIED:20240523T164954Z
UID:10003644-1825700400-1825711200@harveyruralcommunity.ca
SUMMARY:Lions Club Bingo
DESCRIPTION:Monday Nights at the Harvey Lions club. Visit their Facebook page for more information
URL:https://harveyruralcommunity.ca/event/lions-club-bingo/2027-11-08/
LOCATION:Harvey Lions Club\, 4722 NB-640\, Harvey\, NB E6K 3W9
CATEGORIES:Games
END:VEVENT
BEGIN:VEVENT
DTSTART;TZID=America/Halifax:20271115T190000
DTEND;TZID=America/Halifax:20271115T220000
DTSTAMP:20260422T222335
CREATED:20230517T141949Z
LAST-MODIFIED:20240523T164954Z
UID:10003645-1826305200-1826316000@harveyruralcommunity.ca
SUMMARY:Lions Club Bingo
DESCRIPTION:Monday Nights at the Harvey Lions club. Visit their Facebook page for more information
URL:https://harveyruralcommunity.ca/event/lions-club-bingo/2027-11-15/
LOCATION:Harvey Lions Club\, 4722 NB-640\, Harvey\, NB E6K 3W9
CATEGORIES:Games
END:VEVENT
BEGIN:VEVENT
DTSTART;TZID=America/Halifax:20271122T190000
DTEND;TZID=America/Halifax:20271122T220000
DTSTAMP:20260422T222335
CREATED:20230517T141949Z
LAST-MODIFIED:20240523T164954Z
UID:10003646-1826910000-1826920800@harveyruralcommunity.ca
SUMMARY:Lions Club Bingo
DESCRIPTION:Monday Nights at the Harvey Lions club. Visit their Facebook page for more information
URL:https://harveyruralcommunity.ca/event/lions-club-bingo/2027-11-22/
LOCATION:Harvey Lions Club\, 4722 NB-640\, Harvey\, NB E6K 3W9
CATEGORIES:Games
END:VEVENT
BEGIN:VEVENT
DTSTART;TZID=America/Halifax:20271129T190000
DTEND;TZID=America/Halifax:20271129T220000
DTSTAMP:20260422T222335
CREATED:20230517T141949Z
LAST-MODIFIED:20240523T164954Z
UID:10003647-1827514800-1827525600@harveyruralcommunity.ca
SUMMARY:Lions Club Bingo
DESCRIPTION:Monday Nights at the Harvey Lions club. Visit their Facebook page for more information
URL:https://harveyruralcommunity.ca/event/lions-club-bingo/2027-11-29/
LOCATION:Harvey Lions Club\, 4722 NB-640\, Harvey\, NB E6K 3W9
CATEGORIES:Games
END:VEVENT
BEGIN:VEVENT
DTSTART;TZID=America/Halifax:20271206T190000
DTEND;TZID=America/Halifax:20271206T220000
DTSTAMP:20260422T222335
CREATED:20230517T141949Z
LAST-MODIFIED:20240523T164954Z
UID:10003648-1828119600-1828130400@harveyruralcommunity.ca
SUMMARY:Lions Club Bingo
DESCRIPTION:Monday Nights at the Harvey Lions club. Visit their Facebook page for more information
URL:https://harveyruralcommunity.ca/event/lions-club-bingo/2027-12-06/
LOCATION:Harvey Lions Club\, 4722 NB-640\, Harvey\, NB E6K 3W9
CATEGORIES:Games
END:VEVENT
BEGIN:VEVENT
DTSTART;TZID=America/Halifax:20271213T190000
DTEND;TZID=America/Halifax:20271213T220000
DTSTAMP:20260422T222335
CREATED:20230517T141949Z
LAST-MODIFIED:20240523T164954Z
UID:10003649-1828724400-1828735200@harveyruralcommunity.ca
SUMMARY:Lions Club Bingo
DESCRIPTION:Monday Nights at the Harvey Lions club. Visit their Facebook page for more information
URL:https://harveyruralcommunity.ca/event/lions-club-bingo/2027-12-13/
LOCATION:Harvey Lions Club\, 4722 NB-640\, Harvey\, NB E6K 3W9
CATEGORIES:Games
END:VEVENT
BEGIN:VEVENT
DTSTART;TZID=America/Halifax:20271220T190000
DTEND;TZID=America/Halifax:20271220T220000
DTSTAMP:20260422T222335
CREATED:20230517T141949Z
LAST-MODIFIED:20240523T164954Z
UID:10003650-1829329200-1829340000@harveyruralcommunity.ca
SUMMARY:Lions Club Bingo
DESCRIPTION:Monday Nights at the Harvey Lions club. Visit their Facebook page for more information
URL:https://harveyruralcommunity.ca/event/lions-club-bingo/2027-12-20/
LOCATION:Harvey Lions Club\, 4722 NB-640\, Harvey\, NB E6K 3W9
CATEGORIES:Games
END:VEVENT
BEGIN:VEVENT
DTSTART;TZID=America/Halifax:20271227T190000
DTEND;TZID=America/Halifax:20271227T220000
DTSTAMP:20260422T222335
CREATED:20230517T141949Z
LAST-MODIFIED:20240523T164954Z
UID:10003651-1829934000-1829944800@harveyruralcommunity.ca
SUMMARY:Lions Club Bingo
DESCRIPTION:Monday Nights at the Harvey Lions club. Visit their Facebook page for more information
URL:https://harveyruralcommunity.ca/event/lions-club-bingo/2027-12-27/
LOCATION:Harvey Lions Club\, 4722 NB-640\, Harvey\, NB E6K 3W9
CATEGORIES:Games
END:VEVENT
BEGIN:VEVENT
DTSTART;TZID=America/Halifax:20280103T190000
DTEND;TZID=America/Halifax:20280103T220000
DTSTAMP:20260422T222335
CREATED:20230517T141949Z
LAST-MODIFIED:20240523T164954Z
UID:10003652-1830538800-1830549600@harveyruralcommunity.ca
SUMMARY:Lions Club Bingo
DESCRIPTION:Monday Nights at the Harvey Lions club. Visit their Facebook page for more information
URL:https://harveyruralcommunity.ca/event/lions-club-bingo/2028-01-03/
LOCATION:Harvey Lions Club\, 4722 NB-640\, Harvey\, NB E6K 3W9
CATEGORIES:Games
END:VEVENT
BEGIN:VEVENT
DTSTART;TZID=America/Halifax:20280110T190000
DTEND;TZID=America/Halifax:20280110T220000
DTSTAMP:20260422T222335
CREATED:20230517T141949Z
LAST-MODIFIED:20240523T164954Z
UID:10003653-1831143600-1831154400@harveyruralcommunity.ca
SUMMARY:Lions Club Bingo
DESCRIPTION:Monday Nights at the Harvey Lions club. Visit their Facebook page for more information
URL:https://harveyruralcommunity.ca/event/lions-club-bingo/2028-01-10/
LOCATION:Harvey Lions Club\, 4722 NB-640\, Harvey\, NB E6K 3W9
CATEGORIES:Games
END:VEVENT
END:VCALENDAR