BEGIN:VCALENDAR
VERSION:2.0
PRODID:-//Harvey Rural Community - ECPv6.6.1//NONSGML v1.0//EN
CALSCALE:GREGORIAN
METHOD:PUBLISH
X-WR-CALNAME:Harvey Rural Community
X-ORIGINAL-URL:https://harveyruralcommunity.ca
X-WR-CALDESC:Events for Harvey Rural Community
BEGIN:VTIMEZONE
TZID:America/Halifax
BEGIN:DAYLIGHT
TZOFFSETFROM:-0400
TZOFFSETTO:-0300
TZNAME:ADT
DTSTART:20280312T060000
END:DAYLIGHT
BEGIN:STANDARD
TZOFFSETFROM:-0300
TZOFFSETTO:-0400
TZNAME:AST
DTSTART:20281105T050000
END:STANDARD
END:VTIMEZONE
BEGIN:VEVENT
DTSTART;TZID=America/Halifax:20280816T130000
DTEND;TZID=America/Halifax:20280816T150000
DTSTAMP:20260422T052805
CREATED:20231208T223552Z
LAST-MODIFIED:20231208T223552Z
UID:10005290-1850043600-1850050800@harveyruralcommunity.ca
SUMMARY:Seniors Meet and Greet
DESCRIPTION:Join us at the Lion’s Club every 2nd and 4th Wednesday for a potluck and play 45’s\, nickel bingo or whatever you like.\nNot a senior yet\, that’s OK. Come anyway!  Everyone welcome.\nNote new time for winter.
URL:https://harveyruralcommunity.ca/event/seniors-meet-and-greet-2/2028-08-16/
LOCATION:Harvey Lions Club\, 4722 NB-640\, Harvey\, NB E6K 3W9
CATEGORIES:Wellness
END:VEVENT
BEGIN:VEVENT
DTSTART;TZID=America/Halifax:20280830T130000
DTEND;TZID=America/Halifax:20280830T150000
DTSTAMP:20260422T052805
CREATED:20231208T223552Z
LAST-MODIFIED:20231208T223552Z
UID:10005291-1851253200-1851260400@harveyruralcommunity.ca
SUMMARY:Seniors Meet and Greet
DESCRIPTION:Join us at the Lion’s Club every 2nd and 4th Wednesday for a potluck and play 45’s\, nickel bingo or whatever you like.\nNot a senior yet\, that’s OK. Come anyway!  Everyone welcome.\nNote new time for winter.
URL:https://harveyruralcommunity.ca/event/seniors-meet-and-greet-2/2028-08-30/
LOCATION:Harvey Lions Club\, 4722 NB-640\, Harvey\, NB E6K 3W9
CATEGORIES:Wellness
END:VEVENT
BEGIN:VEVENT
DTSTART;TZID=America/Halifax:20280913T130000
DTEND;TZID=America/Halifax:20280913T150000
DTSTAMP:20260422T052805
CREATED:20231208T223552Z
LAST-MODIFIED:20231208T223552Z
UID:10005292-1852462800-1852470000@harveyruralcommunity.ca
SUMMARY:Seniors Meet and Greet
DESCRIPTION:Join us at the Lion’s Club every 2nd and 4th Wednesday for a potluck and play 45’s\, nickel bingo or whatever you like.\nNot a senior yet\, that’s OK. Come anyway!  Everyone welcome.\nNote new time for winter.
URL:https://harveyruralcommunity.ca/event/seniors-meet-and-greet-2/2028-09-13/
LOCATION:Harvey Lions Club\, 4722 NB-640\, Harvey\, NB E6K 3W9
CATEGORIES:Wellness
END:VEVENT
BEGIN:VEVENT
DTSTART;TZID=America/Halifax:20280927T130000
DTEND;TZID=America/Halifax:20280927T150000
DTSTAMP:20260422T052805
CREATED:20231208T223552Z
LAST-MODIFIED:20231208T223552Z
UID:10005293-1853672400-1853679600@harveyruralcommunity.ca
SUMMARY:Seniors Meet and Greet
DESCRIPTION:Join us at the Lion’s Club every 2nd and 4th Wednesday for a potluck and play 45’s\, nickel bingo or whatever you like.\nNot a senior yet\, that’s OK. Come anyway!  Everyone welcome.\nNote new time for winter.
URL:https://harveyruralcommunity.ca/event/seniors-meet-and-greet-2/2028-09-27/
LOCATION:Harvey Lions Club\, 4722 NB-640\, Harvey\, NB E6K 3W9
CATEGORIES:Wellness
END:VEVENT
BEGIN:VEVENT
DTSTART;TZID=America/Halifax:20281011T130000
DTEND;TZID=America/Halifax:20281011T150000
DTSTAMP:20260422T052805
CREATED:20231208T223552Z
LAST-MODIFIED:20231208T223552Z
UID:10005294-1854882000-1854889200@harveyruralcommunity.ca
SUMMARY:Seniors Meet and Greet
DESCRIPTION:Join us at the Lion’s Club every 2nd and 4th Wednesday for a potluck and play 45’s\, nickel bingo or whatever you like.\nNot a senior yet\, that’s OK. Come anyway!  Everyone welcome.\nNote new time for winter.
URL:https://harveyruralcommunity.ca/event/seniors-meet-and-greet-2/2028-10-11/
LOCATION:Harvey Lions Club\, 4722 NB-640\, Harvey\, NB E6K 3W9
CATEGORIES:Wellness
END:VEVENT
BEGIN:VEVENT
DTSTART;TZID=America/Halifax:20281025T130000
DTEND;TZID=America/Halifax:20281025T150000
DTSTAMP:20260422T052805
CREATED:20231208T223552Z
LAST-MODIFIED:20231208T223552Z
UID:10005295-1856091600-1856098800@harveyruralcommunity.ca
SUMMARY:Seniors Meet and Greet
DESCRIPTION:Join us at the Lion’s Club every 2nd and 4th Wednesday for a potluck and play 45’s\, nickel bingo or whatever you like.\nNot a senior yet\, that’s OK. Come anyway!  Everyone welcome.\nNote new time for winter.
URL:https://harveyruralcommunity.ca/event/seniors-meet-and-greet-2/2028-10-25/
LOCATION:Harvey Lions Club\, 4722 NB-640\, Harvey\, NB E6K 3W9
CATEGORIES:Wellness
END:VEVENT
BEGIN:VEVENT
DTSTART;TZID=America/Halifax:20281108T130000
DTEND;TZID=America/Halifax:20281108T150000
DTSTAMP:20260422T052805
CREATED:20231208T223552Z
LAST-MODIFIED:20231208T223552Z
UID:10005296-1857301200-1857308400@harveyruralcommunity.ca
SUMMARY:Seniors Meet and Greet
DESCRIPTION:Join us at the Lion’s Club every 2nd and 4th Wednesday for a potluck and play 45’s\, nickel bingo or whatever you like.\nNot a senior yet\, that’s OK. Come anyway!  Everyone welcome.\nNote new time for winter.
URL:https://harveyruralcommunity.ca/event/seniors-meet-and-greet-2/2028-11-08/
LOCATION:Harvey Lions Club\, 4722 NB-640\, Harvey\, NB E6K 3W9
CATEGORIES:Wellness
END:VEVENT
BEGIN:VEVENT
DTSTART;TZID=America/Halifax:20281122T130000
DTEND;TZID=America/Halifax:20281122T150000
DTSTAMP:20260422T052805
CREATED:20231208T223552Z
LAST-MODIFIED:20231208T223552Z
UID:10005297-1858510800-1858518000@harveyruralcommunity.ca
SUMMARY:Seniors Meet and Greet
DESCRIPTION:Join us at the Lion’s Club every 2nd and 4th Wednesday for a potluck and play 45’s\, nickel bingo or whatever you like.\nNot a senior yet\, that’s OK. Come anyway!  Everyone welcome.\nNote new time for winter.
URL:https://harveyruralcommunity.ca/event/seniors-meet-and-greet-2/2028-11-22/
LOCATION:Harvey Lions Club\, 4722 NB-640\, Harvey\, NB E6K 3W9
CATEGORIES:Wellness
END:VEVENT
BEGIN:VEVENT
DTSTART;TZID=America/Halifax:20281206T130000
DTEND;TZID=America/Halifax:20281206T150000
DTSTAMP:20260422T052805
CREATED:20231208T223552Z
LAST-MODIFIED:20231208T223552Z
UID:10005298-1859720400-1859727600@harveyruralcommunity.ca
SUMMARY:Seniors Meet and Greet
DESCRIPTION:Join us at the Lion’s Club every 2nd and 4th Wednesday for a potluck and play 45’s\, nickel bingo or whatever you like.\nNot a senior yet\, that’s OK. Come anyway!  Everyone welcome.\nNote new time for winter.
URL:https://harveyruralcommunity.ca/event/seniors-meet-and-greet-2/2028-12-06/
LOCATION:Harvey Lions Club\, 4722 NB-640\, Harvey\, NB E6K 3W9
CATEGORIES:Wellness
END:VEVENT
END:VCALENDAR