BEGIN:VCALENDAR
VERSION:2.0
PRODID:-//Harvey Rural Community - ECPv6.6.1//NONSGML v1.0//EN
CALSCALE:GREGORIAN
METHOD:PUBLISH
X-WR-CALNAME:Harvey Rural Community
X-ORIGINAL-URL:https://harveyruralcommunity.ca
X-WR-CALDESC:Events for Harvey Rural Community
BEGIN:VTIMEZONE
TZID:America/Halifax
BEGIN:DAYLIGHT
TZOFFSETFROM:-0400
TZOFFSETTO:-0300
TZNAME:ADT
DTSTART:20270314T060000
END:DAYLIGHT
BEGIN:STANDARD
TZOFFSETFROM:-0300
TZOFFSETTO:-0400
TZNAME:AST
DTSTART:20271107T050000
END:STANDARD
BEGIN:DAYLIGHT
TZOFFSETFROM:-0400
TZOFFSETTO:-0300
TZNAME:ADT
DTSTART:20280312T060000
END:DAYLIGHT
BEGIN:STANDARD
TZOFFSETFROM:-0300
TZOFFSETTO:-0400
TZNAME:AST
DTSTART:20281105T050000
END:STANDARD
END:VTIMEZONE
BEGIN:VEVENT
DTSTART;TZID=America/Halifax:20270909T130000
DTEND;TZID=America/Halifax:20270909T130000
DTSTAMP:20260419T145332
CREATED:20230614T163857Z
LAST-MODIFIED:20230614T171232Z
UID:10002934-1820494800-1820494800@harveyruralcommunity.ca
SUMMARY:Cards at Prince William Hall
DESCRIPTION:Pop in to Prince William Hall at 1 pm on Thursdays for a game of 45s!
URL:https://harveyruralcommunity.ca/event/cards-at-prince-william-hall/2027-09-09/
LOCATION:Prince William Hall\, 6662 Route 102\, Prince William
CATEGORIES:Games
ATTACH;FMTTYPE=image/jpeg:https://harveyruralcommunity.ca/wp-content/uploads/2023/06/deck-of-cards.jpeg
END:VEVENT
BEGIN:VEVENT
DTSTART;TZID=America/Halifax:20270916T130000
DTEND;TZID=America/Halifax:20270916T130000
DTSTAMP:20260419T145332
CREATED:20230614T163857Z
LAST-MODIFIED:20230614T171232Z
UID:10002935-1821099600-1821099600@harveyruralcommunity.ca
SUMMARY:Cards at Prince William Hall
DESCRIPTION:Pop in to Prince William Hall at 1 pm on Thursdays for a game of 45s!
URL:https://harveyruralcommunity.ca/event/cards-at-prince-william-hall/2027-09-16/
LOCATION:Prince William Hall\, 6662 Route 102\, Prince William
CATEGORIES:Games
ATTACH;FMTTYPE=image/jpeg:https://harveyruralcommunity.ca/wp-content/uploads/2023/06/deck-of-cards.jpeg
END:VEVENT
BEGIN:VEVENT
DTSTART;TZID=America/Halifax:20270923T130000
DTEND;TZID=America/Halifax:20270923T130000
DTSTAMP:20260419T145332
CREATED:20230614T163857Z
LAST-MODIFIED:20230614T171232Z
UID:10002936-1821704400-1821704400@harveyruralcommunity.ca
SUMMARY:Cards at Prince William Hall
DESCRIPTION:Pop in to Prince William Hall at 1 pm on Thursdays for a game of 45s!
URL:https://harveyruralcommunity.ca/event/cards-at-prince-william-hall/2027-09-23/
LOCATION:Prince William Hall\, 6662 Route 102\, Prince William
CATEGORIES:Games
ATTACH;FMTTYPE=image/jpeg:https://harveyruralcommunity.ca/wp-content/uploads/2023/06/deck-of-cards.jpeg
END:VEVENT
BEGIN:VEVENT
DTSTART;TZID=America/Halifax:20270930T130000
DTEND;TZID=America/Halifax:20270930T130000
DTSTAMP:20260419T145332
CREATED:20230614T163857Z
LAST-MODIFIED:20230614T171232Z
UID:10002937-1822309200-1822309200@harveyruralcommunity.ca
SUMMARY:Cards at Prince William Hall
DESCRIPTION:Pop in to Prince William Hall at 1 pm on Thursdays for a game of 45s!
URL:https://harveyruralcommunity.ca/event/cards-at-prince-william-hall/2027-09-30/
LOCATION:Prince William Hall\, 6662 Route 102\, Prince William
CATEGORIES:Games
ATTACH;FMTTYPE=image/jpeg:https://harveyruralcommunity.ca/wp-content/uploads/2023/06/deck-of-cards.jpeg
END:VEVENT
BEGIN:VEVENT
DTSTART;TZID=America/Halifax:20271007T130000
DTEND;TZID=America/Halifax:20271007T130000
DTSTAMP:20260419T145332
CREATED:20230614T163857Z
LAST-MODIFIED:20230614T171232Z
UID:10002938-1822914000-1822914000@harveyruralcommunity.ca
SUMMARY:Cards at Prince William Hall
DESCRIPTION:Pop in to Prince William Hall at 1 pm on Thursdays for a game of 45s!
URL:https://harveyruralcommunity.ca/event/cards-at-prince-william-hall/2027-10-07/
LOCATION:Prince William Hall\, 6662 Route 102\, Prince William
CATEGORIES:Games
ATTACH;FMTTYPE=image/jpeg:https://harveyruralcommunity.ca/wp-content/uploads/2023/06/deck-of-cards.jpeg
END:VEVENT
BEGIN:VEVENT
DTSTART;TZID=America/Halifax:20271014T130000
DTEND;TZID=America/Halifax:20271014T130000
DTSTAMP:20260419T145332
CREATED:20230614T163857Z
LAST-MODIFIED:20230614T171232Z
UID:10002939-1823518800-1823518800@harveyruralcommunity.ca
SUMMARY:Cards at Prince William Hall
DESCRIPTION:Pop in to Prince William Hall at 1 pm on Thursdays for a game of 45s!
URL:https://harveyruralcommunity.ca/event/cards-at-prince-william-hall/2027-10-14/
LOCATION:Prince William Hall\, 6662 Route 102\, Prince William
CATEGORIES:Games
ATTACH;FMTTYPE=image/jpeg:https://harveyruralcommunity.ca/wp-content/uploads/2023/06/deck-of-cards.jpeg
END:VEVENT
BEGIN:VEVENT
DTSTART;TZID=America/Halifax:20271021T130000
DTEND;TZID=America/Halifax:20271021T130000
DTSTAMP:20260419T145332
CREATED:20230614T163857Z
LAST-MODIFIED:20230614T171232Z
UID:10002940-1824123600-1824123600@harveyruralcommunity.ca
SUMMARY:Cards at Prince William Hall
DESCRIPTION:Pop in to Prince William Hall at 1 pm on Thursdays for a game of 45s!
URL:https://harveyruralcommunity.ca/event/cards-at-prince-william-hall/2027-10-21/
LOCATION:Prince William Hall\, 6662 Route 102\, Prince William
CATEGORIES:Games
ATTACH;FMTTYPE=image/jpeg:https://harveyruralcommunity.ca/wp-content/uploads/2023/06/deck-of-cards.jpeg
END:VEVENT
BEGIN:VEVENT
DTSTART;TZID=America/Halifax:20271028T130000
DTEND;TZID=America/Halifax:20271028T130000
DTSTAMP:20260419T145332
CREATED:20230614T163857Z
LAST-MODIFIED:20230614T171232Z
UID:10002941-1824728400-1824728400@harveyruralcommunity.ca
SUMMARY:Cards at Prince William Hall
DESCRIPTION:Pop in to Prince William Hall at 1 pm on Thursdays for a game of 45s!
URL:https://harveyruralcommunity.ca/event/cards-at-prince-william-hall/2027-10-28/
LOCATION:Prince William Hall\, 6662 Route 102\, Prince William
CATEGORIES:Games
ATTACH;FMTTYPE=image/jpeg:https://harveyruralcommunity.ca/wp-content/uploads/2023/06/deck-of-cards.jpeg
END:VEVENT
BEGIN:VEVENT
DTSTART;TZID=America/Halifax:20271104T130000
DTEND;TZID=America/Halifax:20271104T130000
DTSTAMP:20260419T145332
CREATED:20230614T163857Z
LAST-MODIFIED:20230614T171232Z
UID:10002942-1825333200-1825333200@harveyruralcommunity.ca
SUMMARY:Cards at Prince William Hall
DESCRIPTION:Pop in to Prince William Hall at 1 pm on Thursdays for a game of 45s!
URL:https://harveyruralcommunity.ca/event/cards-at-prince-william-hall/2027-11-04/
LOCATION:Prince William Hall\, 6662 Route 102\, Prince William
CATEGORIES:Games
ATTACH;FMTTYPE=image/jpeg:https://harveyruralcommunity.ca/wp-content/uploads/2023/06/deck-of-cards.jpeg
END:VEVENT
BEGIN:VEVENT
DTSTART;TZID=America/Halifax:20271111T130000
DTEND;TZID=America/Halifax:20271111T130000
DTSTAMP:20260419T145332
CREATED:20230614T163857Z
LAST-MODIFIED:20230614T171232Z
UID:10002943-1825938000-1825938000@harveyruralcommunity.ca
SUMMARY:Cards at Prince William Hall
DESCRIPTION:Pop in to Prince William Hall at 1 pm on Thursdays for a game of 45s!
URL:https://harveyruralcommunity.ca/event/cards-at-prince-william-hall/2027-11-11/
LOCATION:Prince William Hall\, 6662 Route 102\, Prince William
CATEGORIES:Games
ATTACH;FMTTYPE=image/jpeg:https://harveyruralcommunity.ca/wp-content/uploads/2023/06/deck-of-cards.jpeg
END:VEVENT
BEGIN:VEVENT
DTSTART;TZID=America/Halifax:20271118T130000
DTEND;TZID=America/Halifax:20271118T130000
DTSTAMP:20260419T145332
CREATED:20230614T163857Z
LAST-MODIFIED:20230614T171232Z
UID:10002944-1826542800-1826542800@harveyruralcommunity.ca
SUMMARY:Cards at Prince William Hall
DESCRIPTION:Pop in to Prince William Hall at 1 pm on Thursdays for a game of 45s!
URL:https://harveyruralcommunity.ca/event/cards-at-prince-william-hall/2027-11-18/
LOCATION:Prince William Hall\, 6662 Route 102\, Prince William
CATEGORIES:Games
ATTACH;FMTTYPE=image/jpeg:https://harveyruralcommunity.ca/wp-content/uploads/2023/06/deck-of-cards.jpeg
END:VEVENT
BEGIN:VEVENT
DTSTART;TZID=America/Halifax:20271125T130000
DTEND;TZID=America/Halifax:20271125T130000
DTSTAMP:20260419T145332
CREATED:20230614T163857Z
LAST-MODIFIED:20230614T171232Z
UID:10002945-1827147600-1827147600@harveyruralcommunity.ca
SUMMARY:Cards at Prince William Hall
DESCRIPTION:Pop in to Prince William Hall at 1 pm on Thursdays for a game of 45s!
URL:https://harveyruralcommunity.ca/event/cards-at-prince-william-hall/2027-11-25/
LOCATION:Prince William Hall\, 6662 Route 102\, Prince William
CATEGORIES:Games
ATTACH;FMTTYPE=image/jpeg:https://harveyruralcommunity.ca/wp-content/uploads/2023/06/deck-of-cards.jpeg
END:VEVENT
BEGIN:VEVENT
DTSTART;TZID=America/Halifax:20271202T130000
DTEND;TZID=America/Halifax:20271202T130000
DTSTAMP:20260419T145332
CREATED:20230614T163857Z
LAST-MODIFIED:20230614T171232Z
UID:10002946-1827752400-1827752400@harveyruralcommunity.ca
SUMMARY:Cards at Prince William Hall
DESCRIPTION:Pop in to Prince William Hall at 1 pm on Thursdays for a game of 45s!
URL:https://harveyruralcommunity.ca/event/cards-at-prince-william-hall/2027-12-02/
LOCATION:Prince William Hall\, 6662 Route 102\, Prince William
CATEGORIES:Games
ATTACH;FMTTYPE=image/jpeg:https://harveyruralcommunity.ca/wp-content/uploads/2023/06/deck-of-cards.jpeg
END:VEVENT
BEGIN:VEVENT
DTSTART;TZID=America/Halifax:20271209T130000
DTEND;TZID=America/Halifax:20271209T130000
DTSTAMP:20260419T145332
CREATED:20230614T163857Z
LAST-MODIFIED:20230614T171232Z
UID:10002947-1828357200-1828357200@harveyruralcommunity.ca
SUMMARY:Cards at Prince William Hall
DESCRIPTION:Pop in to Prince William Hall at 1 pm on Thursdays for a game of 45s!
URL:https://harveyruralcommunity.ca/event/cards-at-prince-william-hall/2027-12-09/
LOCATION:Prince William Hall\, 6662 Route 102\, Prince William
CATEGORIES:Games
ATTACH;FMTTYPE=image/jpeg:https://harveyruralcommunity.ca/wp-content/uploads/2023/06/deck-of-cards.jpeg
END:VEVENT
BEGIN:VEVENT
DTSTART;TZID=America/Halifax:20271216T130000
DTEND;TZID=America/Halifax:20271216T130000
DTSTAMP:20260419T145332
CREATED:20230614T163857Z
LAST-MODIFIED:20230614T171232Z
UID:10002948-1828962000-1828962000@harveyruralcommunity.ca
SUMMARY:Cards at Prince William Hall
DESCRIPTION:Pop in to Prince William Hall at 1 pm on Thursdays for a game of 45s!
URL:https://harveyruralcommunity.ca/event/cards-at-prince-william-hall/2027-12-16/
LOCATION:Prince William Hall\, 6662 Route 102\, Prince William
CATEGORIES:Games
ATTACH;FMTTYPE=image/jpeg:https://harveyruralcommunity.ca/wp-content/uploads/2023/06/deck-of-cards.jpeg
END:VEVENT
BEGIN:VEVENT
DTSTART;TZID=America/Halifax:20271223T130000
DTEND;TZID=America/Halifax:20271223T130000
DTSTAMP:20260419T145332
CREATED:20230614T163857Z
LAST-MODIFIED:20230614T171232Z
UID:10002949-1829566800-1829566800@harveyruralcommunity.ca
SUMMARY:Cards at Prince William Hall
DESCRIPTION:Pop in to Prince William Hall at 1 pm on Thursdays for a game of 45s!
URL:https://harveyruralcommunity.ca/event/cards-at-prince-william-hall/2027-12-23/
LOCATION:Prince William Hall\, 6662 Route 102\, Prince William
CATEGORIES:Games
ATTACH;FMTTYPE=image/jpeg:https://harveyruralcommunity.ca/wp-content/uploads/2023/06/deck-of-cards.jpeg
END:VEVENT
BEGIN:VEVENT
DTSTART;TZID=America/Halifax:20271230T130000
DTEND;TZID=America/Halifax:20271230T130000
DTSTAMP:20260419T145332
CREATED:20230614T163857Z
LAST-MODIFIED:20230614T171232Z
UID:10002950-1830171600-1830171600@harveyruralcommunity.ca
SUMMARY:Cards at Prince William Hall
DESCRIPTION:Pop in to Prince William Hall at 1 pm on Thursdays for a game of 45s!
URL:https://harveyruralcommunity.ca/event/cards-at-prince-william-hall/2027-12-30/
LOCATION:Prince William Hall\, 6662 Route 102\, Prince William
CATEGORIES:Games
ATTACH;FMTTYPE=image/jpeg:https://harveyruralcommunity.ca/wp-content/uploads/2023/06/deck-of-cards.jpeg
END:VEVENT
BEGIN:VEVENT
DTSTART;TZID=America/Halifax:20280106T130000
DTEND;TZID=America/Halifax:20280106T130000
DTSTAMP:20260419T145332
CREATED:20230614T163857Z
LAST-MODIFIED:20230614T171232Z
UID:10002951-1830776400-1830776400@harveyruralcommunity.ca
SUMMARY:Cards at Prince William Hall
DESCRIPTION:Pop in to Prince William Hall at 1 pm on Thursdays for a game of 45s!
URL:https://harveyruralcommunity.ca/event/cards-at-prince-william-hall/2028-01-06/
LOCATION:Prince William Hall\, 6662 Route 102\, Prince William
CATEGORIES:Games
ATTACH;FMTTYPE=image/jpeg:https://harveyruralcommunity.ca/wp-content/uploads/2023/06/deck-of-cards.jpeg
END:VEVENT
BEGIN:VEVENT
DTSTART;TZID=America/Halifax:20280113T130000
DTEND;TZID=America/Halifax:20280113T130000
DTSTAMP:20260419T145332
CREATED:20230614T163857Z
LAST-MODIFIED:20230614T171232Z
UID:10002952-1831381200-1831381200@harveyruralcommunity.ca
SUMMARY:Cards at Prince William Hall
DESCRIPTION:Pop in to Prince William Hall at 1 pm on Thursdays for a game of 45s!
URL:https://harveyruralcommunity.ca/event/cards-at-prince-william-hall/2028-01-13/
LOCATION:Prince William Hall\, 6662 Route 102\, Prince William
CATEGORIES:Games
ATTACH;FMTTYPE=image/jpeg:https://harveyruralcommunity.ca/wp-content/uploads/2023/06/deck-of-cards.jpeg
END:VEVENT
BEGIN:VEVENT
DTSTART;TZID=America/Halifax:20280120T130000
DTEND;TZID=America/Halifax:20280120T130000
DTSTAMP:20260419T145332
CREATED:20230614T163857Z
LAST-MODIFIED:20230614T171232Z
UID:10002953-1831986000-1831986000@harveyruralcommunity.ca
SUMMARY:Cards at Prince William Hall
DESCRIPTION:Pop in to Prince William Hall at 1 pm on Thursdays for a game of 45s!
URL:https://harveyruralcommunity.ca/event/cards-at-prince-william-hall/2028-01-20/
LOCATION:Prince William Hall\, 6662 Route 102\, Prince William
CATEGORIES:Games
ATTACH;FMTTYPE=image/jpeg:https://harveyruralcommunity.ca/wp-content/uploads/2023/06/deck-of-cards.jpeg
END:VEVENT
BEGIN:VEVENT
DTSTART;TZID=America/Halifax:20280127T130000
DTEND;TZID=America/Halifax:20280127T130000
DTSTAMP:20260419T145332
CREATED:20230614T163857Z
LAST-MODIFIED:20230614T171232Z
UID:10002954-1832590800-1832590800@harveyruralcommunity.ca
SUMMARY:Cards at Prince William Hall
DESCRIPTION:Pop in to Prince William Hall at 1 pm on Thursdays for a game of 45s!
URL:https://harveyruralcommunity.ca/event/cards-at-prince-william-hall/2028-01-27/
LOCATION:Prince William Hall\, 6662 Route 102\, Prince William
CATEGORIES:Games
ATTACH;FMTTYPE=image/jpeg:https://harveyruralcommunity.ca/wp-content/uploads/2023/06/deck-of-cards.jpeg
END:VEVENT
BEGIN:VEVENT
DTSTART;TZID=America/Halifax:20280203T130000
DTEND;TZID=America/Halifax:20280203T130000
DTSTAMP:20260419T145332
CREATED:20230614T163857Z
LAST-MODIFIED:20230614T171232Z
UID:10002955-1833195600-1833195600@harveyruralcommunity.ca
SUMMARY:Cards at Prince William Hall
DESCRIPTION:Pop in to Prince William Hall at 1 pm on Thursdays for a game of 45s!
URL:https://harveyruralcommunity.ca/event/cards-at-prince-william-hall/2028-02-03/
LOCATION:Prince William Hall\, 6662 Route 102\, Prince William
CATEGORIES:Games
ATTACH;FMTTYPE=image/jpeg:https://harveyruralcommunity.ca/wp-content/uploads/2023/06/deck-of-cards.jpeg
END:VEVENT
BEGIN:VEVENT
DTSTART;TZID=America/Halifax:20280210T130000
DTEND;TZID=America/Halifax:20280210T130000
DTSTAMP:20260419T145332
CREATED:20230614T163857Z
LAST-MODIFIED:20230614T171232Z
UID:10002956-1833800400-1833800400@harveyruralcommunity.ca
SUMMARY:Cards at Prince William Hall
DESCRIPTION:Pop in to Prince William Hall at 1 pm on Thursdays for a game of 45s!
URL:https://harveyruralcommunity.ca/event/cards-at-prince-william-hall/2028-02-10/
LOCATION:Prince William Hall\, 6662 Route 102\, Prince William
CATEGORIES:Games
ATTACH;FMTTYPE=image/jpeg:https://harveyruralcommunity.ca/wp-content/uploads/2023/06/deck-of-cards.jpeg
END:VEVENT
BEGIN:VEVENT
DTSTART;TZID=America/Halifax:20280217T130000
DTEND;TZID=America/Halifax:20280217T130000
DTSTAMP:20260419T145332
CREATED:20230614T163857Z
LAST-MODIFIED:20230614T171232Z
UID:10002957-1834405200-1834405200@harveyruralcommunity.ca
SUMMARY:Cards at Prince William Hall
DESCRIPTION:Pop in to Prince William Hall at 1 pm on Thursdays for a game of 45s!
URL:https://harveyruralcommunity.ca/event/cards-at-prince-william-hall/2028-02-17/
LOCATION:Prince William Hall\, 6662 Route 102\, Prince William
CATEGORIES:Games
ATTACH;FMTTYPE=image/jpeg:https://harveyruralcommunity.ca/wp-content/uploads/2023/06/deck-of-cards.jpeg
END:VEVENT
BEGIN:VEVENT
DTSTART;TZID=America/Halifax:20280224T130000
DTEND;TZID=America/Halifax:20280224T130000
DTSTAMP:20260419T145332
CREATED:20230614T163857Z
LAST-MODIFIED:20230614T171232Z
UID:10002958-1835010000-1835010000@harveyruralcommunity.ca
SUMMARY:Cards at Prince William Hall
DESCRIPTION:Pop in to Prince William Hall at 1 pm on Thursdays for a game of 45s!
URL:https://harveyruralcommunity.ca/event/cards-at-prince-william-hall/2028-02-24/
LOCATION:Prince William Hall\, 6662 Route 102\, Prince William
CATEGORIES:Games
ATTACH;FMTTYPE=image/jpeg:https://harveyruralcommunity.ca/wp-content/uploads/2023/06/deck-of-cards.jpeg
END:VEVENT
BEGIN:VEVENT
DTSTART;TZID=America/Halifax:20280302T130000
DTEND;TZID=America/Halifax:20280302T130000
DTSTAMP:20260419T145332
CREATED:20230614T163857Z
LAST-MODIFIED:20230614T171232Z
UID:10002959-1835614800-1835614800@harveyruralcommunity.ca
SUMMARY:Cards at Prince William Hall
DESCRIPTION:Pop in to Prince William Hall at 1 pm on Thursdays for a game of 45s!
URL:https://harveyruralcommunity.ca/event/cards-at-prince-william-hall/2028-03-02/
LOCATION:Prince William Hall\, 6662 Route 102\, Prince William
CATEGORIES:Games
ATTACH;FMTTYPE=image/jpeg:https://harveyruralcommunity.ca/wp-content/uploads/2023/06/deck-of-cards.jpeg
END:VEVENT
BEGIN:VEVENT
DTSTART;TZID=America/Halifax:20280309T130000
DTEND;TZID=America/Halifax:20280309T130000
DTSTAMP:20260419T145332
CREATED:20230614T163857Z
LAST-MODIFIED:20230614T171232Z
UID:10002960-1836219600-1836219600@harveyruralcommunity.ca
SUMMARY:Cards at Prince William Hall
DESCRIPTION:Pop in to Prince William Hall at 1 pm on Thursdays for a game of 45s!
URL:https://harveyruralcommunity.ca/event/cards-at-prince-william-hall/2028-03-09/
LOCATION:Prince William Hall\, 6662 Route 102\, Prince William
CATEGORIES:Games
ATTACH;FMTTYPE=image/jpeg:https://harveyruralcommunity.ca/wp-content/uploads/2023/06/deck-of-cards.jpeg
END:VEVENT
BEGIN:VEVENT
DTSTART;TZID=America/Halifax:20280316T130000
DTEND;TZID=America/Halifax:20280316T130000
DTSTAMP:20260419T145332
CREATED:20230614T163857Z
LAST-MODIFIED:20230614T171232Z
UID:10002961-1836824400-1836824400@harveyruralcommunity.ca
SUMMARY:Cards at Prince William Hall
DESCRIPTION:Pop in to Prince William Hall at 1 pm on Thursdays for a game of 45s!
URL:https://harveyruralcommunity.ca/event/cards-at-prince-william-hall/2028-03-16/
LOCATION:Prince William Hall\, 6662 Route 102\, Prince William
CATEGORIES:Games
ATTACH;FMTTYPE=image/jpeg:https://harveyruralcommunity.ca/wp-content/uploads/2023/06/deck-of-cards.jpeg
END:VEVENT
BEGIN:VEVENT
DTSTART;TZID=America/Halifax:20280323T130000
DTEND;TZID=America/Halifax:20280323T130000
DTSTAMP:20260419T145332
CREATED:20230614T163857Z
LAST-MODIFIED:20230614T171232Z
UID:10002962-1837429200-1837429200@harveyruralcommunity.ca
SUMMARY:Cards at Prince William Hall
DESCRIPTION:Pop in to Prince William Hall at 1 pm on Thursdays for a game of 45s!
URL:https://harveyruralcommunity.ca/event/cards-at-prince-william-hall/2028-03-23/
LOCATION:Prince William Hall\, 6662 Route 102\, Prince William
CATEGORIES:Games
ATTACH;FMTTYPE=image/jpeg:https://harveyruralcommunity.ca/wp-content/uploads/2023/06/deck-of-cards.jpeg
END:VEVENT
BEGIN:VEVENT
DTSTART;TZID=America/Halifax:20280330T130000
DTEND;TZID=America/Halifax:20280330T130000
DTSTAMP:20260419T145332
CREATED:20230614T163857Z
LAST-MODIFIED:20230614T171232Z
UID:10002963-1838034000-1838034000@harveyruralcommunity.ca
SUMMARY:Cards at Prince William Hall
DESCRIPTION:Pop in to Prince William Hall at 1 pm on Thursdays for a game of 45s!
URL:https://harveyruralcommunity.ca/event/cards-at-prince-william-hall/2028-03-30/
LOCATION:Prince William Hall\, 6662 Route 102\, Prince William
CATEGORIES:Games
ATTACH;FMTTYPE=image/jpeg:https://harveyruralcommunity.ca/wp-content/uploads/2023/06/deck-of-cards.jpeg
END:VEVENT
END:VCALENDAR