BEGIN:VCALENDAR
VERSION:2.0
PRODID:-//Harvey Rural Community - ECPv6.6.1//NONSGML v1.0//EN
CALSCALE:GREGORIAN
METHOD:PUBLISH
X-WR-CALNAME:Harvey Rural Community
X-ORIGINAL-URL:https://harveyruralcommunity.ca
X-WR-CALDESC:Events for Harvey Rural Community
BEGIN:VTIMEZONE
TZID:America/Halifax
BEGIN:DAYLIGHT
TZOFFSETFROM:-0400
TZOFFSETTO:-0300
TZNAME:ADT
DTSTART:20270314T060000
END:DAYLIGHT
BEGIN:STANDARD
TZOFFSETFROM:-0300
TZOFFSETTO:-0400
TZNAME:AST
DTSTART:20271107T050000
END:STANDARD
BEGIN:DAYLIGHT
TZOFFSETFROM:-0400
TZOFFSETTO:-0300
TZNAME:ADT
DTSTART:20280312T060000
END:DAYLIGHT
BEGIN:STANDARD
TZOFFSETFROM:-0300
TZOFFSETTO:-0400
TZNAME:AST
DTSTART:20281105T050000
END:STANDARD
END:VTIMEZONE
BEGIN:VEVENT
DTSTART;TZID=America/Halifax:20271203T103000
DTEND;TZID=America/Halifax:20271203T113000
DTSTAMP:20260423T070402
CREATED:20230517T142927Z
LAST-MODIFIED:20230614T172055Z
UID:10002146-1827829800-1827833400@harveyruralcommunity.ca
SUMMARY:Family Storytime at the Library
DESCRIPTION:Join us for a few stories\, songs and activities for children. Every Friday at 10:30am at the Library.
URL:https://harveyruralcommunity.ca/event/family-storytime-at-the-library/2027-12-03/
LOCATION:Harvey Community Library\, 2055 NB-3\, Harvey\, NB E6K 1L1
ATTACH;FMTTYPE=image/png:https://harveyruralcommunity.ca/wp-content/uploads/2023/05/Storytime.png
END:VEVENT
BEGIN:VEVENT
DTSTART;TZID=America/Halifax:20271210T103000
DTEND;TZID=America/Halifax:20271210T113000
DTSTAMP:20260423T070402
CREATED:20230517T142927Z
LAST-MODIFIED:20230614T172055Z
UID:10002147-1828434600-1828438200@harveyruralcommunity.ca
SUMMARY:Family Storytime at the Library
DESCRIPTION:Join us for a few stories\, songs and activities for children. Every Friday at 10:30am at the Library.
URL:https://harveyruralcommunity.ca/event/family-storytime-at-the-library/2027-12-10/
LOCATION:Harvey Community Library\, 2055 NB-3\, Harvey\, NB E6K 1L1
ATTACH;FMTTYPE=image/png:https://harveyruralcommunity.ca/wp-content/uploads/2023/05/Storytime.png
END:VEVENT
BEGIN:VEVENT
DTSTART;TZID=America/Halifax:20271217T103000
DTEND;TZID=America/Halifax:20271217T113000
DTSTAMP:20260423T070402
CREATED:20230517T142927Z
LAST-MODIFIED:20230614T172055Z
UID:10002148-1829039400-1829043000@harveyruralcommunity.ca
SUMMARY:Family Storytime at the Library
DESCRIPTION:Join us for a few stories\, songs and activities for children. Every Friday at 10:30am at the Library.
URL:https://harveyruralcommunity.ca/event/family-storytime-at-the-library/2027-12-17/
LOCATION:Harvey Community Library\, 2055 NB-3\, Harvey\, NB E6K 1L1
ATTACH;FMTTYPE=image/png:https://harveyruralcommunity.ca/wp-content/uploads/2023/05/Storytime.png
END:VEVENT
BEGIN:VEVENT
DTSTART;TZID=America/Halifax:20271224T103000
DTEND;TZID=America/Halifax:20271224T113000
DTSTAMP:20260423T070402
CREATED:20230517T142927Z
LAST-MODIFIED:20230614T172055Z
UID:10002149-1829644200-1829647800@harveyruralcommunity.ca
SUMMARY:Family Storytime at the Library
DESCRIPTION:Join us for a few stories\, songs and activities for children. Every Friday at 10:30am at the Library.
URL:https://harveyruralcommunity.ca/event/family-storytime-at-the-library/2027-12-24/
LOCATION:Harvey Community Library\, 2055 NB-3\, Harvey\, NB E6K 1L1
ATTACH;FMTTYPE=image/png:https://harveyruralcommunity.ca/wp-content/uploads/2023/05/Storytime.png
END:VEVENT
BEGIN:VEVENT
DTSTART;TZID=America/Halifax:20271231T103000
DTEND;TZID=America/Halifax:20271231T113000
DTSTAMP:20260423T070403
CREATED:20230517T142927Z
LAST-MODIFIED:20230614T172055Z
UID:10002150-1830249000-1830252600@harveyruralcommunity.ca
SUMMARY:Family Storytime at the Library
DESCRIPTION:Join us for a few stories\, songs and activities for children. Every Friday at 10:30am at the Library.
URL:https://harveyruralcommunity.ca/event/family-storytime-at-the-library/2027-12-31/
LOCATION:Harvey Community Library\, 2055 NB-3\, Harvey\, NB E6K 1L1
ATTACH;FMTTYPE=image/png:https://harveyruralcommunity.ca/wp-content/uploads/2023/05/Storytime.png
END:VEVENT
BEGIN:VEVENT
DTSTART;TZID=America/Halifax:20280107T103000
DTEND;TZID=America/Halifax:20280107T113000
DTSTAMP:20260423T070403
CREATED:20230517T142927Z
LAST-MODIFIED:20230614T172055Z
UID:10002151-1830853800-1830857400@harveyruralcommunity.ca
SUMMARY:Family Storytime at the Library
DESCRIPTION:Join us for a few stories\, songs and activities for children. Every Friday at 10:30am at the Library.
URL:https://harveyruralcommunity.ca/event/family-storytime-at-the-library/2028-01-07/
LOCATION:Harvey Community Library\, 2055 NB-3\, Harvey\, NB E6K 1L1
ATTACH;FMTTYPE=image/png:https://harveyruralcommunity.ca/wp-content/uploads/2023/05/Storytime.png
END:VEVENT
BEGIN:VEVENT
DTSTART;TZID=America/Halifax:20280114T103000
DTEND;TZID=America/Halifax:20280114T113000
DTSTAMP:20260423T070403
CREATED:20230517T142927Z
LAST-MODIFIED:20230614T172055Z
UID:10002152-1831458600-1831462200@harveyruralcommunity.ca
SUMMARY:Family Storytime at the Library
DESCRIPTION:Join us for a few stories\, songs and activities for children. Every Friday at 10:30am at the Library.
URL:https://harveyruralcommunity.ca/event/family-storytime-at-the-library/2028-01-14/
LOCATION:Harvey Community Library\, 2055 NB-3\, Harvey\, NB E6K 1L1
ATTACH;FMTTYPE=image/png:https://harveyruralcommunity.ca/wp-content/uploads/2023/05/Storytime.png
END:VEVENT
BEGIN:VEVENT
DTSTART;TZID=America/Halifax:20280121T103000
DTEND;TZID=America/Halifax:20280121T113000
DTSTAMP:20260423T070403
CREATED:20230517T142927Z
LAST-MODIFIED:20230614T172055Z
UID:10002153-1832063400-1832067000@harveyruralcommunity.ca
SUMMARY:Family Storytime at the Library
DESCRIPTION:Join us for a few stories\, songs and activities for children. Every Friday at 10:30am at the Library.
URL:https://harveyruralcommunity.ca/event/family-storytime-at-the-library/2028-01-21/
LOCATION:Harvey Community Library\, 2055 NB-3\, Harvey\, NB E6K 1L1
ATTACH;FMTTYPE=image/png:https://harveyruralcommunity.ca/wp-content/uploads/2023/05/Storytime.png
END:VEVENT
BEGIN:VEVENT
DTSTART;TZID=America/Halifax:20280128T103000
DTEND;TZID=America/Halifax:20280128T113000
DTSTAMP:20260423T070403
CREATED:20230517T142927Z
LAST-MODIFIED:20230614T172055Z
UID:10002154-1832668200-1832671800@harveyruralcommunity.ca
SUMMARY:Family Storytime at the Library
DESCRIPTION:Join us for a few stories\, songs and activities for children. Every Friday at 10:30am at the Library.
URL:https://harveyruralcommunity.ca/event/family-storytime-at-the-library/2028-01-28/
LOCATION:Harvey Community Library\, 2055 NB-3\, Harvey\, NB E6K 1L1
ATTACH;FMTTYPE=image/png:https://harveyruralcommunity.ca/wp-content/uploads/2023/05/Storytime.png
END:VEVENT
BEGIN:VEVENT
DTSTART;TZID=America/Halifax:20280204T103000
DTEND;TZID=America/Halifax:20280204T113000
DTSTAMP:20260423T070403
CREATED:20230517T142927Z
LAST-MODIFIED:20230614T172055Z
UID:10002155-1833273000-1833276600@harveyruralcommunity.ca
SUMMARY:Family Storytime at the Library
DESCRIPTION:Join us for a few stories\, songs and activities for children. Every Friday at 10:30am at the Library.
URL:https://harveyruralcommunity.ca/event/family-storytime-at-the-library/2028-02-04/
LOCATION:Harvey Community Library\, 2055 NB-3\, Harvey\, NB E6K 1L1
ATTACH;FMTTYPE=image/png:https://harveyruralcommunity.ca/wp-content/uploads/2023/05/Storytime.png
END:VEVENT
BEGIN:VEVENT
DTSTART;TZID=America/Halifax:20280211T103000
DTEND;TZID=America/Halifax:20280211T113000
DTSTAMP:20260423T070403
CREATED:20230517T142927Z
LAST-MODIFIED:20230614T172055Z
UID:10002156-1833877800-1833881400@harveyruralcommunity.ca
SUMMARY:Family Storytime at the Library
DESCRIPTION:Join us for a few stories\, songs and activities for children. Every Friday at 10:30am at the Library.
URL:https://harveyruralcommunity.ca/event/family-storytime-at-the-library/2028-02-11/
LOCATION:Harvey Community Library\, 2055 NB-3\, Harvey\, NB E6K 1L1
ATTACH;FMTTYPE=image/png:https://harveyruralcommunity.ca/wp-content/uploads/2023/05/Storytime.png
END:VEVENT
BEGIN:VEVENT
DTSTART;TZID=America/Halifax:20280218T103000
DTEND;TZID=America/Halifax:20280218T113000
DTSTAMP:20260423T070403
CREATED:20230517T142927Z
LAST-MODIFIED:20230614T172055Z
UID:10002157-1834482600-1834486200@harveyruralcommunity.ca
SUMMARY:Family Storytime at the Library
DESCRIPTION:Join us for a few stories\, songs and activities for children. Every Friday at 10:30am at the Library.
URL:https://harveyruralcommunity.ca/event/family-storytime-at-the-library/2028-02-18/
LOCATION:Harvey Community Library\, 2055 NB-3\, Harvey\, NB E6K 1L1
ATTACH;FMTTYPE=image/png:https://harveyruralcommunity.ca/wp-content/uploads/2023/05/Storytime.png
END:VEVENT
BEGIN:VEVENT
DTSTART;TZID=America/Halifax:20280225T103000
DTEND;TZID=America/Halifax:20280225T113000
DTSTAMP:20260423T070403
CREATED:20230517T142927Z
LAST-MODIFIED:20230614T172055Z
UID:10002158-1835087400-1835091000@harveyruralcommunity.ca
SUMMARY:Family Storytime at the Library
DESCRIPTION:Join us for a few stories\, songs and activities for children. Every Friday at 10:30am at the Library.
URL:https://harveyruralcommunity.ca/event/family-storytime-at-the-library/2028-02-25/
LOCATION:Harvey Community Library\, 2055 NB-3\, Harvey\, NB E6K 1L1
ATTACH;FMTTYPE=image/png:https://harveyruralcommunity.ca/wp-content/uploads/2023/05/Storytime.png
END:VEVENT
BEGIN:VEVENT
DTSTART;TZID=America/Halifax:20280303T103000
DTEND;TZID=America/Halifax:20280303T113000
DTSTAMP:20260423T070403
CREATED:20230517T142927Z
LAST-MODIFIED:20230614T172055Z
UID:10002159-1835692200-1835695800@harveyruralcommunity.ca
SUMMARY:Family Storytime at the Library
DESCRIPTION:Join us for a few stories\, songs and activities for children. Every Friday at 10:30am at the Library.
URL:https://harveyruralcommunity.ca/event/family-storytime-at-the-library/2028-03-03/
LOCATION:Harvey Community Library\, 2055 NB-3\, Harvey\, NB E6K 1L1
ATTACH;FMTTYPE=image/png:https://harveyruralcommunity.ca/wp-content/uploads/2023/05/Storytime.png
END:VEVENT
BEGIN:VEVENT
DTSTART;TZID=America/Halifax:20280310T103000
DTEND;TZID=America/Halifax:20280310T113000
DTSTAMP:20260423T070403
CREATED:20230517T142927Z
LAST-MODIFIED:20230614T172055Z
UID:10002160-1836297000-1836300600@harveyruralcommunity.ca
SUMMARY:Family Storytime at the Library
DESCRIPTION:Join us for a few stories\, songs and activities for children. Every Friday at 10:30am at the Library.
URL:https://harveyruralcommunity.ca/event/family-storytime-at-the-library/2028-03-10/
LOCATION:Harvey Community Library\, 2055 NB-3\, Harvey\, NB E6K 1L1
ATTACH;FMTTYPE=image/png:https://harveyruralcommunity.ca/wp-content/uploads/2023/05/Storytime.png
END:VEVENT
BEGIN:VEVENT
DTSTART;TZID=America/Halifax:20280317T103000
DTEND;TZID=America/Halifax:20280317T113000
DTSTAMP:20260423T070403
CREATED:20230517T142927Z
LAST-MODIFIED:20230614T172055Z
UID:10002161-1836901800-1836905400@harveyruralcommunity.ca
SUMMARY:Family Storytime at the Library
DESCRIPTION:Join us for a few stories\, songs and activities for children. Every Friday at 10:30am at the Library.
URL:https://harveyruralcommunity.ca/event/family-storytime-at-the-library/2028-03-17/
LOCATION:Harvey Community Library\, 2055 NB-3\, Harvey\, NB E6K 1L1
ATTACH;FMTTYPE=image/png:https://harveyruralcommunity.ca/wp-content/uploads/2023/05/Storytime.png
END:VEVENT
BEGIN:VEVENT
DTSTART;TZID=America/Halifax:20280324T103000
DTEND;TZID=America/Halifax:20280324T113000
DTSTAMP:20260423T070403
CREATED:20230517T142927Z
LAST-MODIFIED:20230614T172055Z
UID:10002162-1837506600-1837510200@harveyruralcommunity.ca
SUMMARY:Family Storytime at the Library
DESCRIPTION:Join us for a few stories\, songs and activities for children. Every Friday at 10:30am at the Library.
URL:https://harveyruralcommunity.ca/event/family-storytime-at-the-library/2028-03-24/
LOCATION:Harvey Community Library\, 2055 NB-3\, Harvey\, NB E6K 1L1
ATTACH;FMTTYPE=image/png:https://harveyruralcommunity.ca/wp-content/uploads/2023/05/Storytime.png
END:VEVENT
BEGIN:VEVENT
DTSTART;TZID=America/Halifax:20280331T103000
DTEND;TZID=America/Halifax:20280331T113000
DTSTAMP:20260423T070403
CREATED:20230517T142927Z
LAST-MODIFIED:20230614T172055Z
UID:10002163-1838111400-1838115000@harveyruralcommunity.ca
SUMMARY:Family Storytime at the Library
DESCRIPTION:Join us for a few stories\, songs and activities for children. Every Friday at 10:30am at the Library.
URL:https://harveyruralcommunity.ca/event/family-storytime-at-the-library/2028-03-31/
LOCATION:Harvey Community Library\, 2055 NB-3\, Harvey\, NB E6K 1L1
ATTACH;FMTTYPE=image/png:https://harveyruralcommunity.ca/wp-content/uploads/2023/05/Storytime.png
END:VEVENT
BEGIN:VEVENT
DTSTART;TZID=America/Halifax:20280407T103000
DTEND;TZID=America/Halifax:20280407T113000
DTSTAMP:20260423T070403
CREATED:20230517T142927Z
LAST-MODIFIED:20230614T172055Z
UID:10002164-1838716200-1838719800@harveyruralcommunity.ca
SUMMARY:Family Storytime at the Library
DESCRIPTION:Join us for a few stories\, songs and activities for children. Every Friday at 10:30am at the Library.
URL:https://harveyruralcommunity.ca/event/family-storytime-at-the-library/2028-04-07/
LOCATION:Harvey Community Library\, 2055 NB-3\, Harvey\, NB E6K 1L1
ATTACH;FMTTYPE=image/png:https://harveyruralcommunity.ca/wp-content/uploads/2023/05/Storytime.png
END:VEVENT
BEGIN:VEVENT
DTSTART;TZID=America/Halifax:20280414T103000
DTEND;TZID=America/Halifax:20280414T113000
DTSTAMP:20260423T070403
CREATED:20230517T142927Z
LAST-MODIFIED:20230614T172055Z
UID:10002165-1839321000-1839324600@harveyruralcommunity.ca
SUMMARY:Family Storytime at the Library
DESCRIPTION:Join us for a few stories\, songs and activities for children. Every Friday at 10:30am at the Library.
URL:https://harveyruralcommunity.ca/event/family-storytime-at-the-library/2028-04-14/
LOCATION:Harvey Community Library\, 2055 NB-3\, Harvey\, NB E6K 1L1
ATTACH;FMTTYPE=image/png:https://harveyruralcommunity.ca/wp-content/uploads/2023/05/Storytime.png
END:VEVENT
BEGIN:VEVENT
DTSTART;TZID=America/Halifax:20280421T103000
DTEND;TZID=America/Halifax:20280421T113000
DTSTAMP:20260423T070403
CREATED:20230517T142927Z
LAST-MODIFIED:20230614T172055Z
UID:10002166-1839925800-1839929400@harveyruralcommunity.ca
SUMMARY:Family Storytime at the Library
DESCRIPTION:Join us for a few stories\, songs and activities for children. Every Friday at 10:30am at the Library.
URL:https://harveyruralcommunity.ca/event/family-storytime-at-the-library/2028-04-21/
LOCATION:Harvey Community Library\, 2055 NB-3\, Harvey\, NB E6K 1L1
ATTACH;FMTTYPE=image/png:https://harveyruralcommunity.ca/wp-content/uploads/2023/05/Storytime.png
END:VEVENT
BEGIN:VEVENT
DTSTART;TZID=America/Halifax:20280428T103000
DTEND;TZID=America/Halifax:20280428T113000
DTSTAMP:20260423T070403
CREATED:20230517T142927Z
LAST-MODIFIED:20230614T172055Z
UID:10002167-1840530600-1840534200@harveyruralcommunity.ca
SUMMARY:Family Storytime at the Library
DESCRIPTION:Join us for a few stories\, songs and activities for children. Every Friday at 10:30am at the Library.
URL:https://harveyruralcommunity.ca/event/family-storytime-at-the-library/2028-04-28/
LOCATION:Harvey Community Library\, 2055 NB-3\, Harvey\, NB E6K 1L1
ATTACH;FMTTYPE=image/png:https://harveyruralcommunity.ca/wp-content/uploads/2023/05/Storytime.png
END:VEVENT
BEGIN:VEVENT
DTSTART;TZID=America/Halifax:20280505T103000
DTEND;TZID=America/Halifax:20280505T113000
DTSTAMP:20260423T070403
CREATED:20230517T142927Z
LAST-MODIFIED:20230614T172055Z
UID:10002168-1841135400-1841139000@harveyruralcommunity.ca
SUMMARY:Family Storytime at the Library
DESCRIPTION:Join us for a few stories\, songs and activities for children. Every Friday at 10:30am at the Library.
URL:https://harveyruralcommunity.ca/event/family-storytime-at-the-library/2028-05-05/
LOCATION:Harvey Community Library\, 2055 NB-3\, Harvey\, NB E6K 1L1
ATTACH;FMTTYPE=image/png:https://harveyruralcommunity.ca/wp-content/uploads/2023/05/Storytime.png
END:VEVENT
BEGIN:VEVENT
DTSTART;TZID=America/Halifax:20280512T103000
DTEND;TZID=America/Halifax:20280512T113000
DTSTAMP:20260423T070403
CREATED:20230517T142927Z
LAST-MODIFIED:20230614T172055Z
UID:10002169-1841740200-1841743800@harveyruralcommunity.ca
SUMMARY:Family Storytime at the Library
DESCRIPTION:Join us for a few stories\, songs and activities for children. Every Friday at 10:30am at the Library.
URL:https://harveyruralcommunity.ca/event/family-storytime-at-the-library/2028-05-12/
LOCATION:Harvey Community Library\, 2055 NB-3\, Harvey\, NB E6K 1L1
ATTACH;FMTTYPE=image/png:https://harveyruralcommunity.ca/wp-content/uploads/2023/05/Storytime.png
END:VEVENT
BEGIN:VEVENT
DTSTART;TZID=America/Halifax:20280519T103000
DTEND;TZID=America/Halifax:20280519T113000
DTSTAMP:20260423T070403
CREATED:20230517T142927Z
LAST-MODIFIED:20230614T172055Z
UID:10002170-1842345000-1842348600@harveyruralcommunity.ca
SUMMARY:Family Storytime at the Library
DESCRIPTION:Join us for a few stories\, songs and activities for children. Every Friday at 10:30am at the Library.
URL:https://harveyruralcommunity.ca/event/family-storytime-at-the-library/2028-05-19/
LOCATION:Harvey Community Library\, 2055 NB-3\, Harvey\, NB E6K 1L1
ATTACH;FMTTYPE=image/png:https://harveyruralcommunity.ca/wp-content/uploads/2023/05/Storytime.png
END:VEVENT
BEGIN:VEVENT
DTSTART;TZID=America/Halifax:20280526T103000
DTEND;TZID=America/Halifax:20280526T113000
DTSTAMP:20260423T070403
CREATED:20230517T142927Z
LAST-MODIFIED:20230614T172055Z
UID:10002171-1842949800-1842953400@harveyruralcommunity.ca
SUMMARY:Family Storytime at the Library
DESCRIPTION:Join us for a few stories\, songs and activities for children. Every Friday at 10:30am at the Library.
URL:https://harveyruralcommunity.ca/event/family-storytime-at-the-library/2028-05-26/
LOCATION:Harvey Community Library\, 2055 NB-3\, Harvey\, NB E6K 1L1
ATTACH;FMTTYPE=image/png:https://harveyruralcommunity.ca/wp-content/uploads/2023/05/Storytime.png
END:VEVENT
BEGIN:VEVENT
DTSTART;TZID=America/Halifax:20280602T103000
DTEND;TZID=America/Halifax:20280602T113000
DTSTAMP:20260423T070403
CREATED:20230517T142927Z
LAST-MODIFIED:20230614T172055Z
UID:10002974-1843554600-1843558200@harveyruralcommunity.ca
SUMMARY:Family Storytime at the Library
DESCRIPTION:Join us for a few stories\, songs and activities for children. Every Friday at 10:30am at the Library.
URL:https://harveyruralcommunity.ca/event/family-storytime-at-the-library/2028-06-02/
LOCATION:Harvey Community Library\, 2055 NB-3\, Harvey\, NB E6K 1L1
ATTACH;FMTTYPE=image/png:https://harveyruralcommunity.ca/wp-content/uploads/2023/05/Storytime.png
END:VEVENT
BEGIN:VEVENT
DTSTART;TZID=America/Halifax:20280609T103000
DTEND;TZID=America/Halifax:20280609T113000
DTSTAMP:20260423T070403
CREATED:20230517T142927Z
LAST-MODIFIED:20230614T172055Z
UID:10002975-1844159400-1844163000@harveyruralcommunity.ca
SUMMARY:Family Storytime at the Library
DESCRIPTION:Join us for a few stories\, songs and activities for children. Every Friday at 10:30am at the Library.
URL:https://harveyruralcommunity.ca/event/family-storytime-at-the-library/2028-06-09/
LOCATION:Harvey Community Library\, 2055 NB-3\, Harvey\, NB E6K 1L1
ATTACH;FMTTYPE=image/png:https://harveyruralcommunity.ca/wp-content/uploads/2023/05/Storytime.png
END:VEVENT
END:VCALENDAR