BEGIN:VCALENDAR
VERSION:2.0
PRODID:-//Harvey Rural Community - ECPv6.6.1//NONSGML v1.0//EN
CALSCALE:GREGORIAN
METHOD:PUBLISH
X-WR-CALNAME:Harvey Rural Community
X-ORIGINAL-URL:https://harveyruralcommunity.ca
X-WR-CALDESC:Events for Harvey Rural Community
BEGIN:VTIMEZONE
TZID:America/Halifax
BEGIN:DAYLIGHT
TZOFFSETFROM:-0400
TZOFFSETTO:-0300
TZNAME:ADT
DTSTART:20270314T060000
END:DAYLIGHT
BEGIN:STANDARD
TZOFFSETFROM:-0300
TZOFFSETTO:-0400
TZNAME:AST
DTSTART:20271107T050000
END:STANDARD
END:VTIMEZONE
BEGIN:VEVENT
DTSTART;TZID=America/Halifax:20270324T190000
DTEND;TZID=America/Halifax:20270324T200000
DTSTAMP:20260422T095705
CREATED:20240812T174216Z
LAST-MODIFIED:20240814T132356Z
UID:10006139-1805914800-1805918400@harveyruralcommunity.ca
SUMMARY:Harvey HIIT Class
DESCRIPTION:Join us for an invigorating high-intensity interval training (HIIT) class from 7-8PM at the HMCC.
URL:https://harveyruralcommunity.ca/event/harvey-hiit-class-2/2027-03-24/
LOCATION:Harvey Memorial Community Centre\, 58 Hanselpacker St\, Harvey Station\, NB E6K 1A3\, Canada
END:VEVENT
BEGIN:VEVENT
DTSTART;TZID=America/Halifax:20270329T190000
DTEND;TZID=America/Halifax:20270329T200000
DTSTAMP:20260422T095705
CREATED:20240812T174216Z
LAST-MODIFIED:20240814T132356Z
UID:10006140-1806346800-1806350400@harveyruralcommunity.ca
SUMMARY:Harvey HIIT Class
DESCRIPTION:Join us for an invigorating high-intensity interval training (HIIT) class from 7-8PM at the HMCC.
URL:https://harveyruralcommunity.ca/event/harvey-hiit-class-2/2027-03-29/
LOCATION:Harvey Memorial Community Centre\, 58 Hanselpacker St\, Harvey Station\, NB E6K 1A3\, Canada
END:VEVENT
BEGIN:VEVENT
DTSTART;TZID=America/Halifax:20270331T190000
DTEND;TZID=America/Halifax:20270331T200000
DTSTAMP:20260422T095705
CREATED:20240812T174216Z
LAST-MODIFIED:20240814T132356Z
UID:10006141-1806519600-1806523200@harveyruralcommunity.ca
SUMMARY:Harvey HIIT Class
DESCRIPTION:Join us for an invigorating high-intensity interval training (HIIT) class from 7-8PM at the HMCC.
URL:https://harveyruralcommunity.ca/event/harvey-hiit-class-2/2027-03-31/
LOCATION:Harvey Memorial Community Centre\, 58 Hanselpacker St\, Harvey Station\, NB E6K 1A3\, Canada
END:VEVENT
BEGIN:VEVENT
DTSTART;TZID=America/Halifax:20270405T190000
DTEND;TZID=America/Halifax:20270405T200000
DTSTAMP:20260422T095705
CREATED:20240812T174216Z
LAST-MODIFIED:20240814T132356Z
UID:10006142-1806951600-1806955200@harveyruralcommunity.ca
SUMMARY:Harvey HIIT Class
DESCRIPTION:Join us for an invigorating high-intensity interval training (HIIT) class from 7-8PM at the HMCC.
URL:https://harveyruralcommunity.ca/event/harvey-hiit-class-2/2027-04-05/
LOCATION:Harvey Memorial Community Centre\, 58 Hanselpacker St\, Harvey Station\, NB E6K 1A3\, Canada
END:VEVENT
BEGIN:VEVENT
DTSTART;TZID=America/Halifax:20270407T190000
DTEND;TZID=America/Halifax:20270407T200000
DTSTAMP:20260422T095705
CREATED:20240812T174216Z
LAST-MODIFIED:20240814T132356Z
UID:10006143-1807124400-1807128000@harveyruralcommunity.ca
SUMMARY:Harvey HIIT Class
DESCRIPTION:Join us for an invigorating high-intensity interval training (HIIT) class from 7-8PM at the HMCC.
URL:https://harveyruralcommunity.ca/event/harvey-hiit-class-2/2027-04-07/
LOCATION:Harvey Memorial Community Centre\, 58 Hanselpacker St\, Harvey Station\, NB E6K 1A3\, Canada
END:VEVENT
BEGIN:VEVENT
DTSTART;TZID=America/Halifax:20270412T190000
DTEND;TZID=America/Halifax:20270412T200000
DTSTAMP:20260422T095705
CREATED:20240812T174216Z
LAST-MODIFIED:20240814T132356Z
UID:10006144-1807556400-1807560000@harveyruralcommunity.ca
SUMMARY:Harvey HIIT Class
DESCRIPTION:Join us for an invigorating high-intensity interval training (HIIT) class from 7-8PM at the HMCC.
URL:https://harveyruralcommunity.ca/event/harvey-hiit-class-2/2027-04-12/
LOCATION:Harvey Memorial Community Centre\, 58 Hanselpacker St\, Harvey Station\, NB E6K 1A3\, Canada
END:VEVENT
BEGIN:VEVENT
DTSTART;TZID=America/Halifax:20270414T190000
DTEND;TZID=America/Halifax:20270414T200000
DTSTAMP:20260422T095705
CREATED:20240812T174216Z
LAST-MODIFIED:20240814T132356Z
UID:10006145-1807729200-1807732800@harveyruralcommunity.ca
SUMMARY:Harvey HIIT Class
DESCRIPTION:Join us for an invigorating high-intensity interval training (HIIT) class from 7-8PM at the HMCC.
URL:https://harveyruralcommunity.ca/event/harvey-hiit-class-2/2027-04-14/
LOCATION:Harvey Memorial Community Centre\, 58 Hanselpacker St\, Harvey Station\, NB E6K 1A3\, Canada
END:VEVENT
BEGIN:VEVENT
DTSTART;TZID=America/Halifax:20270419T190000
DTEND;TZID=America/Halifax:20270419T200000
DTSTAMP:20260422T095705
CREATED:20240812T174216Z
LAST-MODIFIED:20240814T132356Z
UID:10006146-1808161200-1808164800@harveyruralcommunity.ca
SUMMARY:Harvey HIIT Class
DESCRIPTION:Join us for an invigorating high-intensity interval training (HIIT) class from 7-8PM at the HMCC.
URL:https://harveyruralcommunity.ca/event/harvey-hiit-class-2/2027-04-19/
LOCATION:Harvey Memorial Community Centre\, 58 Hanselpacker St\, Harvey Station\, NB E6K 1A3\, Canada
END:VEVENT
BEGIN:VEVENT
DTSTART;TZID=America/Halifax:20270421T190000
DTEND;TZID=America/Halifax:20270421T200000
DTSTAMP:20260422T095705
CREATED:20240812T174216Z
LAST-MODIFIED:20240814T132356Z
UID:10006147-1808334000-1808337600@harveyruralcommunity.ca
SUMMARY:Harvey HIIT Class
DESCRIPTION:Join us for an invigorating high-intensity interval training (HIIT) class from 7-8PM at the HMCC.
URL:https://harveyruralcommunity.ca/event/harvey-hiit-class-2/2027-04-21/
LOCATION:Harvey Memorial Community Centre\, 58 Hanselpacker St\, Harvey Station\, NB E6K 1A3\, Canada
END:VEVENT
BEGIN:VEVENT
DTSTART;TZID=America/Halifax:20270426T190000
DTEND;TZID=America/Halifax:20270426T200000
DTSTAMP:20260422T095705
CREATED:20240812T174216Z
LAST-MODIFIED:20240814T132356Z
UID:10006148-1808766000-1808769600@harveyruralcommunity.ca
SUMMARY:Harvey HIIT Class
DESCRIPTION:Join us for an invigorating high-intensity interval training (HIIT) class from 7-8PM at the HMCC.
URL:https://harveyruralcommunity.ca/event/harvey-hiit-class-2/2027-04-26/
LOCATION:Harvey Memorial Community Centre\, 58 Hanselpacker St\, Harvey Station\, NB E6K 1A3\, Canada
END:VEVENT
BEGIN:VEVENT
DTSTART;TZID=America/Halifax:20270428T190000
DTEND;TZID=America/Halifax:20270428T200000
DTSTAMP:20260422T095705
CREATED:20240812T174216Z
LAST-MODIFIED:20240814T132356Z
UID:10006149-1808938800-1808942400@harveyruralcommunity.ca
SUMMARY:Harvey HIIT Class
DESCRIPTION:Join us for an invigorating high-intensity interval training (HIIT) class from 7-8PM at the HMCC.
URL:https://harveyruralcommunity.ca/event/harvey-hiit-class-2/2027-04-28/
LOCATION:Harvey Memorial Community Centre\, 58 Hanselpacker St\, Harvey Station\, NB E6K 1A3\, Canada
END:VEVENT
BEGIN:VEVENT
DTSTART;TZID=America/Halifax:20270503T190000
DTEND;TZID=America/Halifax:20270503T200000
DTSTAMP:20260422T095705
CREATED:20240812T174216Z
LAST-MODIFIED:20240814T132356Z
UID:10006150-1809370800-1809374400@harveyruralcommunity.ca
SUMMARY:Harvey HIIT Class
DESCRIPTION:Join us for an invigorating high-intensity interval training (HIIT) class from 7-8PM at the HMCC.
URL:https://harveyruralcommunity.ca/event/harvey-hiit-class-2/2027-05-03/
LOCATION:Harvey Memorial Community Centre\, 58 Hanselpacker St\, Harvey Station\, NB E6K 1A3\, Canada
END:VEVENT
BEGIN:VEVENT
DTSTART;TZID=America/Halifax:20270505T190000
DTEND;TZID=America/Halifax:20270505T200000
DTSTAMP:20260422T095705
CREATED:20240812T174216Z
LAST-MODIFIED:20240814T132356Z
UID:10006151-1809543600-1809547200@harveyruralcommunity.ca
SUMMARY:Harvey HIIT Class
DESCRIPTION:Join us for an invigorating high-intensity interval training (HIIT) class from 7-8PM at the HMCC.
URL:https://harveyruralcommunity.ca/event/harvey-hiit-class-2/2027-05-05/
LOCATION:Harvey Memorial Community Centre\, 58 Hanselpacker St\, Harvey Station\, NB E6K 1A3\, Canada
END:VEVENT
BEGIN:VEVENT
DTSTART;TZID=America/Halifax:20270510T190000
DTEND;TZID=America/Halifax:20270510T200000
DTSTAMP:20260422T095705
CREATED:20240812T174216Z
LAST-MODIFIED:20240814T132356Z
UID:10006152-1809975600-1809979200@harveyruralcommunity.ca
SUMMARY:Harvey HIIT Class
DESCRIPTION:Join us for an invigorating high-intensity interval training (HIIT) class from 7-8PM at the HMCC.
URL:https://harveyruralcommunity.ca/event/harvey-hiit-class-2/2027-05-10/
LOCATION:Harvey Memorial Community Centre\, 58 Hanselpacker St\, Harvey Station\, NB E6K 1A3\, Canada
END:VEVENT
BEGIN:VEVENT
DTSTART;TZID=America/Halifax:20270512T190000
DTEND;TZID=America/Halifax:20270512T200000
DTSTAMP:20260422T095705
CREATED:20240812T174216Z
LAST-MODIFIED:20240814T132356Z
UID:10006153-1810148400-1810152000@harveyruralcommunity.ca
SUMMARY:Harvey HIIT Class
DESCRIPTION:Join us for an invigorating high-intensity interval training (HIIT) class from 7-8PM at the HMCC.
URL:https://harveyruralcommunity.ca/event/harvey-hiit-class-2/2027-05-12/
LOCATION:Harvey Memorial Community Centre\, 58 Hanselpacker St\, Harvey Station\, NB E6K 1A3\, Canada
END:VEVENT
BEGIN:VEVENT
DTSTART;TZID=America/Halifax:20270517T190000
DTEND;TZID=America/Halifax:20270517T200000
DTSTAMP:20260422T095705
CREATED:20240812T174216Z
LAST-MODIFIED:20240814T132356Z
UID:10006154-1810580400-1810584000@harveyruralcommunity.ca
SUMMARY:Harvey HIIT Class
DESCRIPTION:Join us for an invigorating high-intensity interval training (HIIT) class from 7-8PM at the HMCC.
URL:https://harveyruralcommunity.ca/event/harvey-hiit-class-2/2027-05-17/
LOCATION:Harvey Memorial Community Centre\, 58 Hanselpacker St\, Harvey Station\, NB E6K 1A3\, Canada
END:VEVENT
BEGIN:VEVENT
DTSTART;TZID=America/Halifax:20270519T190000
DTEND;TZID=America/Halifax:20270519T200000
DTSTAMP:20260422T095705
CREATED:20240812T174216Z
LAST-MODIFIED:20240814T132356Z
UID:10006155-1810753200-1810756800@harveyruralcommunity.ca
SUMMARY:Harvey HIIT Class
DESCRIPTION:Join us for an invigorating high-intensity interval training (HIIT) class from 7-8PM at the HMCC.
URL:https://harveyruralcommunity.ca/event/harvey-hiit-class-2/2027-05-19/
LOCATION:Harvey Memorial Community Centre\, 58 Hanselpacker St\, Harvey Station\, NB E6K 1A3\, Canada
END:VEVENT
BEGIN:VEVENT
DTSTART;TZID=America/Halifax:20270524T190000
DTEND;TZID=America/Halifax:20270524T200000
DTSTAMP:20260422T095705
CREATED:20240812T174216Z
LAST-MODIFIED:20240814T132356Z
UID:10006156-1811185200-1811188800@harveyruralcommunity.ca
SUMMARY:Harvey HIIT Class
DESCRIPTION:Join us for an invigorating high-intensity interval training (HIIT) class from 7-8PM at the HMCC.
URL:https://harveyruralcommunity.ca/event/harvey-hiit-class-2/2027-05-24/
LOCATION:Harvey Memorial Community Centre\, 58 Hanselpacker St\, Harvey Station\, NB E6K 1A3\, Canada
END:VEVENT
BEGIN:VEVENT
DTSTART;TZID=America/Halifax:20270526T190000
DTEND;TZID=America/Halifax:20270526T200000
DTSTAMP:20260422T095705
CREATED:20240812T174216Z
LAST-MODIFIED:20240814T132356Z
UID:10006157-1811358000-1811361600@harveyruralcommunity.ca
SUMMARY:Harvey HIIT Class
DESCRIPTION:Join us for an invigorating high-intensity interval training (HIIT) class from 7-8PM at the HMCC.
URL:https://harveyruralcommunity.ca/event/harvey-hiit-class-2/2027-05-26/
LOCATION:Harvey Memorial Community Centre\, 58 Hanselpacker St\, Harvey Station\, NB E6K 1A3\, Canada
END:VEVENT
BEGIN:VEVENT
DTSTART;TZID=America/Halifax:20270531T190000
DTEND;TZID=America/Halifax:20270531T200000
DTSTAMP:20260422T095705
CREATED:20240812T174216Z
LAST-MODIFIED:20240814T132356Z
UID:10006158-1811790000-1811793600@harveyruralcommunity.ca
SUMMARY:Harvey HIIT Class
DESCRIPTION:Join us for an invigorating high-intensity interval training (HIIT) class from 7-8PM at the HMCC.
URL:https://harveyruralcommunity.ca/event/harvey-hiit-class-2/2027-05-31/
LOCATION:Harvey Memorial Community Centre\, 58 Hanselpacker St\, Harvey Station\, NB E6K 1A3\, Canada
END:VEVENT
BEGIN:VEVENT
DTSTART;TZID=America/Halifax:20270602T190000
DTEND;TZID=America/Halifax:20270602T200000
DTSTAMP:20260422T095705
CREATED:20240812T174216Z
LAST-MODIFIED:20240814T132356Z
UID:10006159-1811962800-1811966400@harveyruralcommunity.ca
SUMMARY:Harvey HIIT Class
DESCRIPTION:Join us for an invigorating high-intensity interval training (HIIT) class from 7-8PM at the HMCC.
URL:https://harveyruralcommunity.ca/event/harvey-hiit-class-2/2027-06-02/
LOCATION:Harvey Memorial Community Centre\, 58 Hanselpacker St\, Harvey Station\, NB E6K 1A3\, Canada
END:VEVENT
BEGIN:VEVENT
DTSTART;TZID=America/Halifax:20270607T190000
DTEND;TZID=America/Halifax:20270607T200000
DTSTAMP:20260422T095705
CREATED:20240812T174216Z
LAST-MODIFIED:20240814T132356Z
UID:10006160-1812394800-1812398400@harveyruralcommunity.ca
SUMMARY:Harvey HIIT Class
DESCRIPTION:Join us for an invigorating high-intensity interval training (HIIT) class from 7-8PM at the HMCC.
URL:https://harveyruralcommunity.ca/event/harvey-hiit-class-2/2027-06-07/
LOCATION:Harvey Memorial Community Centre\, 58 Hanselpacker St\, Harvey Station\, NB E6K 1A3\, Canada
END:VEVENT
BEGIN:VEVENT
DTSTART;TZID=America/Halifax:20270609T190000
DTEND;TZID=America/Halifax:20270609T200000
DTSTAMP:20260422T095705
CREATED:20240812T174216Z
LAST-MODIFIED:20240814T132356Z
UID:10006161-1812567600-1812571200@harveyruralcommunity.ca
SUMMARY:Harvey HIIT Class
DESCRIPTION:Join us for an invigorating high-intensity interval training (HIIT) class from 7-8PM at the HMCC.
URL:https://harveyruralcommunity.ca/event/harvey-hiit-class-2/2027-06-09/
LOCATION:Harvey Memorial Community Centre\, 58 Hanselpacker St\, Harvey Station\, NB E6K 1A3\, Canada
END:VEVENT
BEGIN:VEVENT
DTSTART;TZID=America/Halifax:20270614T190000
DTEND;TZID=America/Halifax:20270614T200000
DTSTAMP:20260422T095705
CREATED:20240812T174216Z
LAST-MODIFIED:20240814T132356Z
UID:10006162-1812999600-1813003200@harveyruralcommunity.ca
SUMMARY:Harvey HIIT Class
DESCRIPTION:Join us for an invigorating high-intensity interval training (HIIT) class from 7-8PM at the HMCC.
URL:https://harveyruralcommunity.ca/event/harvey-hiit-class-2/2027-06-14/
LOCATION:Harvey Memorial Community Centre\, 58 Hanselpacker St\, Harvey Station\, NB E6K 1A3\, Canada
END:VEVENT
BEGIN:VEVENT
DTSTART;TZID=America/Halifax:20270616T190000
DTEND;TZID=America/Halifax:20270616T200000
DTSTAMP:20260422T095705
CREATED:20240812T174216Z
LAST-MODIFIED:20240814T132356Z
UID:10006163-1813172400-1813176000@harveyruralcommunity.ca
SUMMARY:Harvey HIIT Class
DESCRIPTION:Join us for an invigorating high-intensity interval training (HIIT) class from 7-8PM at the HMCC.
URL:https://harveyruralcommunity.ca/event/harvey-hiit-class-2/2027-06-16/
LOCATION:Harvey Memorial Community Centre\, 58 Hanselpacker St\, Harvey Station\, NB E6K 1A3\, Canada
END:VEVENT
BEGIN:VEVENT
DTSTART;TZID=America/Halifax:20270621T190000
DTEND;TZID=America/Halifax:20270621T200000
DTSTAMP:20260422T095705
CREATED:20240812T174216Z
LAST-MODIFIED:20240814T132356Z
UID:10006164-1813604400-1813608000@harveyruralcommunity.ca
SUMMARY:Harvey HIIT Class
DESCRIPTION:Join us for an invigorating high-intensity interval training (HIIT) class from 7-8PM at the HMCC.
URL:https://harveyruralcommunity.ca/event/harvey-hiit-class-2/2027-06-21/
LOCATION:Harvey Memorial Community Centre\, 58 Hanselpacker St\, Harvey Station\, NB E6K 1A3\, Canada
END:VEVENT
BEGIN:VEVENT
DTSTART;TZID=America/Halifax:20270623T190000
DTEND;TZID=America/Halifax:20270623T200000
DTSTAMP:20260422T095705
CREATED:20240812T174216Z
LAST-MODIFIED:20240814T132356Z
UID:10006165-1813777200-1813780800@harveyruralcommunity.ca
SUMMARY:Harvey HIIT Class
DESCRIPTION:Join us for an invigorating high-intensity interval training (HIIT) class from 7-8PM at the HMCC.
URL:https://harveyruralcommunity.ca/event/harvey-hiit-class-2/2027-06-23/
LOCATION:Harvey Memorial Community Centre\, 58 Hanselpacker St\, Harvey Station\, NB E6K 1A3\, Canada
END:VEVENT
BEGIN:VEVENT
DTSTART;TZID=America/Halifax:20270628T190000
DTEND;TZID=America/Halifax:20270628T200000
DTSTAMP:20260422T095705
CREATED:20240812T174216Z
LAST-MODIFIED:20240814T132356Z
UID:10006166-1814209200-1814212800@harveyruralcommunity.ca
SUMMARY:Harvey HIIT Class
DESCRIPTION:Join us for an invigorating high-intensity interval training (HIIT) class from 7-8PM at the HMCC.
URL:https://harveyruralcommunity.ca/event/harvey-hiit-class-2/2027-06-28/
LOCATION:Harvey Memorial Community Centre\, 58 Hanselpacker St\, Harvey Station\, NB E6K 1A3\, Canada
END:VEVENT
BEGIN:VEVENT
DTSTART;TZID=America/Halifax:20270630T190000
DTEND;TZID=America/Halifax:20270630T200000
DTSTAMP:20260422T095705
CREATED:20240812T174216Z
LAST-MODIFIED:20240814T132356Z
UID:10006167-1814382000-1814385600@harveyruralcommunity.ca
SUMMARY:Harvey HIIT Class
DESCRIPTION:Join us for an invigorating high-intensity interval training (HIIT) class from 7-8PM at the HMCC.
URL:https://harveyruralcommunity.ca/event/harvey-hiit-class-2/2027-06-30/
LOCATION:Harvey Memorial Community Centre\, 58 Hanselpacker St\, Harvey Station\, NB E6K 1A3\, Canada
END:VEVENT
BEGIN:VEVENT
DTSTART;TZID=America/Halifax:20270705T190000
DTEND;TZID=America/Halifax:20270705T200000
DTSTAMP:20260422T095705
CREATED:20240812T174216Z
LAST-MODIFIED:20240814T132356Z
UID:10006168-1814814000-1814817600@harveyruralcommunity.ca
SUMMARY:Harvey HIIT Class
DESCRIPTION:Join us for an invigorating high-intensity interval training (HIIT) class from 7-8PM at the HMCC.
URL:https://harveyruralcommunity.ca/event/harvey-hiit-class-2/2027-07-05/
LOCATION:Harvey Memorial Community Centre\, 58 Hanselpacker St\, Harvey Station\, NB E6K 1A3\, Canada
END:VEVENT
END:VCALENDAR