BEGIN:VCALENDAR
VERSION:2.0
PRODID:-//Harvey Rural Community - ECPv6.6.1//NONSGML v1.0//EN
CALSCALE:GREGORIAN
METHOD:PUBLISH
X-WR-CALNAME:Harvey Rural Community
X-ORIGINAL-URL:https://harveyruralcommunity.ca
X-WR-CALDESC:Events for Harvey Rural Community
BEGIN:VTIMEZONE
TZID:America/Halifax
BEGIN:DAYLIGHT
TZOFFSETFROM:-0400
TZOFFSETTO:-0300
TZNAME:ADT
DTSTART:20270314T060000
END:DAYLIGHT
BEGIN:STANDARD
TZOFFSETFROM:-0300
TZOFFSETTO:-0400
TZNAME:AST
DTSTART:20271107T050000
END:STANDARD
END:VTIMEZONE
BEGIN:VEVENT
DTSTART;TZID=America/Halifax:20270326T100000
DTEND;TZID=America/Halifax:20270326T140000
DTSTAMP:20260423T032846
CREATED:20250902T121428Z
LAST-MODIFIED:20250902T121428Z
UID:10007124-1806055200-1806069600@harveyruralcommunity.ca
SUMMARY:The Gathering Place
DESCRIPTION:Open every Monday and Friday\, from 10am to 2pm – The Gathering Place is a welcoming space for you to: \n\nMeet up with friends and make new ones 👱‍♂️ 👩‍🦳.\nRelax with tea and coffee 🍵.\nEnjoy lively discussions and engaging activities ♟.\n\n  \nLocated at the Harvey Curling Club.
URL:https://harveyruralcommunity.ca/event/the-gathering-place/2027-03-26/
END:VEVENT
BEGIN:VEVENT
DTSTART;TZID=America/Halifax:20270329T100000
DTEND;TZID=America/Halifax:20270329T140000
DTSTAMP:20260423T032846
CREATED:20250902T121428Z
LAST-MODIFIED:20250902T121428Z
UID:10007125-1806314400-1806328800@harveyruralcommunity.ca
SUMMARY:The Gathering Place
DESCRIPTION:Open every Monday and Friday\, from 10am to 2pm – The Gathering Place is a welcoming space for you to: \n\nMeet up with friends and make new ones 👱‍♂️ 👩‍🦳.\nRelax with tea and coffee 🍵.\nEnjoy lively discussions and engaging activities ♟.\n\n  \nLocated at the Harvey Curling Club.
URL:https://harveyruralcommunity.ca/event/the-gathering-place/2027-03-29/
END:VEVENT
BEGIN:VEVENT
DTSTART;TZID=America/Halifax:20270402T100000
DTEND;TZID=America/Halifax:20270402T140000
DTSTAMP:20260423T032846
CREATED:20250902T121428Z
LAST-MODIFIED:20250902T121428Z
UID:10007126-1806660000-1806674400@harveyruralcommunity.ca
SUMMARY:The Gathering Place
DESCRIPTION:Open every Monday and Friday\, from 10am to 2pm – The Gathering Place is a welcoming space for you to: \n\nMeet up with friends and make new ones 👱‍♂️ 👩‍🦳.\nRelax with tea and coffee 🍵.\nEnjoy lively discussions and engaging activities ♟.\n\n  \nLocated at the Harvey Curling Club.
URL:https://harveyruralcommunity.ca/event/the-gathering-place/2027-04-02/
END:VEVENT
BEGIN:VEVENT
DTSTART;TZID=America/Halifax:20270405T100000
DTEND;TZID=America/Halifax:20270405T140000
DTSTAMP:20260423T032846
CREATED:20250902T121428Z
LAST-MODIFIED:20250902T121428Z
UID:10007127-1806919200-1806933600@harveyruralcommunity.ca
SUMMARY:The Gathering Place
DESCRIPTION:Open every Monday and Friday\, from 10am to 2pm – The Gathering Place is a welcoming space for you to: \n\nMeet up with friends and make new ones 👱‍♂️ 👩‍🦳.\nRelax with tea and coffee 🍵.\nEnjoy lively discussions and engaging activities ♟.\n\n  \nLocated at the Harvey Curling Club.
URL:https://harveyruralcommunity.ca/event/the-gathering-place/2027-04-05/
END:VEVENT
BEGIN:VEVENT
DTSTART;TZID=America/Halifax:20270409T100000
DTEND;TZID=America/Halifax:20270409T140000
DTSTAMP:20260423T032846
CREATED:20250902T121428Z
LAST-MODIFIED:20250902T121428Z
UID:10007128-1807264800-1807279200@harveyruralcommunity.ca
SUMMARY:The Gathering Place
DESCRIPTION:Open every Monday and Friday\, from 10am to 2pm – The Gathering Place is a welcoming space for you to: \n\nMeet up with friends and make new ones 👱‍♂️ 👩‍🦳.\nRelax with tea and coffee 🍵.\nEnjoy lively discussions and engaging activities ♟.\n\n  \nLocated at the Harvey Curling Club.
URL:https://harveyruralcommunity.ca/event/the-gathering-place/2027-04-09/
END:VEVENT
BEGIN:VEVENT
DTSTART;TZID=America/Halifax:20270412T100000
DTEND;TZID=America/Halifax:20270412T140000
DTSTAMP:20260423T032846
CREATED:20250902T121428Z
LAST-MODIFIED:20250902T121428Z
UID:10007129-1807524000-1807538400@harveyruralcommunity.ca
SUMMARY:The Gathering Place
DESCRIPTION:Open every Monday and Friday\, from 10am to 2pm – The Gathering Place is a welcoming space for you to: \n\nMeet up with friends and make new ones 👱‍♂️ 👩‍🦳.\nRelax with tea and coffee 🍵.\nEnjoy lively discussions and engaging activities ♟.\n\n  \nLocated at the Harvey Curling Club.
URL:https://harveyruralcommunity.ca/event/the-gathering-place/2027-04-12/
END:VEVENT
BEGIN:VEVENT
DTSTART;TZID=America/Halifax:20270416T100000
DTEND;TZID=America/Halifax:20270416T140000
DTSTAMP:20260423T032846
CREATED:20250902T121428Z
LAST-MODIFIED:20250902T121428Z
UID:10007130-1807869600-1807884000@harveyruralcommunity.ca
SUMMARY:The Gathering Place
DESCRIPTION:Open every Monday and Friday\, from 10am to 2pm – The Gathering Place is a welcoming space for you to: \n\nMeet up with friends and make new ones 👱‍♂️ 👩‍🦳.\nRelax with tea and coffee 🍵.\nEnjoy lively discussions and engaging activities ♟.\n\n  \nLocated at the Harvey Curling Club.
URL:https://harveyruralcommunity.ca/event/the-gathering-place/2027-04-16/
END:VEVENT
BEGIN:VEVENT
DTSTART;TZID=America/Halifax:20270419T100000
DTEND;TZID=America/Halifax:20270419T140000
DTSTAMP:20260423T032846
CREATED:20250902T121428Z
LAST-MODIFIED:20250902T121428Z
UID:10007131-1808128800-1808143200@harveyruralcommunity.ca
SUMMARY:The Gathering Place
DESCRIPTION:Open every Monday and Friday\, from 10am to 2pm – The Gathering Place is a welcoming space for you to: \n\nMeet up with friends and make new ones 👱‍♂️ 👩‍🦳.\nRelax with tea and coffee 🍵.\nEnjoy lively discussions and engaging activities ♟.\n\n  \nLocated at the Harvey Curling Club.
URL:https://harveyruralcommunity.ca/event/the-gathering-place/2027-04-19/
END:VEVENT
BEGIN:VEVENT
DTSTART;TZID=America/Halifax:20270423T100000
DTEND;TZID=America/Halifax:20270423T140000
DTSTAMP:20260423T032846
CREATED:20250902T121428Z
LAST-MODIFIED:20250902T121428Z
UID:10007132-1808474400-1808488800@harveyruralcommunity.ca
SUMMARY:The Gathering Place
DESCRIPTION:Open every Monday and Friday\, from 10am to 2pm – The Gathering Place is a welcoming space for you to: \n\nMeet up with friends and make new ones 👱‍♂️ 👩‍🦳.\nRelax with tea and coffee 🍵.\nEnjoy lively discussions and engaging activities ♟.\n\n  \nLocated at the Harvey Curling Club.
URL:https://harveyruralcommunity.ca/event/the-gathering-place/2027-04-23/
END:VEVENT
BEGIN:VEVENT
DTSTART;TZID=America/Halifax:20270426T100000
DTEND;TZID=America/Halifax:20270426T140000
DTSTAMP:20260423T032846
CREATED:20250902T121428Z
LAST-MODIFIED:20250902T121428Z
UID:10007133-1808733600-1808748000@harveyruralcommunity.ca
SUMMARY:The Gathering Place
DESCRIPTION:Open every Monday and Friday\, from 10am to 2pm – The Gathering Place is a welcoming space for you to: \n\nMeet up with friends and make new ones 👱‍♂️ 👩‍🦳.\nRelax with tea and coffee 🍵.\nEnjoy lively discussions and engaging activities ♟.\n\n  \nLocated at the Harvey Curling Club.
URL:https://harveyruralcommunity.ca/event/the-gathering-place/2027-04-26/
END:VEVENT
BEGIN:VEVENT
DTSTART;TZID=America/Halifax:20270430T100000
DTEND;TZID=America/Halifax:20270430T140000
DTSTAMP:20260423T032846
CREATED:20250902T121428Z
LAST-MODIFIED:20250902T121428Z
UID:10007134-1809079200-1809093600@harveyruralcommunity.ca
SUMMARY:The Gathering Place
DESCRIPTION:Open every Monday and Friday\, from 10am to 2pm – The Gathering Place is a welcoming space for you to: \n\nMeet up with friends and make new ones 👱‍♂️ 👩‍🦳.\nRelax with tea and coffee 🍵.\nEnjoy lively discussions and engaging activities ♟.\n\n  \nLocated at the Harvey Curling Club.
URL:https://harveyruralcommunity.ca/event/the-gathering-place/2027-04-30/
END:VEVENT
BEGIN:VEVENT
DTSTART;TZID=America/Halifax:20270503T100000
DTEND;TZID=America/Halifax:20270503T140000
DTSTAMP:20260423T032846
CREATED:20250902T121428Z
LAST-MODIFIED:20250902T121428Z
UID:10007135-1809338400-1809352800@harveyruralcommunity.ca
SUMMARY:The Gathering Place
DESCRIPTION:Open every Monday and Friday\, from 10am to 2pm – The Gathering Place is a welcoming space for you to: \n\nMeet up with friends and make new ones 👱‍♂️ 👩‍🦳.\nRelax with tea and coffee 🍵.\nEnjoy lively discussions and engaging activities ♟.\n\n  \nLocated at the Harvey Curling Club.
URL:https://harveyruralcommunity.ca/event/the-gathering-place/2027-05-03/
END:VEVENT
BEGIN:VEVENT
DTSTART;TZID=America/Halifax:20270507T100000
DTEND;TZID=America/Halifax:20270507T140000
DTSTAMP:20260423T032846
CREATED:20250902T121428Z
LAST-MODIFIED:20250902T121428Z
UID:10007136-1809684000-1809698400@harveyruralcommunity.ca
SUMMARY:The Gathering Place
DESCRIPTION:Open every Monday and Friday\, from 10am to 2pm – The Gathering Place is a welcoming space for you to: \n\nMeet up with friends and make new ones 👱‍♂️ 👩‍🦳.\nRelax with tea and coffee 🍵.\nEnjoy lively discussions and engaging activities ♟.\n\n  \nLocated at the Harvey Curling Club.
URL:https://harveyruralcommunity.ca/event/the-gathering-place/2027-05-07/
END:VEVENT
BEGIN:VEVENT
DTSTART;TZID=America/Halifax:20270510T100000
DTEND;TZID=America/Halifax:20270510T140000
DTSTAMP:20260423T032846
CREATED:20250902T121428Z
LAST-MODIFIED:20250902T121428Z
UID:10007137-1809943200-1809957600@harveyruralcommunity.ca
SUMMARY:The Gathering Place
DESCRIPTION:Open every Monday and Friday\, from 10am to 2pm – The Gathering Place is a welcoming space for you to: \n\nMeet up with friends and make new ones 👱‍♂️ 👩‍🦳.\nRelax with tea and coffee 🍵.\nEnjoy lively discussions and engaging activities ♟.\n\n  \nLocated at the Harvey Curling Club.
URL:https://harveyruralcommunity.ca/event/the-gathering-place/2027-05-10/
END:VEVENT
BEGIN:VEVENT
DTSTART;TZID=America/Halifax:20270514T100000
DTEND;TZID=America/Halifax:20270514T140000
DTSTAMP:20260423T032846
CREATED:20250902T121428Z
LAST-MODIFIED:20250902T121428Z
UID:10007138-1810288800-1810303200@harveyruralcommunity.ca
SUMMARY:The Gathering Place
DESCRIPTION:Open every Monday and Friday\, from 10am to 2pm – The Gathering Place is a welcoming space for you to: \n\nMeet up with friends and make new ones 👱‍♂️ 👩‍🦳.\nRelax with tea and coffee 🍵.\nEnjoy lively discussions and engaging activities ♟.\n\n  \nLocated at the Harvey Curling Club.
URL:https://harveyruralcommunity.ca/event/the-gathering-place/2027-05-14/
END:VEVENT
BEGIN:VEVENT
DTSTART;TZID=America/Halifax:20270517T100000
DTEND;TZID=America/Halifax:20270517T140000
DTSTAMP:20260423T032846
CREATED:20250902T121428Z
LAST-MODIFIED:20250902T121428Z
UID:10007139-1810548000-1810562400@harveyruralcommunity.ca
SUMMARY:The Gathering Place
DESCRIPTION:Open every Monday and Friday\, from 10am to 2pm – The Gathering Place is a welcoming space for you to: \n\nMeet up with friends and make new ones 👱‍♂️ 👩‍🦳.\nRelax with tea and coffee 🍵.\nEnjoy lively discussions and engaging activities ♟.\n\n  \nLocated at the Harvey Curling Club.
URL:https://harveyruralcommunity.ca/event/the-gathering-place/2027-05-17/
END:VEVENT
BEGIN:VEVENT
DTSTART;TZID=America/Halifax:20270521T100000
DTEND;TZID=America/Halifax:20270521T140000
DTSTAMP:20260423T032846
CREATED:20250902T121428Z
LAST-MODIFIED:20250902T121428Z
UID:10007140-1810893600-1810908000@harveyruralcommunity.ca
SUMMARY:The Gathering Place
DESCRIPTION:Open every Monday and Friday\, from 10am to 2pm – The Gathering Place is a welcoming space for you to: \n\nMeet up with friends and make new ones 👱‍♂️ 👩‍🦳.\nRelax with tea and coffee 🍵.\nEnjoy lively discussions and engaging activities ♟.\n\n  \nLocated at the Harvey Curling Club.
URL:https://harveyruralcommunity.ca/event/the-gathering-place/2027-05-21/
END:VEVENT
BEGIN:VEVENT
DTSTART;TZID=America/Halifax:20270524T100000
DTEND;TZID=America/Halifax:20270524T140000
DTSTAMP:20260423T032846
CREATED:20250902T121428Z
LAST-MODIFIED:20250902T121428Z
UID:10007141-1811152800-1811167200@harveyruralcommunity.ca
SUMMARY:The Gathering Place
DESCRIPTION:Open every Monday and Friday\, from 10am to 2pm – The Gathering Place is a welcoming space for you to: \n\nMeet up with friends and make new ones 👱‍♂️ 👩‍🦳.\nRelax with tea and coffee 🍵.\nEnjoy lively discussions and engaging activities ♟.\n\n  \nLocated at the Harvey Curling Club.
URL:https://harveyruralcommunity.ca/event/the-gathering-place/2027-05-24/
END:VEVENT
BEGIN:VEVENT
DTSTART;TZID=America/Halifax:20270528T100000
DTEND;TZID=America/Halifax:20270528T140000
DTSTAMP:20260423T032846
CREATED:20250902T121428Z
LAST-MODIFIED:20250902T121428Z
UID:10007142-1811498400-1811512800@harveyruralcommunity.ca
SUMMARY:The Gathering Place
DESCRIPTION:Open every Monday and Friday\, from 10am to 2pm – The Gathering Place is a welcoming space for you to: \n\nMeet up with friends and make new ones 👱‍♂️ 👩‍🦳.\nRelax with tea and coffee 🍵.\nEnjoy lively discussions and engaging activities ♟.\n\n  \nLocated at the Harvey Curling Club.
URL:https://harveyruralcommunity.ca/event/the-gathering-place/2027-05-28/
END:VEVENT
BEGIN:VEVENT
DTSTART;TZID=America/Halifax:20270531T100000
DTEND;TZID=America/Halifax:20270531T140000
DTSTAMP:20260423T032846
CREATED:20250902T121428Z
LAST-MODIFIED:20250902T121428Z
UID:10007143-1811757600-1811772000@harveyruralcommunity.ca
SUMMARY:The Gathering Place
DESCRIPTION:Open every Monday and Friday\, from 10am to 2pm – The Gathering Place is a welcoming space for you to: \n\nMeet up with friends and make new ones 👱‍♂️ 👩‍🦳.\nRelax with tea and coffee 🍵.\nEnjoy lively discussions and engaging activities ♟.\n\n  \nLocated at the Harvey Curling Club.
URL:https://harveyruralcommunity.ca/event/the-gathering-place/2027-05-31/
END:VEVENT
BEGIN:VEVENT
DTSTART;TZID=America/Halifax:20270604T100000
DTEND;TZID=America/Halifax:20270604T140000
DTSTAMP:20260423T032846
CREATED:20250902T121428Z
LAST-MODIFIED:20250902T121428Z
UID:10007144-1812103200-1812117600@harveyruralcommunity.ca
SUMMARY:The Gathering Place
DESCRIPTION:Open every Monday and Friday\, from 10am to 2pm – The Gathering Place is a welcoming space for you to: \n\nMeet up with friends and make new ones 👱‍♂️ 👩‍🦳.\nRelax with tea and coffee 🍵.\nEnjoy lively discussions and engaging activities ♟.\n\n  \nLocated at the Harvey Curling Club.
URL:https://harveyruralcommunity.ca/event/the-gathering-place/2027-06-04/
END:VEVENT
BEGIN:VEVENT
DTSTART;TZID=America/Halifax:20270607T100000
DTEND;TZID=America/Halifax:20270607T140000
DTSTAMP:20260423T032846
CREATED:20250902T121428Z
LAST-MODIFIED:20250902T121428Z
UID:10007145-1812362400-1812376800@harveyruralcommunity.ca
SUMMARY:The Gathering Place
DESCRIPTION:Open every Monday and Friday\, from 10am to 2pm – The Gathering Place is a welcoming space for you to: \n\nMeet up with friends and make new ones 👱‍♂️ 👩‍🦳.\nRelax with tea and coffee 🍵.\nEnjoy lively discussions and engaging activities ♟.\n\n  \nLocated at the Harvey Curling Club.
URL:https://harveyruralcommunity.ca/event/the-gathering-place/2027-06-07/
END:VEVENT
BEGIN:VEVENT
DTSTART;TZID=America/Halifax:20270611T100000
DTEND;TZID=America/Halifax:20270611T140000
DTSTAMP:20260423T032846
CREATED:20250902T121428Z
LAST-MODIFIED:20250902T121428Z
UID:10007146-1812708000-1812722400@harveyruralcommunity.ca
SUMMARY:The Gathering Place
DESCRIPTION:Open every Monday and Friday\, from 10am to 2pm – The Gathering Place is a welcoming space for you to: \n\nMeet up with friends and make new ones 👱‍♂️ 👩‍🦳.\nRelax with tea and coffee 🍵.\nEnjoy lively discussions and engaging activities ♟.\n\n  \nLocated at the Harvey Curling Club.
URL:https://harveyruralcommunity.ca/event/the-gathering-place/2027-06-11/
END:VEVENT
BEGIN:VEVENT
DTSTART;TZID=America/Halifax:20270614T100000
DTEND;TZID=America/Halifax:20270614T140000
DTSTAMP:20260423T032846
CREATED:20250902T121428Z
LAST-MODIFIED:20250902T121428Z
UID:10007147-1812967200-1812981600@harveyruralcommunity.ca
SUMMARY:The Gathering Place
DESCRIPTION:Open every Monday and Friday\, from 10am to 2pm – The Gathering Place is a welcoming space for you to: \n\nMeet up with friends and make new ones 👱‍♂️ 👩‍🦳.\nRelax with tea and coffee 🍵.\nEnjoy lively discussions and engaging activities ♟.\n\n  \nLocated at the Harvey Curling Club.
URL:https://harveyruralcommunity.ca/event/the-gathering-place/2027-06-14/
END:VEVENT
BEGIN:VEVENT
DTSTART;TZID=America/Halifax:20270618T100000
DTEND;TZID=America/Halifax:20270618T140000
DTSTAMP:20260423T032846
CREATED:20250902T121428Z
LAST-MODIFIED:20250902T121428Z
UID:10007148-1813312800-1813327200@harveyruralcommunity.ca
SUMMARY:The Gathering Place
DESCRIPTION:Open every Monday and Friday\, from 10am to 2pm – The Gathering Place is a welcoming space for you to: \n\nMeet up with friends and make new ones 👱‍♂️ 👩‍🦳.\nRelax with tea and coffee 🍵.\nEnjoy lively discussions and engaging activities ♟.\n\n  \nLocated at the Harvey Curling Club.
URL:https://harveyruralcommunity.ca/event/the-gathering-place/2027-06-18/
END:VEVENT
BEGIN:VEVENT
DTSTART;TZID=America/Halifax:20270621T100000
DTEND;TZID=America/Halifax:20270621T140000
DTSTAMP:20260423T032846
CREATED:20250902T121428Z
LAST-MODIFIED:20250902T121428Z
UID:10007149-1813572000-1813586400@harveyruralcommunity.ca
SUMMARY:The Gathering Place
DESCRIPTION:Open every Monday and Friday\, from 10am to 2pm – The Gathering Place is a welcoming space for you to: \n\nMeet up with friends and make new ones 👱‍♂️ 👩‍🦳.\nRelax with tea and coffee 🍵.\nEnjoy lively discussions and engaging activities ♟.\n\n  \nLocated at the Harvey Curling Club.
URL:https://harveyruralcommunity.ca/event/the-gathering-place/2027-06-21/
END:VEVENT
BEGIN:VEVENT
DTSTART;TZID=America/Halifax:20270625T100000
DTEND;TZID=America/Halifax:20270625T140000
DTSTAMP:20260423T032846
CREATED:20250902T121428Z
LAST-MODIFIED:20250902T121428Z
UID:10007150-1813917600-1813932000@harveyruralcommunity.ca
SUMMARY:The Gathering Place
DESCRIPTION:Open every Monday and Friday\, from 10am to 2pm – The Gathering Place is a welcoming space for you to: \n\nMeet up with friends and make new ones 👱‍♂️ 👩‍🦳.\nRelax with tea and coffee 🍵.\nEnjoy lively discussions and engaging activities ♟.\n\n  \nLocated at the Harvey Curling Club.
URL:https://harveyruralcommunity.ca/event/the-gathering-place/2027-06-25/
END:VEVENT
BEGIN:VEVENT
DTSTART;TZID=America/Halifax:20270628T100000
DTEND;TZID=America/Halifax:20270628T140000
DTSTAMP:20260423T032846
CREATED:20250902T121428Z
LAST-MODIFIED:20250902T121428Z
UID:10007151-1814176800-1814191200@harveyruralcommunity.ca
SUMMARY:The Gathering Place
DESCRIPTION:Open every Monday and Friday\, from 10am to 2pm – The Gathering Place is a welcoming space for you to: \n\nMeet up with friends and make new ones 👱‍♂️ 👩‍🦳.\nRelax with tea and coffee 🍵.\nEnjoy lively discussions and engaging activities ♟.\n\n  \nLocated at the Harvey Curling Club.
URL:https://harveyruralcommunity.ca/event/the-gathering-place/2027-06-28/
END:VEVENT
BEGIN:VEVENT
DTSTART;TZID=America/Halifax:20270702T100000
DTEND;TZID=America/Halifax:20270702T140000
DTSTAMP:20260423T032846
CREATED:20250902T121428Z
LAST-MODIFIED:20250902T121428Z
UID:10007152-1814522400-1814536800@harveyruralcommunity.ca
SUMMARY:The Gathering Place
DESCRIPTION:Open every Monday and Friday\, from 10am to 2pm – The Gathering Place is a welcoming space for you to: \n\nMeet up with friends and make new ones 👱‍♂️ 👩‍🦳.\nRelax with tea and coffee 🍵.\nEnjoy lively discussions and engaging activities ♟.\n\n  \nLocated at the Harvey Curling Club.
URL:https://harveyruralcommunity.ca/event/the-gathering-place/2027-07-02/
END:VEVENT
BEGIN:VEVENT
DTSTART;TZID=America/Halifax:20270705T100000
DTEND;TZID=America/Halifax:20270705T140000
DTSTAMP:20260423T032846
CREATED:20250902T121428Z
LAST-MODIFIED:20250902T121428Z
UID:10007153-1814781600-1814796000@harveyruralcommunity.ca
SUMMARY:The Gathering Place
DESCRIPTION:Open every Monday and Friday\, from 10am to 2pm – The Gathering Place is a welcoming space for you to: \n\nMeet up with friends and make new ones 👱‍♂️ 👩‍🦳.\nRelax with tea and coffee 🍵.\nEnjoy lively discussions and engaging activities ♟.\n\n  \nLocated at the Harvey Curling Club.
URL:https://harveyruralcommunity.ca/event/the-gathering-place/2027-07-05/
END:VEVENT
END:VCALENDAR